BEGIN:VCALENDAR
VERSION:2.0
PRODID:-//Fédération régionale des MJC Bourgogne-Franche-Comté - ECPv6.15.20//NONSGML v1.0//EN
CALSCALE:GREGORIAN
METHOD:PUBLISH
X-ORIGINAL-URL:https://bourgogne-franche-comte.frmjc.org
X-WR-CALDESC:Évènements pour Fédération régionale des MJC Bourgogne-Franche-Comté
REFRESH-INTERVAL;VALUE=DURATION:PT1H
X-Robots-Tag:noindex
X-PUBLISHED-TTL:PT1H
BEGIN:VTIMEZONE
TZID:Europe/Paris
BEGIN:DAYLIGHT
TZOFFSETFROM:+0100
TZOFFSETTO:+0200
TZNAME:CEST
DTSTART:20220327T010000
END:DAYLIGHT
BEGIN:STANDARD
TZOFFSETFROM:+0200
TZOFFSETTO:+0100
TZNAME:CET
DTSTART:20221030T010000
END:STANDARD
BEGIN:DAYLIGHT
TZOFFSETFROM:+0100
TZOFFSETTO:+0200
TZNAME:CEST
DTSTART:20230326T010000
END:DAYLIGHT
BEGIN:STANDARD
TZOFFSETFROM:+0200
TZOFFSETTO:+0100
TZNAME:CET
DTSTART:20231029T010000
END:STANDARD
BEGIN:DAYLIGHT
TZOFFSETFROM:+0100
TZOFFSETTO:+0200
TZNAME:CEST
DTSTART:20240331T010000
END:DAYLIGHT
BEGIN:STANDARD
TZOFFSETFROM:+0200
TZOFFSETTO:+0100
TZNAME:CET
DTSTART:20241027T010000
END:STANDARD
END:VTIMEZONE
BEGIN:VEVENT
DTSTART;TZID=Europe/Paris:20230509T080000
DTEND;TZID=Europe/Paris:20230509T170000
DTSTAMP:20260424T095411
CREATED:20220930T124828Z
LAST-MODIFIED:20221021T145955Z
UID:14084-1683619200-1683651600@bourgogne-franche-comte.frmjc.org
SUMMARY:Journée de bilan des volontaires en service civique
DESCRIPTION:Afin de favoriser le lien entre les jeunes et les MJC\, l’équipe fédérale a décidé de mettre en place deux temps régionaux pour les volontaires\, actuellement en mission dans une MJC de la région. Il nous a paru tout d’abord important de mettre en place une journée d’accueil et de\, construire celle-ci autour des valeurs MJC et de nos spécificités. Ainsi\, cette journée sera articulée autour d’échanges sur les droits des volontaires en Service Civique\, sur l’éducation populaire\, l’engagement et le bénévolat. Celle-ci aura lieu le mardi 22/11/2022. A la fin de la saison nous proposerons une journée collective de « bilan » pour ces volontaires. Celle-ci aura lieu le vendredi 09/06/2023. \n  \nS’inscrire
URL:https://bourgogne-franche-comte.frmjc.org/evenement/journee-de-bilan-des-volontaires-en-service-civique/
CATEGORIES:Rencontre
END:VEVENT
END:VCALENDAR