BEGIN:VCALENDAR
VERSION:2.0
PRODID:-//Fédération régionale des MJC Bourgogne-Franche-Comté - ECPv6.15.20//NONSGML v1.0//EN
CALSCALE:GREGORIAN
METHOD:PUBLISH
X-WR-CALNAME:Fédération régionale des MJC Bourgogne-Franche-Comté
X-ORIGINAL-URL:https://bourgogne-franche-comte.frmjc.org
X-WR-CALDESC:Évènements pour Fédération régionale des MJC Bourgogne-Franche-Comté
REFRESH-INTERVAL;VALUE=DURATION:PT1H
X-Robots-Tag:noindex
X-PUBLISHED-TTL:PT1H
BEGIN:VTIMEZONE
TZID:Europe/Paris
BEGIN:DAYLIGHT
TZOFFSETFROM:+0100
TZOFFSETTO:+0200
TZNAME:CEST
DTSTART:20210328T010000
END:DAYLIGHT
BEGIN:STANDARD
TZOFFSETFROM:+0200
TZOFFSETTO:+0100
TZNAME:CET
DTSTART:20211031T010000
END:STANDARD
BEGIN:DAYLIGHT
TZOFFSETFROM:+0100
TZOFFSETTO:+0200
TZNAME:CEST
DTSTART:20220327T010000
END:DAYLIGHT
BEGIN:STANDARD
TZOFFSETFROM:+0200
TZOFFSETTO:+0100
TZNAME:CET
DTSTART:20221030T010000
END:STANDARD
BEGIN:DAYLIGHT
TZOFFSETFROM:+0100
TZOFFSETTO:+0200
TZNAME:CEST
DTSTART:20230326T010000
END:DAYLIGHT
BEGIN:STANDARD
TZOFFSETFROM:+0200
TZOFFSETTO:+0100
TZNAME:CET
DTSTART:20231029T010000
END:STANDARD
END:VTIMEZONE
BEGIN:VEVENT
DTSTART;TZID=Europe/Paris:20220712T160000
DTEND;TZID=Europe/Paris:20220713T180000
DTSTAMP:20260425T011859
CREATED:20220530T145129Z
LAST-MODIFIED:20220530T145129Z
UID:13277-1657641600-1657735200@bourgogne-franche-comte.frmjc.org
SUMMARY:Voyage d'étude - Passeurs d'images
DESCRIPTION:Dans la poursuite de la dynamique engagée l’année dernière autour de la co-création\, la coordination Passeurs d’images vous propose de vous impliquer dans la seconde édition d’une rencontre interprofessionnelle sur la même problématique\, qui se tiendra le jeudi 20 octobre 2022 à Montbard.\n\nPlus d’info sur l’exposition : L’Art d’apprendre. Une école des créateurs\nContact : fdavin@frmjc.org\nInscription via ce lien
URL:https://bourgogne-franche-comte.frmjc.org/evenement/voyage-detude-passeurs-dimages/
CATEGORIES:Rencontre
ATTACH;FMTTYPE=image/jpeg:https://bourgogne-franche-comte.frmjc.org/wp-content/uploads/2022/05/thumbnail_image002-e1653920821836.jpg
END:VEVENT
END:VCALENDAR