BEGIN:VCALENDAR
VERSION:2.0
PRODID:-//Fédération régionale des MJC Bourgogne-Franche-Comté - ECPv6.15.20//NONSGML v1.0//EN
CALSCALE:GREGORIAN
METHOD:PUBLISH
X-ORIGINAL-URL:https://bourgogne-franche-comte.frmjc.org
X-WR-CALDESC:Évènements pour Fédération régionale des MJC Bourgogne-Franche-Comté
REFRESH-INTERVAL;VALUE=DURATION:PT1H
X-Robots-Tag:noindex
X-PUBLISHED-TTL:PT1H
BEGIN:VTIMEZONE
TZID:Europe/Paris
BEGIN:DAYLIGHT
TZOFFSETFROM:+0100
TZOFFSETTO:+0200
TZNAME:CEST
DTSTART:20200329T010000
END:DAYLIGHT
BEGIN:STANDARD
TZOFFSETFROM:+0200
TZOFFSETTO:+0100
TZNAME:CET
DTSTART:20201025T010000
END:STANDARD
BEGIN:DAYLIGHT
TZOFFSETFROM:+0100
TZOFFSETTO:+0200
TZNAME:CEST
DTSTART:20210328T010000
END:DAYLIGHT
BEGIN:STANDARD
TZOFFSETFROM:+0200
TZOFFSETTO:+0100
TZNAME:CET
DTSTART:20211031T010000
END:STANDARD
BEGIN:DAYLIGHT
TZOFFSETFROM:+0100
TZOFFSETTO:+0200
TZNAME:CEST
DTSTART:20220327T010000
END:DAYLIGHT
BEGIN:STANDARD
TZOFFSETFROM:+0200
TZOFFSETTO:+0100
TZNAME:CET
DTSTART:20221030T010000
END:STANDARD
END:VTIMEZONE
BEGIN:VEVENT
DTSTART;TZID=Europe/Paris:20211211T170000
DTEND;TZID=Europe/Paris:20211211T190000
DTSTAMP:20260425T124845
CREATED:20211130T100629Z
LAST-MODIFIED:20211130T100629Z
UID:11796-1639242000-1639249200@bourgogne-franche-comte.frmjc.org
SUMMARY:Projection de deux films soutenus par le dispositif Passeurs d'images
DESCRIPTION:PETITS PRINCES\net\nAU BORD DE LA VILLE\, AU BORD DES GENS\n \n \n \nà 17h le 11 décembre 2021 à La Coursive à Dijon.\nAdresse: 33 Pl. Galilée\, 21000 Dijon\n\n\nLa projection sera accompagnée d’une rencontre avec les équipes des films.\n\n\n \n\nPETITS PRINCES\nréalisé par Fabien Guillermont en compagnie d’un groupe de MNA\, Mineurs Non Accompagnés\, de Montbéliard\, durant toute l’année 2020.\n\nVous trouverez toutes les infos sur le film dans le document de présentation en pièce jointe.\n\nInspiré des idées et concepts de Jean Rouch et de l’ethnologie partagée\,\nle film mélange documentaire et fiction. Loin des reportages conventionnels et pathétiques\,\nnous avons voulu créer une œuvre qui soit une évocation de leurs désirs et désillusions\nà travers la fiction.\n.\n\nVous pouvez voir une bande annonce musicale du film\, clip du morceau principal\,\nenregistré et réalisé par l’équipe du film:\nhttps://www.youtube.com/watch?v=4EIZL3O6fSQ\n\n \n \nAU BORD DE LA VILLE\, AU BORD DES GENS\nde Fabio Falzone\, France\, documentaire\, 2021\, 16mn.\nProduction : Zutique Productions\nSix jeunes habitants des Grésilles\, à Dijon\, co-réalisent un portrait collectif de leur quartier\, en essayant de se détacher des ses images médiatiques\, quatre mois après les célèbres émeutes.\n\n\nProjection organisée par l’APARR\, Association des professionnels du cinéma et de l’audiovisuel de Bourgogne-Franche-Comté et la COURSIVE.\n\nDans l’espoir de vous y retrouver nombreux\, n’hésitez pas à me contacter et faire tourner cette invitation.
URL:https://bourgogne-franche-comte.frmjc.org/evenement/projection-de-deux-films-soutenus-par-le-dispositif-passeurs-dimages/
LOCATION:La coursive – Dijon\, 33 Pl. Galilée\, Dijon\, 21000
CATEGORIES:Cinéma,Rencontre
END:VEVENT
END:VCALENDAR