BEGIN:VCALENDAR
VERSION:2.0
PRODID:-//Fédération régionale des MJC Bourgogne-Franche-Comté - ECPv6.15.20//NONSGML v1.0//EN
CALSCALE:GREGORIAN
METHOD:PUBLISH
X-WR-CALNAME:Fédération régionale des MJC Bourgogne-Franche-Comté
X-ORIGINAL-URL:https://bourgogne-franche-comte.frmjc.org
X-WR-CALDESC:Évènements pour Fédération régionale des MJC Bourgogne-Franche-Comté
REFRESH-INTERVAL;VALUE=DURATION:PT1H
X-Robots-Tag:noindex
X-PUBLISHED-TTL:PT1H
BEGIN:VTIMEZONE
TZID:Europe/Paris
BEGIN:DAYLIGHT
TZOFFSETFROM:+0100
TZOFFSETTO:+0200
TZNAME:CEST
DTSTART:20200329T010000
END:DAYLIGHT
BEGIN:STANDARD
TZOFFSETFROM:+0200
TZOFFSETTO:+0100
TZNAME:CET
DTSTART:20201025T010000
END:STANDARD
BEGIN:DAYLIGHT
TZOFFSETFROM:+0100
TZOFFSETTO:+0200
TZNAME:CEST
DTSTART:20210328T010000
END:DAYLIGHT
BEGIN:STANDARD
TZOFFSETFROM:+0200
TZOFFSETTO:+0100
TZNAME:CET
DTSTART:20211031T010000
END:STANDARD
BEGIN:DAYLIGHT
TZOFFSETFROM:+0100
TZOFFSETTO:+0200
TZNAME:CEST
DTSTART:20220327T010000
END:DAYLIGHT
BEGIN:STANDARD
TZOFFSETFROM:+0200
TZOFFSETTO:+0100
TZNAME:CET
DTSTART:20221030T010000
END:STANDARD
END:VTIMEZONE
BEGIN:VEVENT
DTSTART;TZID=Europe/Paris:20211203T100000
DTEND;TZID=Europe/Paris:20211203T170000
DTSTAMP:20260425T124645
CREATED:20210914T140231Z
LAST-MODIFIED:20210914T140334Z
UID:10906-1638525600-1638550800@bourgogne-franche-comte.frmjc.org
SUMMARY:Formation Des Cinés La Vie !
DESCRIPTION:Initiée en 2006 dans le cadre du protocole Culture/Justice\, Des cinés\, la vie ! est aujourd’hui une opération reconnue et à succès croissant auprès des jeunes pris.es en charge par les services et les établissements de la Protection judiciaire de la jeunesse et du secteur associatif habilité\, les classes relais et les dispositif de prévention spécialisée. Voulant contribuer à ce que chacune et chacun soit un citoyen actif grâce aux images\, elle trouve tout son sens dans le projet associatif de Passeurs d’images. \nComme chaque année\, la FRMJC propose aux professionnels de la protection judiciaire de la jeunesse une journée pour décrypter le sélection de films et aller plus loin avec des ateliers. Cette année\, ce sera également l’occasion de croiser les expériences des intervenant.e.s et des structures. \n  \n> https://www.passeursdimages.fr/ledition-2021-2022
URL:https://bourgogne-franche-comte.frmjc.org/evenement/formation-des-cines-la-vie/
LOCATION:Nuits Saint Georges
CATEGORIES:Cinéma,Rencontre
ATTACH;FMTTYPE=image/png:https://bourgogne-franche-comte.frmjc.org/wp-content/uploads/2021/09/save-the-date-DCLV-2122.png
END:VEVENT
END:VCALENDAR