BEGIN:VCALENDAR
VERSION:2.0
PRODID:-//Fédération régionale des MJC Bourgogne-Franche-Comté - ECPv6.15.20//NONSGML v1.0//EN
CALSCALE:GREGORIAN
METHOD:PUBLISH
X-WR-CALNAME:Fédération régionale des MJC Bourgogne-Franche-Comté
X-ORIGINAL-URL:https://bourgogne-franche-comte.frmjc.org
X-WR-CALDESC:Évènements pour Fédération régionale des MJC Bourgogne-Franche-Comté
REFRESH-INTERVAL;VALUE=DURATION:PT1H
X-Robots-Tag:noindex
X-PUBLISHED-TTL:PT1H
BEGIN:VTIMEZONE
TZID:Europe/Paris
BEGIN:DAYLIGHT
TZOFFSETFROM:+0100
TZOFFSETTO:+0200
TZNAME:CEST
DTSTART:20210328T010000
END:DAYLIGHT
BEGIN:STANDARD
TZOFFSETFROM:+0200
TZOFFSETTO:+0100
TZNAME:CET
DTSTART:20211031T010000
END:STANDARD
BEGIN:DAYLIGHT
TZOFFSETFROM:+0100
TZOFFSETTO:+0200
TZNAME:CEST
DTSTART:20220327T010000
END:DAYLIGHT
BEGIN:STANDARD
TZOFFSETFROM:+0200
TZOFFSETTO:+0100
TZNAME:CET
DTSTART:20221030T010000
END:STANDARD
BEGIN:DAYLIGHT
TZOFFSETFROM:+0100
TZOFFSETTO:+0200
TZNAME:CEST
DTSTART:20230326T010000
END:DAYLIGHT
BEGIN:STANDARD
TZOFFSETFROM:+0200
TZOFFSETTO:+0100
TZNAME:CET
DTSTART:20231029T010000
END:STANDARD
END:VTIMEZONE
BEGIN:VEVENT
DTSTART;VALUE=DATE:20220911
DTEND;VALUE=DATE:20220912
DTSTAMP:20260424T203836
CREATED:20220822T141102Z
LAST-MODIFIED:20220822T141102Z
UID:13719-1662854400-1662940799@bourgogne-franche-comte.frmjc.org
SUMMARY:LE GRAND DEJ' - La rentrée des associations
DESCRIPTION:Véritable rendez-vous des associations bourguignonnes\, cette journée est l’occasion de valoriser leur rôle citoyen\, militant et socio-culturel\, en leur permettant de présenter leurs activités au grand public\, à travers ateliers\, démonstrations\, expositions et conférences participatives.\n \n  \n 
URL:https://bourgogne-franche-comte.frmjc.org/evenement/le-grand-dej-la-rentree-des-associations/
LOCATION:Parc de la Toison d’Or\, Boulevard Winston Churchill\, Dijon\, 21000
CATEGORIES:Rencontre
ATTACH;FMTTYPE=image/jpeg:https://bourgogne-franche-comte.frmjc.org/wp-content/uploads/2022/08/couverture_facebook-scaled.jpg
END:VEVENT
BEGIN:VEVENT
DTSTART;VALUE=DATE:20220929
DTEND;VALUE=DATE:20220930
DTSTAMP:20260424T203836
CREATED:20220914T094547Z
LAST-MODIFIED:20220914T094547Z
UID:13944-1664409600-1664495999@bourgogne-franche-comte.frmjc.org
SUMMARY:APARR'té #2 - Matinée éducation aux images
DESCRIPTION:En partenariat avec le Pôle Régional d’éducation aux images – Centre image\,La coordination régionale du dispositif Passeurs d’images s’invite auxprochaines rencontres du cinéma et de l’audiovisuel en Bourgogne-Franche-Comté de l‘APARR. \nDiscussions et films à l’appui\, Fabio Falzone\, Fabien Guillermont et MathieuPeset nous partagerons comment les expériences en ateliers nourrissentleurs projets artistiques\, et inversement. L’occasion de mieux connaître l’undes acteurs fondamental de la triangulaire structure / jeunes / intervenant.e.sdans les actions d’éducation aux images. \n  \nTout le programme sur : https://www.aparr.org/edition-2022
URL:https://bourgogne-franche-comte.frmjc.org/evenement/aparrte-2-matinee-education-aux-images/
LOCATION:Cinémavia – Gray\, 3 quai Mavia\, Gray\, 71000\, France
CATEGORIES:Rencontre
ATTACH;FMTTYPE=image/jpeg:https://bourgogne-franche-comte.frmjc.org/wp-content/uploads/2022/09/AFFICHE-A3-scaled.jpg
ORGANIZER;CN="aparr":MAILTO:https://www.aparr.org
END:VEVENT
END:VCALENDAR