BEGIN:VCALENDAR
VERSION:2.0
PRODID:-//Fédération régionale des MJC Bourgogne-Franche-Comté - ECPv6.15.20//NONSGML v1.0//EN
CALSCALE:GREGORIAN
METHOD:PUBLISH
X-ORIGINAL-URL:https://bourgogne-franche-comte.frmjc.org
X-WR-CALDESC:Évènements pour Fédération régionale des MJC Bourgogne-Franche-Comté
REFRESH-INTERVAL;VALUE=DURATION:PT1H
X-Robots-Tag:noindex
X-PUBLISHED-TTL:PT1H
BEGIN:VTIMEZONE
TZID:Europe/Paris
BEGIN:DAYLIGHT
TZOFFSETFROM:+0100
TZOFFSETTO:+0200
TZNAME:CEST
DTSTART:20210328T010000
END:DAYLIGHT
BEGIN:STANDARD
TZOFFSETFROM:+0200
TZOFFSETTO:+0100
TZNAME:CET
DTSTART:20211031T010000
END:STANDARD
BEGIN:DAYLIGHT
TZOFFSETFROM:+0100
TZOFFSETTO:+0200
TZNAME:CEST
DTSTART:20220327T010000
END:DAYLIGHT
BEGIN:STANDARD
TZOFFSETFROM:+0200
TZOFFSETTO:+0100
TZNAME:CET
DTSTART:20221030T010000
END:STANDARD
BEGIN:DAYLIGHT
TZOFFSETFROM:+0100
TZOFFSETTO:+0200
TZNAME:CEST
DTSTART:20230326T010000
END:DAYLIGHT
BEGIN:STANDARD
TZOFFSETFROM:+0200
TZOFFSETTO:+0100
TZNAME:CET
DTSTART:20231029T010000
END:STANDARD
END:VTIMEZONE
BEGIN:VEVENT
DTSTART;TZID=Europe/Paris:20220305T080000
DTEND;TZID=Europe/Paris:20220305T170000
DTSTAMP:20260425T060027
CREATED:20210914T110528Z
LAST-MODIFIED:20210914T110528Z
UID:10904-1646467200-1646499600@bourgogne-franche-comte.frmjc.org
SUMMARY:Rencontre Jeunes Passeurs d'images bfc
DESCRIPTION:Une journée plongée dans le festival Chef Op’ en  lumière pour mettre à l’honneur les projets Passeurs d’images en bfc. Un temps convivial privilégié entre les participants\, les structures\, les intervenants\, les partenaires au fil des projections de réalisations depuis 2019.
URL:https://bourgogne-franche-comte.frmjc.org/evenement/rencontre-jeunes-passeurs-dimages-bfc/
CATEGORIES:Cinéma,Festival,Manifestation culturelle,Rencontre
ATTACH;FMTTYPE=image/jpeg:https://bourgogne-franche-comte.frmjc.org/wp-content/uploads/2021/01/2.jpg
END:VEVENT
BEGIN:VEVENT
DTSTART;TZID=Europe/Paris:20220318T180000
DTEND;TZID=Europe/Paris:20220318T193000
DTSTAMP:20260425T060027
CREATED:20220307T160521Z
LAST-MODIFIED:20220307T160521Z
UID:12758-1647626400-1647631800@bourgogne-franche-comte.frmjc.org
SUMMARY:ANIM TA COURS
DESCRIPTION:Une soirée à la découverte du cinéma d’animation\, spéciale ados entre projections et ateliers : \n  \n18h00 Projection: No\, I don’t want to dance – 3’ \nEn ces temps sombres\, vous pouvez penser que chaque danger a été identifié\, mais personne n’a jamais pris en compte le danger que peut représenter la … \nAndrea Vinciguerra . 2019 \nAtelier :  Décryptage \n  \n18h30 Projection : Selfies – 3’44 \nUn feu d’artifice d’autoportraits où des centaines de selfies idylliques\, affligeants ou terriblement inquiétants sont agencés en un court métrage à la singulière composition. Artistiquement re-travaillées\, les photos individuelles se fondent en un terrifiant rictus qui éclaire l’abîme de l’existence humaine. \nClaudius Gentinetta • Suisse • 2018 \nAtelier : Danser cadrer \n  \n19h00 Projection : La Bite 4’09  \nUn jeune provocateur dessine une bite sur un mur. La police intervient brutalement. Son geste\, initialement vide de sens\, est repris à travers le pays et le ton monte de façon alarmante\, déclenchant une tempête médiatique et sociale qui menace dangereusement l’ordre établi. Mais quand la fumée retombe\, le nouveau système semble étrangement familier et les autres jeunes provocateurs ne sont pas plus à l’abri. \nPierre Mortel\, Jérôme Leroy . 2015 \nAtelier : Scenario
URL:https://bourgogne-franche-comte.frmjc.org/evenement/anim-ta-cours/
LOCATION:Maison-phare\, 2 allée de Grenoble\, DIJON\, 21000
CATEGORIES:Atelier,Cinéma,Festival,Rencontre
ATTACH;FMTTYPE=image/png:https://bourgogne-franche-comte.frmjc.org/wp-content/uploads/2022/02/Flyer-Fete-du-court-metrage-2022.png
END:VEVENT
BEGIN:VEVENT
DTSTART;TZID=Europe/Paris:20220326T100000
DTEND;TZID=Europe/Paris:20220326T163000
DTSTAMP:20260425T060027
CREATED:20220207T092253Z
LAST-MODIFIED:20220207T092253Z
UID:12355-1648288800-1648312200@bourgogne-franche-comte.frmjc.org
SUMMARY:Assemblée Générale Extraordinaire de la FRMJC
DESCRIPTION:Dans la continuité de l’évolution du projet Convergence pour une tête de réseau nationale unie\, la FRMJC de Bourgogne-Franche-Comté vous invite à son assemblée générale extraordinaire qui se tiendra le 26 mars 2022 à Dijon. Ce temps fort sera également l’occasion de mettre en action le premier chantier collectif sur al refonte du projet associatif au niveau régional.
URL:https://bourgogne-franche-comte.frmjc.org/evenement/assemblee-generale-extraordinaire-de-la-frmjc/
CATEGORIES:Débat,Rencontre
ATTACH;FMTTYPE=image/jpeg:https://bourgogne-franche-comte.frmjc.org/wp-content/uploads/2022/02/2.jpg
END:VEVENT
END:VCALENDAR