BEGIN:VCALENDAR
VERSION:2.0
PRODID:-//Fédération régionale des MJC Bourgogne-Franche-Comté - ECPv6.15.20//NONSGML v1.0//EN
CALSCALE:GREGORIAN
METHOD:PUBLISH
X-ORIGINAL-URL:https://bourgogne-franche-comte.frmjc.org
X-WR-CALDESC:Évènements pour Fédération régionale des MJC Bourgogne-Franche-Comté
REFRESH-INTERVAL;VALUE=DURATION:PT1H
X-Robots-Tag:noindex
X-PUBLISHED-TTL:PT1H
BEGIN:VTIMEZONE
TZID:Europe/Paris
BEGIN:DAYLIGHT
TZOFFSETFROM:+0100
TZOFFSETTO:+0200
TZNAME:CEST
DTSTART:20210328T010000
END:DAYLIGHT
BEGIN:STANDARD
TZOFFSETFROM:+0200
TZOFFSETTO:+0100
TZNAME:CET
DTSTART:20211031T010000
END:STANDARD
BEGIN:DAYLIGHT
TZOFFSETFROM:+0100
TZOFFSETTO:+0200
TZNAME:CEST
DTSTART:20220327T010000
END:DAYLIGHT
BEGIN:STANDARD
TZOFFSETFROM:+0200
TZOFFSETTO:+0100
TZNAME:CET
DTSTART:20221030T010000
END:STANDARD
BEGIN:DAYLIGHT
TZOFFSETFROM:+0100
TZOFFSETTO:+0200
TZNAME:CEST
DTSTART:20230326T010000
END:DAYLIGHT
BEGIN:STANDARD
TZOFFSETFROM:+0200
TZOFFSETTO:+0100
TZNAME:CET
DTSTART:20231029T010000
END:STANDARD
END:VTIMEZONE
BEGIN:VEVENT
DTSTART;TZID=Europe/Paris:20220312T090000
DTEND;TZID=Europe/Paris:20220312T120000
DTSTAMP:20260424T065427
CREATED:20220214T160722Z
LAST-MODIFIED:20220304T132427Z
UID:12523-1647075600-1647086400@bourgogne-franche-comte.frmjc.org
SUMMARY:Formation des bénévoles : animer les instances associatives et prise de parole
DESCRIPTION:ATTENTION : cette formation est annulée et sera reportée à une date ultérieure \nA partir des expériences de chaque participant\, échanger sur le rôle des instances\, le déroulement d’une réunion ; sur la place de chacun ; sur les méthodes d’animation et de participation. \n\nModalité : de 9h30 à 12h\nIntervenants : Pierre Vian président de la FRMJC et Salima Bououden présidente de la MJC Lis avec moi.\nLieu de la formation à définir : Une MJC en fonction de l’origine des inscrits\n\n  \n 
URL:https://bourgogne-franche-comte.frmjc.org/evenement/formation-des-benevoles-animer-les-instances-associatives-et-prise-de-parole/
LOCATION:Lieu à définir\, France
CATEGORIES:Formation
ATTACH;FMTTYPE=image/jpeg:https://bourgogne-franche-comte.frmjc.org/wp-content/uploads/2022/01/20191123_151328-scaled-e1645614533942.jpg
END:VEVENT
END:VCALENDAR