BEGIN:VCALENDAR
VERSION:2.0
PRODID:-//Fédération régionale des MJC Bourgogne-Franche-Comté - ECPv6.15.20//NONSGML v1.0//EN
CALSCALE:GREGORIAN
METHOD:PUBLISH
X-ORIGINAL-URL:https://bourgogne-franche-comte.frmjc.org
X-WR-CALDESC:Évènements pour Fédération régionale des MJC Bourgogne-Franche-Comté
REFRESH-INTERVAL;VALUE=DURATION:PT1H
X-Robots-Tag:noindex
X-PUBLISHED-TTL:PT1H
BEGIN:VTIMEZONE
TZID:Europe/Paris
BEGIN:DAYLIGHT
TZOFFSETFROM:+0100
TZOFFSETTO:+0200
TZNAME:CEST
DTSTART:20200329T010000
END:DAYLIGHT
BEGIN:STANDARD
TZOFFSETFROM:+0200
TZOFFSETTO:+0100
TZNAME:CET
DTSTART:20201025T010000
END:STANDARD
BEGIN:DAYLIGHT
TZOFFSETFROM:+0100
TZOFFSETTO:+0200
TZNAME:CEST
DTSTART:20210328T010000
END:DAYLIGHT
BEGIN:STANDARD
TZOFFSETFROM:+0200
TZOFFSETTO:+0100
TZNAME:CET
DTSTART:20211031T010000
END:STANDARD
BEGIN:DAYLIGHT
TZOFFSETFROM:+0100
TZOFFSETTO:+0200
TZNAME:CEST
DTSTART:20220327T010000
END:DAYLIGHT
BEGIN:STANDARD
TZOFFSETFROM:+0200
TZOFFSETTO:+0100
TZNAME:CET
DTSTART:20221030T010000
END:STANDARD
END:VTIMEZONE
BEGIN:VEVENT
DTSTART;TZID=Europe/Paris:20210912T110000
DTEND;TZID=Europe/Paris:20210912T180000
DTSTAMP:20260425T174811
CREATED:20210617T082404Z
LAST-MODIFIED:20210617T082717Z
UID:10073-1631444400-1631469600@bourgogne-franche-comte.frmjc.org
SUMMARY:Le Grand Déj' 2021 : le rendez-vous des associations
DESCRIPTION:A travers une journée à la programmation riche et variée\, partez à la découverte des multiples associations du territoire en participant à des animations\, ateliers\, démonstrations\, manifestations culturelles\, expositions et conférences participatives dans un climat familial et festif. Un dimanche de rencontres\, d’échanges\, de découverte et de partage pour bien débuter la rentrée et peut-être l’occasion de s’investir dans la vie associative locale ? \n\n\nPour sa 20ème édition\, le Grand Dèj’ : le rendez-vous des associations\, organisé par La Ligue de l’enseignement de Côte-d’Or et la Fédération Régionale des MJC de Bourgogne-Franche-Comté déménage cette année en plein cœur du Parc de la Toison d’Or. 2021 représente un double anniversaire pour le Grand Déj’ : les 120 ans de la loi 1901 instituant la liberté d’association couplé aux 20 ans du Grand Déj’ feront de la rencontre 2021 une édition résolument plus engagée\, familiale et festive\, à l’image des valeurs défendues par l’événement.\n\n\n👉Plus d’informations  sur : http://www.legranddej.org/ 
URL:https://bourgogne-franche-comte.frmjc.org/evenement/le-grand-dej-2021-le-rendez-vous-des-associations/
LOCATION:Parc de la Toison d’Or\, Boulevard Winston Churchill\, Dijon\, 21000
CATEGORIES:Festival,Rencontre
ATTACH;FMTTYPE=image/png:https://bourgogne-franche-comte.frmjc.org/wp-content/uploads/2021/06/AFFICHE.png
END:VEVENT
END:VCALENDAR