BEGIN:VCALENDAR
VERSION:2.0
PRODID:-//Fédération régionale des MJC Bourgogne-Franche-Comté - ECPv6.15.20//NONSGML v1.0//EN
CALSCALE:GREGORIAN
METHOD:PUBLISH
X-WR-CALNAME:Fédération régionale des MJC Bourgogne-Franche-Comté
X-ORIGINAL-URL:https://bourgogne-franche-comte.frmjc.org
X-WR-CALDESC:Évènements pour Fédération régionale des MJC Bourgogne-Franche-Comté
REFRESH-INTERVAL;VALUE=DURATION:PT1H
X-Robots-Tag:noindex
X-PUBLISHED-TTL:PT1H
BEGIN:VTIMEZONE
TZID:Europe/Paris
BEGIN:DAYLIGHT
TZOFFSETFROM:+0100
TZOFFSETTO:+0200
TZNAME:CEST
DTSTART:20200329T010000
END:DAYLIGHT
BEGIN:STANDARD
TZOFFSETFROM:+0200
TZOFFSETTO:+0100
TZNAME:CET
DTSTART:20201025T010000
END:STANDARD
BEGIN:DAYLIGHT
TZOFFSETFROM:+0100
TZOFFSETTO:+0200
TZNAME:CEST
DTSTART:20210328T010000
END:DAYLIGHT
BEGIN:STANDARD
TZOFFSETFROM:+0200
TZOFFSETTO:+0100
TZNAME:CET
DTSTART:20211031T010000
END:STANDARD
BEGIN:DAYLIGHT
TZOFFSETFROM:+0100
TZOFFSETTO:+0200
TZNAME:CEST
DTSTART:20220327T010000
END:DAYLIGHT
BEGIN:STANDARD
TZOFFSETFROM:+0200
TZOFFSETTO:+0100
TZNAME:CET
DTSTART:20221030T010000
END:STANDARD
END:VTIMEZONE
BEGIN:VEVENT
DTSTART;TZID=Europe/Paris:20210930T093000
DTEND;TZID=Europe/Paris:20210930T170000
DTSTAMP:20260424T131559
CREATED:20210616T144123Z
LAST-MODIFIED:20210914T140537Z
UID:10057-1632994200-1633021200@bourgogne-franche-comte.frmjc.org
SUMMARY:Pourquoi & comment créer ensemble ? / Rencontre Passeurs d'images bfc
DESCRIPTION:À travers une journée de rencontres\, de conférences\, de retours de pratiques et d’échanges\, nous essaierons de brosser le portrait de cette notion de co-création\, de baliser sa pratique\, mais aussi ses écueils pour non pas imposer une vision de cet acte comme un dogme ou une autre injonction\, mais bien pour découvrir quelques outils\, quelques idées à mettre en pratique pour chez soi et à sa manière se réapproprier et expérimenter. L’enjeu étant pour tout.e.s de répondre aux attentes tout en gardant son autonomie et son indépendance philosophique et pédagogique au profit des toutes les parties prenantes.
URL:https://bourgogne-franche-comte.frmjc.org/evenement/rencontres-passeurs-dimages-co-creation-et-transmission/
LOCATION:MJC André Malraux\, Avenue du Maréchal de Lattre de Tassigny\, MONTBARD\, 21500
CATEGORIES:Débat,Rencontre
ATTACH;FMTTYPE=image/jpeg:https://bourgogne-franche-comte.frmjc.org/wp-content/uploads/2021/06/publi-pim-reseaux-sociaux2.jpg
END:VEVENT
END:VCALENDAR