BEGIN:VCALENDAR
VERSION:2.0
PRODID:-//Fédération régionale des MJC Bourgogne-Franche-Comté - ECPv6.15.20//NONSGML v1.0//EN
CALSCALE:GREGORIAN
METHOD:PUBLISH
X-ORIGINAL-URL:https://bourgogne-franche-comte.frmjc.org
X-WR-CALDESC:Évènements pour Fédération régionale des MJC Bourgogne-Franche-Comté
REFRESH-INTERVAL;VALUE=DURATION:PT1H
X-Robots-Tag:noindex
X-PUBLISHED-TTL:PT1H
BEGIN:VTIMEZONE
TZID:Europe/Paris
BEGIN:DAYLIGHT
TZOFFSETFROM:+0100
TZOFFSETTO:+0200
TZNAME:CEST
DTSTART:20200329T010000
END:DAYLIGHT
BEGIN:STANDARD
TZOFFSETFROM:+0200
TZOFFSETTO:+0100
TZNAME:CET
DTSTART:20201025T010000
END:STANDARD
BEGIN:DAYLIGHT
TZOFFSETFROM:+0100
TZOFFSETTO:+0200
TZNAME:CEST
DTSTART:20210328T010000
END:DAYLIGHT
BEGIN:STANDARD
TZOFFSETFROM:+0200
TZOFFSETTO:+0100
TZNAME:CET
DTSTART:20211031T010000
END:STANDARD
BEGIN:DAYLIGHT
TZOFFSETFROM:+0100
TZOFFSETTO:+0200
TZNAME:CEST
DTSTART:20220327T010000
END:DAYLIGHT
BEGIN:STANDARD
TZOFFSETFROM:+0200
TZOFFSETTO:+0100
TZNAME:CET
DTSTART:20221030T010000
END:STANDARD
END:VTIMEZONE
BEGIN:VEVENT
DTSTART;TZID=Europe/Paris:20210709T220000
DTEND;TZID=Europe/Paris:20210709T220000
DTSTAMP:20260424T042720
CREATED:20210701T105832Z
LAST-MODIFIED:20210701T105832Z
UID:10505-1625868000-1625868000@bourgogne-franche-comte.frmjc.org
SUMMARY:Une toile sous les étoiles : L'Ecole buissonnière
DESCRIPTION:Les Tourneurs de Côte-d’Or vous proposent de profiter d’une séance de cinéma en plein air.\n\n\n A L’AFFICHE : \nL’Ecole Buissonnière de Nicolas Vanier • avec François Cluzet\, Eric Elmosnino\, François Berléand • 1h 56min • Drame\, Comédie\n\n\n\nParis 1930. Paul n’a toujours eu qu’un seul et même horizon : les hauts murs de l’orphelinat\, sévère bâtisse de la banlieue ouvrière parisienne. Confié à une joyeuse dame de la campagne\, Célestine et à son mari\, Borel\, le garde-chasse un peu raide d’un vaste domaine en Sologne\, l’enfant des villes\, récalcitrant et buté\, arrive dans un monde mystérieux et inquiétant\, celui d’une région souveraine et sauvage.\nL’immense forêt\, les étangs embrumés\, les landes et les champs\, tout ici appartient au Comte de la Fresnaye\, un veuf taciturne qui vit solitaire dans son manoir. Le Comte tolère les braconniers sur le domaine mais Borel les traque sans relâche et s’acharne sur le plus rusé et insaisissable d’entre eux\, Totoche. Au cœur de la féérique Sologne\, aux côtés du braconnier\, grand amoureux de la nature\, Paul va faire l’apprentissage de la vie mais aussi celui de la forêt et de ses secrets. Un secret encore plus lourd pèse sur le domaine\, car Paul n’est pas venu là par hasard…
URL:https://bourgogne-franche-comte.frmjc.org/evenement/une-toile-sous-les-etoiles-lecole-buissonniere-5/
LOCATION:Terrain de foot – Camping\, Santenay
CATEGORIES:Cinéma
ATTACH;FMTTYPE=image/jpeg:https://bourgogne-franche-comte.frmjc.org/wp-content/uploads/2021/06/Lecole-buissonniere.jpg
END:VEVENT
BEGIN:VEVENT
DTSTART;TZID=Europe/Paris:20210709T220000
DTEND;TZID=Europe/Paris:20210709T220000
DTSTAMP:20260424T042720
CREATED:20210622T104957Z
LAST-MODIFIED:20210622T104957Z
UID:10185-1625868000-1625868000@bourgogne-franche-comte.frmjc.org
SUMMARY:Une toile sous les étoiles : le cinquième élément
DESCRIPTION:Les Tourneurs de Côte-d’Or vous proposent de profiter d’une séance de cinéma en plein air.\n\n\n A L’AFFICHE : \nLe cinquième élément de Luc Besson • Avec Bruce Willis\, Gary Oldman\, Ian Holm • 2h 06min • Science-Fiction\, Action\n\nEgypte\, 1914. Des extraterrestres récupèrent quatre pierres magiques\, symboles des quatre éléments\, jadis confiées à des prêtres. Avant de partir\, les extraterrestres promettent que dans 300 ans\, ils rapporteront les précieux cailloux. Au XXIIIe siècle\, alors qu’ils font route vers la Terre\, ils sont anéantis par la planète du Mal. Les habitants de ce monde maléfique\, les Mangalores\, s’emparent des pierres et foncent vers la Terre.
URL:https://bourgogne-franche-comte.frmjc.org/evenement/une-toile-sous-les-etoiles-le-cinquieme-element/
LOCATION:Talant
CATEGORIES:Cinéma
ATTACH;FMTTYPE=image/jpeg:https://bourgogne-franche-comte.frmjc.org/wp-content/uploads/2021/06/cinquieme-element.jpg
END:VEVENT
BEGIN:VEVENT
DTSTART;TZID=Europe/Paris:20210708T203000
DTEND;TZID=Europe/Paris:20210708T220000
DTSTAMP:20260424T042720
CREATED:20210629T122557Z
LAST-MODIFIED:20210708T131041Z
UID:10439-1625776200-1625781600@bourgogne-franche-comte.frmjc.org
SUMMARY:Une toile sous les étoiles : Abominable
DESCRIPTION:Les Tourneurs de Côte-d’Or et la MJC des Grésilles vous proposent de profiter d’une séance de cinéma en plein air.\n\n\n A L’AFFICHE : \nAbominable de Jill Culton\nAvec Chloe Bennet\, Albert Tsai\, Tenzing Norgay Trainor\n1h 37min / Animation\, Aventure\, Comédie\n\n\n\nTout commence sur le toit d’un immeuble à Shanghai\, avec l’improbable rencontre d’une jeune adolescente\, l’intrépide Yi\, avec un jeune Yeti. La jeune fille et ses amis Jin et Peng vont tenter de ramener chez lui celui qu’ils appellent désormais Everest\, leur nouvel et étrange ami\, afin qu’il puisse retrouver sa famille sur le toit du monde. Mais pour accomplir cette mission\, notre trio de choc va devoir mener une course effrénée contre Burnish\, un homme puissant qui a bien l’intention de capturer la créature car elle ressemble comme deux gouttes d’eau à celle qu’il avait fortuitement rencontrée quand il était enfant.\n\n\nInfos @mjcgresilles.dijon
URL:https://bourgogne-franche-comte.frmjc.org/evenement/une-toile-sous-les-etoiles-abominable-2/
LOCATION:Parc des Grésilles\, Dijon
CATEGORIES:Cinéma
ATTACH;FMTTYPE=image/jpeg:https://bourgogne-franche-comte.frmjc.org/wp-content/uploads/2021/06/abominable-1-1.jpg
END:VEVENT
BEGIN:VEVENT
DTSTART;TZID=Europe/Paris:20210707T203000
DTEND;TZID=Europe/Paris:20210707T220000
DTSTAMP:20260424T042720
CREATED:20210622T101043Z
LAST-MODIFIED:20210707T130536Z
UID:10165-1625689800-1625695200@bourgogne-franche-comte.frmjc.org
SUMMARY:Une toile sous les étoiles : Donne-moi des ailes
DESCRIPTION:Les Tourneurs de Côte-d’Or et la MJC – Centre social des Bourroches vous proposent de profiter d’une séance de cinéma en plein air.\n A l’affiche : \n\n\nDonne-moi des ailes de Nicolas Vanier • avec Louis Vazquez\, Jean-Paul Rouve\, Mélanie Doutey • 1h 53min • Aventure\, Famille\n\n\nChristian\, scientifique visionnaire\, étudie les oies sauvages. Pour son fils\, ado obnubilé par les jeux vidéos\, l’idée de passer des vacances avec son père en pleine nature est un cauchemar. Pourtant\, père et fils vont se rapprocher autour d’un projet fou : sauver une espèce en voie de disparition. \nPour tout renseignement\, contactez directement la MJS CS Bourroches.
URL:https://bourgogne-franche-comte.frmjc.org/evenement/une-toile-sous-les-etoiles-donne-moi-des-ailes-2/
LOCATION:Salle Eugène Fyot – MJC CS Bourroches
CATEGORIES:Cinéma
ATTACH;FMTTYPE=image/jpeg:https://bourgogne-franche-comte.frmjc.org/wp-content/uploads/2021/06/donne-moi-des-ailes-1.jpg
END:VEVENT
BEGIN:VEVENT
DTSTART;TZID=Europe/Paris:20210707T203000
DTEND;TZID=Europe/Paris:20210707T220000
DTSTAMP:20260424T042720
CREATED:20210622T095550Z
LAST-MODIFIED:20210707T124731Z
UID:10158-1625689800-1625695200@bourgogne-franche-comte.frmjc.org
SUMMARY:Une toile sous les étoiles : Le Prince oublié
DESCRIPTION: Les Tourneurs de Côte-d’Or vous proposent de profiter d’une séance de cinéma en plein air.\n A l’affiche : \n\nLe Prince oublié de Michel Hazanavicius •  Avec Omar Sy\, Bérénice Bejo\, François Damiens • 1h 43min / Aventure\, Comédie\, Fantastique\n\nDjibi vit seul avec Sofia\, sa fille de 8 ans. Tous les soirs\, il invente une histoire pour l’endormir. Lorsque Sofia s’endort\, ces récits extraordinaires prennent vie quelque part dans un monde imaginaire peuplé. Trois ans plus tard\, l’entrée de Sofia au collège va marquer la fin de son enfance. Au grand désespoir de son père\, elle n’a plus besoin de ses histoires le soir. Djibi va alors devoir accepter que sa fille grandisse et le prince du monde imaginaire va devoir trouver sa place.
URL:https://bourgogne-franche-comte.frmjc.org/evenement/une-toile-sous-les-etoiles-le-prince-oublie/
LOCATION:Salle le Polygone \, Cheivgny-Saint-Sauveur
CATEGORIES:Cinéma
ATTACH;FMTTYPE=image/jpeg:https://bourgogne-franche-comte.frmjc.org/wp-content/uploads/2021/06/le-prince-oublie.jpg
END:VEVENT
BEGIN:VEVENT
DTSTART;TZID=Europe/Paris:20210706T220000
DTEND;TZID=Europe/Paris:20210706T220000
DTSTAMP:20260424T042720
CREATED:20210622T094824Z
LAST-MODIFIED:20210622T094824Z
UID:10152-1625608800-1625608800@bourgogne-franche-comte.frmjc.org
SUMMARY:Une toile sous les étoiles : Astérix et Obélix : mission Cléopâtre
DESCRIPTION:Les Tourneurs de Côte-d’Or et l’Espace Baudelaire vous proposent de profiter d’une séance de cinéma en plein air.\n\n\n A L’AFFICHE : \nAstérix et Obélix: mission Cléôpatre de Alain Chabat • avec Gérard Depardieu\, Christian Clavier\, Jamel Debbouze • 1h 47min • Comédie\n\nCléopâtre\, la reine d’Égypte\, décide\, pour défier l’Empereur romain Jules César\, de construire en trois mois un palais somptueux en plein désert. Si elle y parvient\, celui-ci devra concéder publiquement que le peuple égyptien est le plus grand de tous les peuples. Pour ce faire\, Cléopâtre fait appel à Numérobis\, un architecte d’avant-garde plein d’énergie. S’il réussit\, elle le couvrira d’or. S’il échoue\, elle le jettera aux crocodiles.\nCelui-ci\, conscient du défi à relever\, cherche de l’aide auprès de son vieil ami Panoramix. Le druide fait le voyage en Égypte avec Astérix et Obélix. De son côté\, Amonbofis\, l’architecte officiel de Cléopâtre\, jaloux que la reine ait choisi Numérobis pour construire le palais\, va tout mettre en œuvre pour faire échouer son concurrent.\n\nPlus d’infos : http://espacebaudelaire.fr/
URL:https://bourgogne-franche-comte.frmjc.org/evenement/une-toile-sous-les-etoiles-asterix-et-obelix-mission-cleopatre/
LOCATION:Parc du Château de Pouilly\, 21000 Dijon
CATEGORIES:Cinéma
ATTACH;FMTTYPE=image/jpeg:https://bourgogne-franche-comte.frmjc.org/wp-content/uploads/2021/06/astérix-et-obelix-mission-cleopatre.jpg
END:VEVENT
BEGIN:VEVENT
DTSTART;TZID=Europe/Paris:20210703T220000
DTEND;TZID=Europe/Paris:20210703T220000
DTSTAMP:20260424T042720
CREATED:20210622T085559Z
LAST-MODIFIED:20210622T085559Z
UID:10137-1625349600-1625349600@bourgogne-franche-comte.frmjc.org
SUMMARY:Une toile sous les étoiles : Donne-moi des ailes
DESCRIPTION: Les Tourneurs de Côte-d’Or vous proposent de profiter d’une séance de cinéma en plein air.\n\n\n A L’AFFICHE : \nDonne-moi des ailes de Nicolas Vanier • avec Louis Vazquez\, Jean-Paul Rouve\, Mélanie Doutey • 1h 53min • Aventure\, Famille\n\n\nChristian\, scientifique visionnaire\, étudie les oies sauvages. Pour son fils\, ado obnubilé par les jeux vidéos\, l’idée de passer des vacances avec son père en pleine nature est un cauchemar. Pourtant\, père et fils vont se rapprocher autour d’un projet fou : sauver une espèce en voie de disparition.
URL:https://bourgogne-franche-comte.frmjc.org/evenement/une-toile-sous-les-etoiles-donne-moi-des-ailes/
LOCATION:Place du village\, Ahuy
CATEGORIES:Cinéma
ATTACH;FMTTYPE=image/jpeg:https://bourgogne-franche-comte.frmjc.org/wp-content/uploads/2021/06/donne-moi-des-ailes-1.jpg
END:VEVENT
BEGIN:VEVENT
DTSTART;TZID=Europe/Paris:20210702T220000
DTEND;TZID=Europe/Paris:20210702T220000
DTSTAMP:20260424T042720
CREATED:20210622T085133Z
LAST-MODIFIED:20210622T085133Z
UID:10117-1625263200-1625263200@bourgogne-franche-comte.frmjc.org
SUMMARY:Une toile sous les étoiles : Rasta Rockett
DESCRIPTION:Les Tourneurs de Côte-d’Or vous proposent de profiter d’une séance de cinéma en plein air.\n\n\n A l’affiche : \nRasta Rockett de Jon Turteltaub • avec Leon Robinson\, Doug E. Doug\, John Candy • 1h 48min • Aventure\, Comédie\n\n\nL’histoire véridique de quatre Jamaïcains qui ont un rêve fou : obtenir une médaille d’or dans une discipline olympique qui leur est totalement inconnue et impossible à pratiquer chez eux : le bobsleigh !
URL:https://bourgogne-franche-comte.frmjc.org/evenement/une-toile-sous-les-etoiles-rasta-rockett/
LOCATION:Parc Hyacinthe Vincent\, Quartier Mansart\, Dijon
CATEGORIES:Cinéma
ATTACH;FMTTYPE=image/jpeg:https://bourgogne-franche-comte.frmjc.org/wp-content/uploads/2021/06/image.jpg
END:VEVENT
BEGIN:VEVENT
DTSTART;TZID=Europe/Paris:20210625T183000
DTEND;TZID=Europe/Paris:20210625T183000
DTSTAMP:20260424T042720
CREATED:20210617T093054Z
LAST-MODIFIED:20210617T093054Z
UID:10083-1624645800-1624645800@bourgogne-franche-comte.frmjc.org
SUMMARY:Première du film « FUIR » - MJC André Malraux
DESCRIPTION:Ne manquez pas la présentation du dernier film d’atelier Passeurs d’images de la MJC André Malraux de Montbard « FUIR ».\n\n\n\n\nSur fond de conflits familiaux\, ce court métrage d’atelier co-écrit et co-réalisé à l’été 2020 suite au premier confinement par 9 jeunes (de 12 à 18 ans) et par Tom Bouchet (réalisateur) accompagnés par Etienne Zammit (animateur MJC) parle d’amour\, d’amitiés\, du besoin d’espace et de liberté et d’émancipation …\n\nCette belle réalisation et expérience collective et collaborative – à découvrir donc ! – témoigne de la capacité des jeunes à s’organiser\, s’autogérer\, s’exprimer\, et (co)créer\, mais également à prendre en main leurs propres questionnements qu’ils soient générationnels ou plus sociétaux\, comme une manière de dire qu’elleux ne doivent pas être oublié.e.s et qu’ielles ont aussi une place et un rôle à jouer d’autant plus dans des périodes de crises…\n\n\n\n\nUn projet de la MJC André Malraux\, co-financé par le Ministère de la Culture\, DRAC BFC dans le cadre du dispositif Passeurs d’images et le soutien de la Fédération régionale des MJC Bourgogne-Franche-Comté\, pilote du dispositif Passeurs d’images Bourgogne-Franche-Comté.
URL:https://bourgogne-franche-comte.frmjc.org/evenement/premiere-du-film-fuir-mjc-andre-malraux/
LOCATION:MJC André Malraux\, Avenue du Maréchal de Lattre de Tassigny\, MONTBARD\, 21500
CATEGORIES:Cinéma
ATTACH;FMTTYPE=image/jpeg:https://bourgogne-franche-comte.frmjc.org/wp-content/uploads/2021/06/201319987_4093573170711447_7672247924949837807_n.jpg
END:VEVENT
END:VCALENDAR