BEGIN:VCALENDAR
VERSION:2.0
PRODID:-//Fédération régionale des MJC Bourgogne-Franche-Comté - ECPv6.15.20//NONSGML v1.0//EN
CALSCALE:GREGORIAN
METHOD:PUBLISH
X-ORIGINAL-URL:https://bourgogne-franche-comte.frmjc.org
X-WR-CALDESC:Évènements pour Fédération régionale des MJC Bourgogne-Franche-Comté
REFRESH-INTERVAL;VALUE=DURATION:PT1H
X-Robots-Tag:noindex
X-PUBLISHED-TTL:PT1H
BEGIN:VTIMEZONE
TZID:Europe/Paris
BEGIN:DAYLIGHT
TZOFFSETFROM:+0100
TZOFFSETTO:+0200
TZNAME:CEST
DTSTART:20210328T010000
END:DAYLIGHT
BEGIN:STANDARD
TZOFFSETFROM:+0200
TZOFFSETTO:+0100
TZNAME:CET
DTSTART:20211031T010000
END:STANDARD
BEGIN:DAYLIGHT
TZOFFSETFROM:+0100
TZOFFSETTO:+0200
TZNAME:CEST
DTSTART:20220327T010000
END:DAYLIGHT
BEGIN:STANDARD
TZOFFSETFROM:+0200
TZOFFSETTO:+0100
TZNAME:CET
DTSTART:20221030T010000
END:STANDARD
BEGIN:DAYLIGHT
TZOFFSETFROM:+0100
TZOFFSETTO:+0200
TZNAME:CEST
DTSTART:20230326T010000
END:DAYLIGHT
BEGIN:STANDARD
TZOFFSETFROM:+0200
TZOFFSETTO:+0100
TZNAME:CET
DTSTART:20231029T010000
END:STANDARD
END:VTIMEZONE
BEGIN:VEVENT
DTSTART;TZID=Europe/Paris:20221012T160000
DTEND;TZID=Europe/Paris:20221012T173000
DTSTAMP:20260423T014440
CREATED:20220915T114606Z
LAST-MODIFIED:20220930T123127Z
UID:13956-1665590400-1665595800@bourgogne-franche-comte.frmjc.org
SUMMARY:Fête du cinéma d'animation
DESCRIPTION:La fête du cinéma d’animation\nA la MJC d’Auxerre\nMercredi 12 octobre\n16h-17h Projection ludique & goûter – Ouvert à tous\n  \nUn après-midi au fil de court-métrages ponctuée d’ateliers ultra-courts et suivi d’un goûter à la découverte de la création des images animées\, d’hier à aujourd’hui.\n  \nTombés du nid de Loïc Espuche (4’19) \nFabio et Dimitri se rendent à la Chicha pour que Dimitri puisse peut-être enfin aborder Linda. Sur le chemin\, ils rencontrent une cane et ses petits. \n  \nTotems de Paul Jadoul          (09’10) \nUn bûcheron travaille dans la forêt quand un arbre s’écrase sur lui et l’immobilise. La détresse réveille alors l’animal caché en lui… \n  \nLes oiseaux blancs\, les oiseaux noirs de Florence Mihaile (3’52) \nCe film est une parabole sur le bien et le mal\, inspirée d’un conte africain. \n  \nLe chant du Cachalot d’Adeline Faye (11’59) \nUn gigantesque cachalot blanc se retrouve échoué́ au milieu d’une ville. Autour de l’animal agonisant\, les gens rouspètent et se plaignent\, les voitures sont immobilisées. Dans un bus scolaire\, une petite fille apprend un poème pour l’école. \n  \nDe l’autre côté de Icinori\, M. Chabannes\, S. Claux\, P. Clenet\, M. de Coudenhove\, L. Degeneve\, B. Dulac\, N. Joly\, J. Jude\, O. Mulleras-El Atmani\, M. Pasta\, M. Topsy\, M. Walle (5’39) \nPistant une biche\, un chasseur s’enfonce dans les bois et se trouve face à un immense mur noir au-delà duquel il découvrira un étrange marécage. \n  \nL’Ombre des papillons de Sofia El Khyari (9’00) \nEn proie à un sentiment de douce-amère nostalgie\, une femme se réfugie dans la contemplation de papillons qui semblent peupler une mystérieuse forêt. \nTélécharger le programme En savoir plus sur le Ciné Club Ludique
URL:https://bourgogne-franche-comte.frmjc.org/evenement/cinema-animation-et-education-aux-images/
LOCATION:MJC Auxerre\, 5\, impasse St Pierre\, Auxerre\, 89000\, France
CATEGORIES:Cinéma,Rencontre
ATTACH;FMTTYPE=image/jpeg:https://bourgogne-franche-comte.frmjc.org/wp-content/uploads/2022/09/zp12_tombes_du_nid_30343_a_1.jpg
END:VEVENT
END:VCALENDAR