BEGIN:VCALENDAR
VERSION:2.0
PRODID:-//Fédération régionale des MJC Bourgogne-Franche-Comté - ECPv6.15.20//NONSGML v1.0//EN
CALSCALE:GREGORIAN
METHOD:PUBLISH
X-WR-CALNAME:Fédération régionale des MJC Bourgogne-Franche-Comté
X-ORIGINAL-URL:https://bourgogne-franche-comte.frmjc.org
X-WR-CALDESC:Évènements pour Fédération régionale des MJC Bourgogne-Franche-Comté
REFRESH-INTERVAL;VALUE=DURATION:PT1H
X-Robots-Tag:noindex
X-PUBLISHED-TTL:PT1H
BEGIN:VTIMEZONE
TZID:Europe/Paris
BEGIN:DAYLIGHT
TZOFFSETFROM:+0100
TZOFFSETTO:+0200
TZNAME:CEST
DTSTART:20210328T010000
END:DAYLIGHT
BEGIN:STANDARD
TZOFFSETFROM:+0200
TZOFFSETTO:+0100
TZNAME:CET
DTSTART:20211031T010000
END:STANDARD
BEGIN:DAYLIGHT
TZOFFSETFROM:+0100
TZOFFSETTO:+0200
TZNAME:CEST
DTSTART:20220327T010000
END:DAYLIGHT
BEGIN:STANDARD
TZOFFSETFROM:+0200
TZOFFSETTO:+0100
TZNAME:CET
DTSTART:20221030T010000
END:STANDARD
BEGIN:DAYLIGHT
TZOFFSETFROM:+0100
TZOFFSETTO:+0200
TZNAME:CEST
DTSTART:20230326T010000
END:DAYLIGHT
BEGIN:STANDARD
TZOFFSETFROM:+0200
TZOFFSETTO:+0100
TZNAME:CET
DTSTART:20231029T010000
END:STANDARD
END:VTIMEZONE
BEGIN:VEVENT
DTSTART;TZID=Europe/Paris:20220322T203000
DTEND;TZID=Europe/Paris:20220322T223000
DTSTAMP:20260423T142205
CREATED:20220314T103936Z
LAST-MODIFIED:20220314T104721Z
UID:12781-1647981000-1647988200@bourgogne-franche-comte.frmjc.org
SUMMARY:Festival Diversité : "Indes galantes" à Demigny
DESCRIPTION:Le Festival Diversité s’invite à Demigny avec Indes galantes de Philippe Béziat\, le Mardi 22 mars à 20h30 à la salle Jacques Copeau.\nPlongez dans la magie de la création d’un opéra à Bastille !\n\n\n  \n\nLes danseurs de la Cie TSN et du collectif Espace de rue seront présents pour une démonstration de hip hop.\n\n\n\n  \nDocumentaire de Phillipe Béziat – 2021 – 1h48.\nC’est une première pour 30 danseurs de hip-hop\, krump\, break\, voguing… Une première pour le metteur en scène Clément Cogitore et pour la chorégraphe Bintou Dembélé. Et une première pour l’Opéra de Paris. En faisant dialoguer danse urbaine et chant lyrique\, ils réinventent ensemble le chef-d’œuvre baroque de Jean-Philippe Rameau\, Les Indes Galantes. Des répétitions aux représentations publiques\, c’est une aventure humaine et une rencontre aux enjeux politiques que nous suivons : une nouvelle génération d’artistes peut-elle aujourd’hui prendre la Bastille ?\n\n\n\n  \n\nPour découvrir le programme complet du festival en Bourgogne Franche-Comté\, c’est ici 
URL:https://bourgogne-franche-comte.frmjc.org/evenement/festival-diversite-indes-galantes-a-demigny/
LOCATION:Salle Jacques Copeau\, les grandes vignes\, Demigny\, 71150\, France
CATEGORIES:Cinéma,Festival
ATTACH;FMTTYPE=image/jpeg:https://bourgogne-franche-comte.frmjc.org/wp-content/uploads/2022/03/diversitefestival.jpg
END:VEVENT
END:VCALENDAR