BEGIN:VCALENDAR
VERSION:2.0
PRODID:-//Fédération régionale des MJC Bourgogne-Franche-Comté - ECPv6.15.20//NONSGML v1.0//EN
CALSCALE:GREGORIAN
METHOD:PUBLISH
X-ORIGINAL-URL:https://bourgogne-franche-comte.frmjc.org
X-WR-CALDESC:Évènements pour Fédération régionale des MJC Bourgogne-Franche-Comté
REFRESH-INTERVAL;VALUE=DURATION:PT1H
X-Robots-Tag:noindex
X-PUBLISHED-TTL:PT1H
BEGIN:VTIMEZONE
TZID:Europe/Paris
BEGIN:DAYLIGHT
TZOFFSETFROM:+0100
TZOFFSETTO:+0200
TZNAME:CEST
DTSTART:20210328T010000
END:DAYLIGHT
BEGIN:STANDARD
TZOFFSETFROM:+0200
TZOFFSETTO:+0100
TZNAME:CET
DTSTART:20211031T010000
END:STANDARD
BEGIN:DAYLIGHT
TZOFFSETFROM:+0100
TZOFFSETTO:+0200
TZNAME:CEST
DTSTART:20220327T010000
END:DAYLIGHT
BEGIN:STANDARD
TZOFFSETFROM:+0200
TZOFFSETTO:+0100
TZNAME:CET
DTSTART:20221030T010000
END:STANDARD
BEGIN:DAYLIGHT
TZOFFSETFROM:+0100
TZOFFSETTO:+0200
TZNAME:CEST
DTSTART:20230326T010000
END:DAYLIGHT
BEGIN:STANDARD
TZOFFSETFROM:+0200
TZOFFSETTO:+0100
TZNAME:CET
DTSTART:20231029T010000
END:STANDARD
END:VTIMEZONE
BEGIN:VEVENT
DTSTART;TZID=Europe/Paris:20220226T203000
DTEND;TZID=Europe/Paris:20220226T223000
DTSTAMP:20260423T154438
CREATED:20220131T113329Z
LAST-MODIFIED:20220131T113329Z
UID:12320-1645907400-1645914600@bourgogne-franche-comte.frmjc.org
SUMMARY:Projection : Ouistreham
DESCRIPTION:Le 26 février 2022 à 20h30 à Gissey-sur-Ouche\,  Les Tourneurs de Côte-d’Or et les points de projection partenaires du circuit vous proposent de découvrir l’adaptation du célèbre roman de Florence Aubenas.\n\nDrame d’Emmanuel Carrère (2022) / 1h46\nAvec Juliette Binoche\, Hélène Lambert\, Léa Carne…\n\nMarianne Winckler\, écrivaine reconnue\, entreprend un livre sur le travail précaire. Elle s’installe près de Caen et\, sans révéler son identité\, rejoint une équipe de femmes de ménage. Confrontée à la fragilité économique et à l’invisibilité sociale\, elle découvre aussi l’entraide et la solidarité qui unissent ces travailleuses de l’ombre.\n\n\n________________________________________\n\n\nTarif normal 5.50€\nTarif réduit 4.50€\nCarte d’abonnement : 22.50€ pour 5 entrées\n Normes sanitaires en vigueur :\nPort du masque obligatoire à partir de 6 ans\nConsommation de produits alimentaires ou boissons interdits pendant la projection\nL’accès à la séance est soumis à : la présentation d’un pass sanitaire valide à partir de 12 ans et 2 mois\, d’un pass vaccinal valide à partir de 16 ans
URL:https://bourgogne-franche-comte.frmjc.org/evenement/projection-ouistreham/
LOCATION:Salle des fêtes de Gissey-sur-Ouche\, place Auguste Drouot\, GISSEY-SUR-OUCHE\, 21410\, France
CATEGORIES:Cinéma
ATTACH;FMTTYPE=image/jpeg:https://bourgogne-franche-comte.frmjc.org/wp-content/uploads/2022/01/ouistreham-e1643628719790.jpg
END:VEVENT
END:VCALENDAR