BEGIN:VCALENDAR
VERSION:2.0
PRODID:-//Fédération régionale des MJC Bourgogne-Franche-Comté - ECPv6.15.20//NONSGML v1.0//EN
CALSCALE:GREGORIAN
METHOD:PUBLISH
X-ORIGINAL-URL:https://bourgogne-franche-comte.frmjc.org
X-WR-CALDESC:Évènements pour Fédération régionale des MJC Bourgogne-Franche-Comté
REFRESH-INTERVAL;VALUE=DURATION:PT1H
X-Robots-Tag:noindex
X-PUBLISHED-TTL:PT1H
BEGIN:VTIMEZONE
TZID:Europe/Paris
BEGIN:DAYLIGHT
TZOFFSETFROM:+0100
TZOFFSETTO:+0200
TZNAME:CEST
DTSTART:20210328T010000
END:DAYLIGHT
BEGIN:STANDARD
TZOFFSETFROM:+0200
TZOFFSETTO:+0100
TZNAME:CET
DTSTART:20211031T010000
END:STANDARD
BEGIN:DAYLIGHT
TZOFFSETFROM:+0100
TZOFFSETTO:+0200
TZNAME:CEST
DTSTART:20220327T010000
END:DAYLIGHT
BEGIN:STANDARD
TZOFFSETFROM:+0200
TZOFFSETTO:+0100
TZNAME:CET
DTSTART:20221030T010000
END:STANDARD
BEGIN:DAYLIGHT
TZOFFSETFROM:+0100
TZOFFSETTO:+0200
TZNAME:CEST
DTSTART:20230326T010000
END:DAYLIGHT
BEGIN:STANDARD
TZOFFSETFROM:+0200
TZOFFSETTO:+0100
TZNAME:CET
DTSTART:20231029T010000
END:STANDARD
END:VTIMEZONE
BEGIN:VEVENT
DTSTART;TZID=Europe/Paris:20220223T140000
DTEND;TZID=Europe/Paris:20220223T160000
DTSTAMP:20260423T155225
CREATED:20220131T091701Z
LAST-MODIFIED:20220131T091701Z
UID:12251-1645624800-1645632000@bourgogne-franche-comte.frmjc.org
SUMMARY:Festival Tournez Bobines : Le peuple loup - Chenôve
DESCRIPTION:Projection dans le cadre du Festival Tournez Bobines\, en partenariat avec le Conseil départemental de Côte-d’Or.\nAvec Le Peuple Loup\, vous êtes invités à aller au delà des apparences avec au programme de l’amitié\, du suspense et de la magie ! \nFilm d’animation de Tomm Moore et Ross Stewart (2021) – Dès 8 ans\nAvec Lévanah Salomon\, Lana Ropion\, Serge Biavan…\n\nEn Irlande\, au temps des superstitions et de la magie\, Robyn\, une jeune fille de 11 ans\, aide son père à chasser la dernière meute de loups. Mais un jour\, lors d’une battue en forêt\, Robyn rencontre Mebh\, petite fille le jour\, louve la nuit. Désormais pour Robyn\, ayant rejoint elle aussi le peuple des loups\, la menace ne vient plus des loups\, mais bien des hommes !\n________________________________________\n\n\nTarif normal 3.50€\nTarif réduit 4.50€\nPass Festival enfant (2 films) : 6€\n Normes sanitaires en vigueur :\nPort du masque obligatoire à partir de 6 ans\nConsommation de produits alimentaires ou boissons interdits pendant la projection\nL’accès à la séance est soumis à : la présentation d’un pass sanitaire valide à partir de 12 ans et 2 mois\, d’un pass vaccinal valide à partir de 16 ans
URL:https://bourgogne-franche-comte.frmjc.org/evenement/festival-tournez-bobines-le-peuple-loup-chenove/
LOCATION:MJC Centre Social de Chenôve\, 7 rue de Longvic\, CHENOVE\, 21300\, France
CATEGORIES:Cinéma
ATTACH;FMTTYPE=image/jpeg:https://bourgogne-franche-comte.frmjc.org/wp-content/uploads/2022/01/lepeupleloup-e1643620237515.jpg
END:VEVENT
BEGIN:VEVENT
DTSTART;TZID=Europe/Paris:20220223T150000
DTEND;TZID=Europe/Paris:20220223T160000
DTSTAMP:20260423T155225
CREATED:20220128T151931Z
LAST-MODIFIED:20220131T092446Z
UID:12239-1645628400-1645632000@bourgogne-franche-comte.frmjc.org
SUMMARY:Festival Tournez Bobines : Princesse Dragon - Mirebeau-sur-Bèze
DESCRIPTION:Projection dans le cadre du Festival Tournez Bobines\, en partenariat avec le Conseil départemental de Côte-d’Or.\nAvec Princesse Dragon\, découvrez un hymne à l’amitié et à  la tolérance ! \nFilm d’animation de Jean-Jacques Denis et Anthony Roux (2021) – Dès 3 ans\nAvec Lila Lacombe\, Kaycie Chase\, Jérémie Covillault…\n\nPoil est une petite fille élevée par un puissant dragon. Mais lorsque son père doit payer la Sorcenouille de son deuxième bien le plus précieux\, c’est Poil qu’il offre\, plongeant sa fille dans une infinie tristesse et l’obligeant à fuir la grotte familiale. Poil se lance alors dans un voyage à la découverte du monde des hommes. À leur contact\, elle apprendra l’amitié\, la solidarité\, mais aussi la cupidité qui semble ronger le cœur des hommes.\n________________________________________\n\n\nTarif normal 3.50€\nTarif réduit 4.50€\nPass Festival enfant (2 films) : 6€\n Normes sanitaires en vigueur :\nPort du masque obligatoire à partir de 6 ans\nConsommation de produits alimentaires ou boissons interdits pendant la projection\nL’accès à la séance est soumis à : la présentation d’un pass sanitaire valide à partir de 12 ans et 2 mois\, d’un pass vaccinal valide à partir de 16 ans
URL:https://bourgogne-franche-comte.frmjc.org/evenement/festival-tournez-bobines-princesse-dragon-mirebeau-sur-beze/
LOCATION:Le forum\, 6 ter place Général Viard\, MIREBEAU-SUR-BEZE\, 21310\, France
CATEGORIES:Cinéma
ATTACH;FMTTYPE=image/jpeg:https://bourgogne-franche-comte.frmjc.org/wp-content/uploads/2022/01/princessedragon-e1643381353639.jpg
END:VEVENT
BEGIN:VEVENT
DTSTART;TZID=Europe/Paris:20220223T173000
DTEND;TZID=Europe/Paris:20220223T200000
DTSTAMP:20260423T155225
CREATED:20220131T112317Z
LAST-MODIFIED:20220131T112317Z
UID:12318-1645637400-1645646400@bourgogne-franche-comte.frmjc.org
SUMMARY:Projection : Spider-man : no way home - Mirebeau-sur-Bèze
DESCRIPTION:Du 12 au 23 février 2022\, Les Tourneurs de Côte-d’Or et les points de projection partenaires du circuit vous proposent de retrouver Spider-man pour de nouvelles aventures à couper le souffle !\n\nFilm d’action de Jon Wattss (2021) / 2h29\nAvec Tom Holland\, Zendaya\, Benedict Cumberbatch…\n\nPour la première fois dans son histoire cinématographique\, Spider-Man\, le héros sympa du quartier est démasqué et ne peut désormais plus séparer sa vie normale de ses lourdes responsabilités de super-héros. Quand il demande de l’aide à Doctor Strange\, les enjeux deviennent encore plus dangereux\, le forçant à découvrir ce qu’être Spider-Man signifie véritablement.\n\n\n________________________________________\n\n\nTarif normal 5.50€\nTarif réduit 4.50€\nCarte d’abonnement : 22.50€ pour 5 entrées\n Normes sanitaires en vigueur :\nPort du masque obligatoire à partir de 6 ans\nConsommation de produits alimentaires ou boissons interdits pendant la projection\nL’accès à la séance est soumis à : la présentation d’un pass sanitaire valide à partir de 12 ans et 2 mois\, d’un pass vaccinal valide à partir de 16 ans
URL:https://bourgogne-franche-comte.frmjc.org/evenement/projection-spider-man-no-way-home-mirebeau-sur-beze/
LOCATION:Le forum\, 6 ter place Général Viard\, MIREBEAU-SUR-BEZE\, 21310\, France
CATEGORIES:Cinéma
ATTACH;FMTTYPE=image/jpeg:https://bourgogne-franche-comte.frmjc.org/wp-content/uploads/2022/01/spiderman-e1643627585554.jpg
END:VEVENT
BEGIN:VEVENT
DTSTART;TZID=Europe/Paris:20220223T203000
DTEND;TZID=Europe/Paris:20220223T223000
DTSTAMP:20260423T155225
CREATED:20220131T102726Z
LAST-MODIFIED:20220131T102726Z
UID:12303-1645648200-1645655400@bourgogne-franche-comte.frmjc.org
SUMMARY:Projection : Adieu M. Haffmann - Mirebeau-sur-Bèze
DESCRIPTION:Du 16 février au 1er mars 2022\, Les Tourneurs de Côte-d’Or et les points de projection partenaires du circuit vous proposent un huis clos historique adapté de la pièce de Jean-Philippe Daguerre avec “Adieu M.Hafmann” !\n\nDrame de Fred Cavayé (2022) / 1h56\nAvec Daniel Auteuil\, Gilles Lellouche\, Sara Giraudeau…\n\nParis 1941. François Mercier est un homme ordinaire qui n’aspire qu’à fonder une famille avec la femme qu’il aime\, Blanche. Il est aussi l’employé d’un joaillier talentueux\, M. Haffmann. Mais face à l’occupation allemande\, les deux hommes n’auront d’autre choix que de conclure un accord dont les conséquences\, au fil des mois\, bouleverseront le destin de nos trois personnages.\n\n\n________________________________________\n\n\nTarif normal 5.50€\nTarif réduit 4.50€\nCarte d’abonnement : 22.50€ pour 5 entrées\n Normes sanitaires en vigueur :\nPort du masque obligatoire à partir de 6 ans\nConsommation de produits alimentaires ou boissons interdits pendant la projection\nL’accès à la séance est soumis à : la présentation d’un pass sanitaire valide à partir de 12 ans et 2 mois\, d’un pass vaccinal valide à partir de 16 ans
URL:https://bourgogne-franche-comte.frmjc.org/evenement/projection-adieu-m-haffmann-mirebeau-sur-beze/
LOCATION:Le forum\, 6 ter place Général Viard\, MIREBEAU-SUR-BEZE\, 21310\, France
CATEGORIES:Cinéma
ATTACH;FMTTYPE=image/jpeg:https://bourgogne-franche-comte.frmjc.org/wp-content/uploads/2022/01/adieumhaffman-e1643623286602.jpg
END:VEVENT
END:VCALENDAR