BEGIN:VCALENDAR
VERSION:2.0
PRODID:-//Fédération régionale des MJC Bourgogne-Franche-Comté - ECPv6.15.20//NONSGML v1.0//EN
CALSCALE:GREGORIAN
METHOD:PUBLISH
X-WR-CALNAME:Fédération régionale des MJC Bourgogne-Franche-Comté
X-ORIGINAL-URL:https://bourgogne-franche-comte.frmjc.org
X-WR-CALDESC:Évènements pour Fédération régionale des MJC Bourgogne-Franche-Comté
REFRESH-INTERVAL;VALUE=DURATION:PT1H
X-Robots-Tag:noindex
X-PUBLISHED-TTL:PT1H
BEGIN:VTIMEZONE
TZID:Europe/Paris
BEGIN:DAYLIGHT
TZOFFSETFROM:+0100
TZOFFSETTO:+0200
TZNAME:CEST
DTSTART:20210328T010000
END:DAYLIGHT
BEGIN:STANDARD
TZOFFSETFROM:+0200
TZOFFSETTO:+0100
TZNAME:CET
DTSTART:20211031T010000
END:STANDARD
BEGIN:DAYLIGHT
TZOFFSETFROM:+0100
TZOFFSETTO:+0200
TZNAME:CEST
DTSTART:20220327T010000
END:DAYLIGHT
BEGIN:STANDARD
TZOFFSETFROM:+0200
TZOFFSETTO:+0100
TZNAME:CET
DTSTART:20221030T010000
END:STANDARD
BEGIN:DAYLIGHT
TZOFFSETFROM:+0100
TZOFFSETTO:+0200
TZNAME:CEST
DTSTART:20230326T010000
END:DAYLIGHT
BEGIN:STANDARD
TZOFFSETFROM:+0200
TZOFFSETTO:+0100
TZNAME:CET
DTSTART:20231029T010000
END:STANDARD
END:VTIMEZONE
BEGIN:VEVENT
DTSTART;TZID=Europe/Paris:20220222T140000
DTEND;TZID=Europe/Paris:20220222T150000
DTSTAMP:20260423T154205
CREATED:20220128T150140Z
LAST-MODIFIED:20220128T150140Z
UID:12225-1645538400-1645542000@bourgogne-franche-comte.frmjc.org
SUMMARY:Festival Tournez Bobines : Princesse dragon - Chenôve
DESCRIPTION:Projection dans le cadre du Festival Tournez Bobines\, en partenariat avec le Conseil départemental de Côte-d’Or. Une deuxième séance aura lieu à 18h\, toujours à la MJC Centre Social de Chenôve.\nAvec Princesse Dragon\, découvrez un hymne à l’amitié et à  la tolérance ! \nFilm d’animation de Jean-Jacques Denis et Anthony Roux (2021) – Dès 3 ans\nAvec Lila Lacombe\, Kaycie Chase\, Jérémie Covillault…\n\nPoil est une petite fille élevée par un puissant dragon. Mais lorsque son père doit payer la Sorcenouille de son deuxième bien le plus précieux\, c’est Poil qu’il offre\, plongeant sa fille dans une infinie tristesse et l’obligeant à fuir la grotte familiale. Poil se lance alors dans un voyage à la découverte du monde des hommes. À leur contact\, elle apprendra l’amitié\, la solidarité\, mais aussi la cupidité qui semble ronger le cœur des hommes.\n________________________________________\n\n\nTarif normal 3.50€\nTarif réduit 4.50€\nPass Festival enfant (2 films) : 6€\n Normes sanitaires en vigueur :\nPort du masque obligatoire à partir de 6 ans\nConsommation de produits alimentaires ou boissons interdits pendant la projection\nL’accès à la séance est soumis à : la présentation d’un pass sanitaire valide à partir de 12 ans et 2 mois\, d’un pass vaccinal valide à partir de 16 ans
URL:https://bourgogne-franche-comte.frmjc.org/evenement/festival-tournez-bobines-princesse-dragon-chenove/
LOCATION:MJC Centre Social de Chenôve\, 7 rue de Longvic\, CHENOVE\, 21300\, France
CATEGORIES:Cinéma
ATTACH;FMTTYPE=image/jpeg:https://bourgogne-franche-comte.frmjc.org/wp-content/uploads/2022/01/princessedragon-e1643381353639.jpg
END:VEVENT
BEGIN:VEVENT
DTSTART;TZID=Europe/Paris:20220222T150000
DTEND;TZID=Europe/Paris:20220222T160000
DTSTAMP:20260423T154205
CREATED:20220128T151721Z
LAST-MODIFIED:20220131T092407Z
UID:12237-1645542000-1645545600@bourgogne-franche-comte.frmjc.org
SUMMARY:Festival Tournez Bobines : Princesse dragon - Losne
DESCRIPTION:Projection dans le cadre du Festival Tournez Bobines\, en partenariat avec le Conseil départemental de Côte-d’Or.\nAvec Princesse Dragon\, découvrez un hymne à l’amitié et à  la tolérance ! \nFilm d’animation de Jean-Jacques Denis et Anthony Roux (2021) – Dès 3 ans\nAvec Lila Lacombe\, Kaycie Chase\, Jérémie Covillault…\n\nPoil est une petite fille élevée par un puissant dragon. Mais lorsque son père doit payer la Sorcenouille de son deuxième bien le plus précieux\, c’est Poil qu’il offre\, plongeant sa fille dans une infinie tristesse et l’obligeant à fuir la grotte familiale. Poil se lance alors dans un voyage à la découverte du monde des hommes. À leur contact\, elle apprendra l’amitié\, la solidarité\, mais aussi la cupidité qui semble ronger le cœur des hommes.\n________________________________________\n\n\nTarif normal 3.50€\nTarif réduit 4.50€\nPass Festival enfant (2 films) : 6€\n Normes sanitaires en vigueur :\nPort du masque obligatoire à partir de 6 ans\nConsommation de produits alimentaires ou boissons interdits pendant la projection\nL’accès à la séance est soumis à : la présentation d’un pass sanitaire valide à partir de 12 ans et 2 mois\, d’un pass vaccinal valide à partir de 16 ans
URL:https://bourgogne-franche-comte.frmjc.org/evenement/festival-tournez-bobines-princesse-dragon-losne/
LOCATION:Salle des fêtes de Losne\, rond-point Maison Dieu\, LOSNE\, 21170
CATEGORIES:Cinéma
ATTACH;FMTTYPE=image/jpeg:https://bourgogne-franche-comte.frmjc.org/wp-content/uploads/2022/01/princessedragon-e1643381353639.jpg
END:VEVENT
BEGIN:VEVENT
DTSTART;TZID=Europe/Paris:20220222T203000
DTEND;TZID=Europe/Paris:20220222T223000
DTSTAMP:20260423T154205
CREATED:20220131T100819Z
LAST-MODIFIED:20220131T100819Z
UID:12287-1645561800-1645569000@bourgogne-franche-comte.frmjc.org
SUMMARY:Projection : Adieu M.Haffman - Chenôve
DESCRIPTION:Du 16 février au 1er mars 2022\, Les Tourneurs de Côte-d’Or et les points de projection partenaires du circuit vous proposent un huis clos historique adapté de la pièce de Jean-Philippe Daguerre avec “Adieu M.Hafmann” !\n\nDrame de Fred Cavayé (2022) / 1h56\nAvec Daniel Auteuil\, Gilles Lellouche\, Sara Giraudeau…\n\nParis 1941. François Mercier est un homme ordinaire qui n’aspire qu’à fonder une famille avec la femme qu’il aime\, Blanche. Il est aussi l’employé d’un joaillier talentueux\, M. Haffmann. Mais face à l’occupation allemande\, les deux hommes n’auront d’autre choix que de conclure un accord dont les conséquences\, au fil des mois\, bouleverseront le destin de nos trois personnages.\n\n\n________________________________________\n\n\nTarif normal 5.50€\nTarif réduit 4.50€\nCarte d’abonnement : 22.50€ pour 5 entrées\n Normes sanitaires en vigueur :\nPort du masque obligatoire à partir de 6 ans\nConsommation de produits alimentaires ou boissons interdits pendant la projection\nL’accès à la séance est soumis à : la présentation d’un pass sanitaire valide à partir de 12 ans et 2 mois\, d’un pass vaccinal valide à partir de 16 ans
URL:https://bourgogne-franche-comte.frmjc.org/evenement/projection-adieu-m-haffman-chenove/
LOCATION:MJC Centre Social de Chenôve\, 7 rue de Longvic\, CHENOVE\, 21300\, France
CATEGORIES:Cinéma
ATTACH;FMTTYPE=image/jpeg:https://bourgogne-franche-comte.frmjc.org/wp-content/uploads/2022/01/adieumhaffman-e1643623286602.jpg
END:VEVENT
BEGIN:VEVENT
DTSTART;TZID=Europe/Paris:20220222T203000
DTEND;TZID=Europe/Paris:20220222T223000
DTSTAMP:20260423T154205
CREATED:20220131T102203Z
LAST-MODIFIED:20220131T102203Z
UID:12299-1645561800-1645569000@bourgogne-franche-comte.frmjc.org
SUMMARY:Projection : Adieu M. Haffmann - Losne
DESCRIPTION:Du 16 février au 1er mars 2022\, Les Tourneurs de Côte-d’Or et les points de projection partenaires du circuit vous proposent un huis clos historique adapté de la pièce de Jean-Philippe Daguerre avec “Adieu M.Hafmann” !\n\nDrame de Fred Cavayé (2022) / 1h56\nAvec Daniel Auteuil\, Gilles Lellouche\, Sara Giraudeau…\n\nParis 1941. François Mercier est un homme ordinaire qui n’aspire qu’à fonder une famille avec la femme qu’il aime\, Blanche. Il est aussi l’employé d’un joaillier talentueux\, M. Haffmann. Mais face à l’occupation allemande\, les deux hommes n’auront d’autre choix que de conclure un accord dont les conséquences\, au fil des mois\, bouleverseront le destin de nos trois personnages.\n\n\n________________________________________\n\n\nTarif normal 5.50€\nTarif réduit 4.50€\nCarte d’abonnement : 22.50€ pour 5 entrées\n Normes sanitaires en vigueur :\nPort du masque obligatoire à partir de 6 ans\nConsommation de produits alimentaires ou boissons interdits pendant la projection\nL’accès à la séance est soumis à : la présentation d’un pass sanitaire valide à partir de 12 ans et 2 mois\, d’un pass vaccinal valide à partir de 16 ans
URL:https://bourgogne-franche-comte.frmjc.org/evenement/projection-adieu-m-haffmann-losne/
LOCATION:Salle des fêtes de Losne\, rond-point Maison Dieu\, LOSNE\, 21170
CATEGORIES:Cinéma
ATTACH;FMTTYPE=image/jpeg:https://bourgogne-franche-comte.frmjc.org/wp-content/uploads/2022/01/adieumhaffman-e1643623286602.jpg
END:VEVENT
END:VCALENDAR