BEGIN:VCALENDAR
VERSION:2.0
PRODID:-//Fédération régionale des MJC Bourgogne-Franche-Comté - ECPv6.15.20//NONSGML v1.0//EN
CALSCALE:GREGORIAN
METHOD:PUBLISH
X-WR-CALNAME:Fédération régionale des MJC Bourgogne-Franche-Comté
X-ORIGINAL-URL:https://bourgogne-franche-comte.frmjc.org
X-WR-CALDESC:Évènements pour Fédération régionale des MJC Bourgogne-Franche-Comté
REFRESH-INTERVAL;VALUE=DURATION:PT1H
X-Robots-Tag:noindex
X-PUBLISHED-TTL:PT1H
BEGIN:VTIMEZONE
TZID:Europe/Paris
BEGIN:DAYLIGHT
TZOFFSETFROM:+0100
TZOFFSETTO:+0200
TZNAME:CEST
DTSTART:20210328T010000
END:DAYLIGHT
BEGIN:STANDARD
TZOFFSETFROM:+0200
TZOFFSETTO:+0100
TZNAME:CET
DTSTART:20211031T010000
END:STANDARD
BEGIN:DAYLIGHT
TZOFFSETFROM:+0100
TZOFFSETTO:+0200
TZNAME:CEST
DTSTART:20220327T010000
END:DAYLIGHT
BEGIN:STANDARD
TZOFFSETFROM:+0200
TZOFFSETTO:+0100
TZNAME:CET
DTSTART:20221030T010000
END:STANDARD
BEGIN:DAYLIGHT
TZOFFSETFROM:+0100
TZOFFSETTO:+0200
TZNAME:CEST
DTSTART:20230326T010000
END:DAYLIGHT
BEGIN:STANDARD
TZOFFSETFROM:+0200
TZOFFSETTO:+0100
TZNAME:CET
DTSTART:20231029T010000
END:STANDARD
END:VTIMEZONE
BEGIN:VEVENT
DTSTART;TZID=Europe/Paris:20220215T143000
DTEND;TZID=Europe/Paris:20220215T153000
DTSTAMP:20260423T154201
CREATED:20220128T150814Z
LAST-MODIFIED:20220128T150814Z
UID:12229-1644935400-1644939000@bourgogne-franche-comte.frmjc.org
SUMMARY:Festival Tournez Bobines : Princesse Dragon - Demigny
DESCRIPTION:Projection dans le cadre du Festival Tournez Bobines\, en partenariat avec le Conseil départemental de Côte-d’Or.\nAvec Princesse Dragon\, découvrez un hymne à l’amitié et à  la tolérance ! \nFilm d’animation de Jean-Jacques Denis et Anthony Roux (2021) – Dès 3 ans\nAvec Lila Lacombe\, Kaycie Chase\, Jérémie Covillault…\n\nPoil est une petite fille élevée par un puissant dragon. Mais lorsque son père doit payer la Sorcenouille de son deuxième bien le plus précieux\, c’est Poil qu’il offre\, plongeant sa fille dans une infinie tristesse et l’obligeant à fuir la grotte familiale. Poil se lance alors dans un voyage à la découverte du monde des hommes. À leur contact\, elle apprendra l’amitié\, la solidarité\, mais aussi la cupidité qui semble ronger le cœur des hommes.\n________________________________________\n\n\nTarif normal 3.50€\nTarif réduit 4.50€\nPass Festival enfant (2 films) : 6€\n Normes sanitaires en vigueur :\nPort du masque obligatoire à partir de 6 ans\nConsommation de produits alimentaires ou boissons interdits pendant la projection\nL’accès à la séance est soumis à : la présentation d’un pass sanitaire valide à partir de 12 ans et 2 mois\, d’un pass vaccinal valide à partir de 16 ans
URL:https://bourgogne-franche-comte.frmjc.org/evenement/festival-tournez-bobines-princesse-dragon-demigny/
LOCATION:Salle Guimet\, Place du 11 novembre\, DEMIGNY\, 71150\, France
CATEGORIES:Cinéma
ATTACH;FMTTYPE=image/jpeg:https://bourgogne-franche-comte.frmjc.org/wp-content/uploads/2022/01/princessedragon-e1643381353639.jpg
END:VEVENT
BEGIN:VEVENT
DTSTART;TZID=Europe/Paris:20220215T150000
DTEND;TZID=Europe/Paris:20220215T170000
DTSTAMP:20260423T154201
CREATED:20220131T093602Z
LAST-MODIFIED:20220131T093602Z
UID:12270-1644937200-1644944400@bourgogne-franche-comte.frmjc.org
SUMMARY:Festival Tournez Bobines : Le peuple loup - Nolay
DESCRIPTION:Projection dans le cadre du Festival Tournez Bobines\, en partenariat avec le Conseil départemental de Côte-d’Or.\nAvec Le Peuple Loup\, vous êtes invités à aller au delà des apparences avec au programme de l’amitié\, du suspense et de la magie ! \nFilm d’animation de Tomm Moore et Ross Stewart (2021) – Dès 8 ans\nAvec Lévanah Salomon\, Lana Ropion\, Serge Biavan…\n\nEn Irlande\, au temps des superstitions et de la magie\, Robyn\, une jeune fille de 11 ans\, aide son père à chasser la dernière meute de loups. Mais un jour\, lors d’une battue en forêt\, Robyn rencontre Mebh\, petite fille le jour\, louve la nuit. Désormais pour Robyn\, ayant rejoint elle aussi le peuple des loups\, la menace ne vient plus des loups\, mais bien des hommes !\n________________________________________\n\n\nTarif normal 3.50€\nTarif réduit 4.50€\nPass Festival enfant (2 films) : 6€\n Normes sanitaires en vigueur :\nPort du masque obligatoire à partir de 6 ans\nConsommation de produits alimentaires ou boissons interdits pendant la projection\nL’accès à la séance est soumis à : la présentation d’un pass sanitaire valide à partir de 12 ans et 2 mois\, d’un pass vaccinal valide à partir de 16 ans
URL:https://bourgogne-franche-comte.frmjc.org/evenement/festival-tournez-bobines-le-peuple-loup-nolay/
LOCATION:Salle Boivin\, route d'Autun\, NOLAY\, 21240
CATEGORIES:Cinéma
ATTACH;FMTTYPE=image/jpeg:https://bourgogne-franche-comte.frmjc.org/wp-content/uploads/2022/01/lepeupleloup-e1643620237515.jpg
END:VEVENT
BEGIN:VEVENT
DTSTART;TZID=Europe/Paris:20220215T203000
DTEND;TZID=Europe/Paris:20220215T220000
DTSTAMP:20260423T154201
CREATED:20220127T144134Z
LAST-MODIFIED:20220127T144134Z
UID:12193-1644957000-1644962400@bourgogne-franche-comte.frmjc.org
SUMMARY:Projection : En attendant Bojangles - Marsannay-la-Côte
DESCRIPTION:Du 2 au 15 février\, Les Tourneurs de Côte-d’Or et les points de projection partenaires du circuit vous proposent de découvrir une adaptation du roman éponyme d’Olivier Bourdeaut !\nComédie dramatique (2022) / 2h05\nAvec Virginie Efira\, Romain Duris\, Solan Machado-Graner…\n\nCamille et Georges dansent tout le temps sur leur chanson préférée Mr Bojangles. Chez eux\, il n’y a de place que pour le plaisir\, la fantaisie et les amis. Jusqu’au jour où la mère va trop loin\, contraignant Georges et leur fils Gary à tout faire pour éviter l’inéluctable coûte que coûte.\n________________________________________\n\n\nTarif normal 5.50€\nTarif réduit 4.50€\nCarte d’abonnement : 22.50€ pour 5 entrées\n Normes sanitaires en vigueur :\nPort du masque obligatoire à partir de 6 ans\nConsommation de produits alimentaires ou boissons interdits pendant la projection\nL’accès à la séance est soumis à : la présentation d’un pass sanitaire valide à partir de 12 ans et 2 mois\, d’un pass vaccinal valide à partir de 16 ans
URL:https://bourgogne-franche-comte.frmjc.org/evenement/projection-en-attendant-bojangles-marsannay-la-cote/
LOCATION:Maison de Marsannay\, Route des grands crus\, MARSANNAY-LA-COTE\, 21160\, France
CATEGORIES:Cinéma
ATTACH;FMTTYPE=image/jpeg:https://bourgogne-franche-comte.frmjc.org/wp-content/uploads/2022/01/enattendantbojangles-e1643293415243.jpg
END:VEVENT
BEGIN:VEVENT
DTSTART;TZID=Europe/Paris:20220215T203000
DTEND;TZID=Europe/Paris:20220215T223000
DTSTAMP:20260423T154201
CREATED:20220127T142501Z
LAST-MODIFIED:20220127T142717Z
UID:12181-1644957000-1644964200@bourgogne-franche-comte.frmjc.org
SUMMARY:Projection : En attendant Bojangles - Arnay-le-Duc
DESCRIPTION:Du 2 au 15 février\, Les Tourneurs de Côte-d’Or et les points de projection partenaires du circuit vous proposent de découvrir une adaptation du roman éponyme d’Olivier Bourdeaut !\nComédie dramatique (2022) / 2h05\nAvec Virginie Efira\, Romain Duris\, Solan Machado-Graner…\n\nCamille et Georges dansent tout le temps sur leur chanson préférée Mr Bojangles. Chez eux\, il n’y a de place que pour le plaisir\, la fantaisie et les amis. Jusqu’au jour où la mère va trop loin\, contraignant Georges et leur fils Gary à tout faire pour éviter l’inéluctable coûte que coûte.\n________________________________________\n\n\nTarif normal 5.50€\nTarif réduit 4.50€\nCarte d’abonnement : 22.50€ pour 5 entrées\n Normes sanitaires en vigueur :\nPort du masque obligatoire à partir de 6 ans\nConsommation de produits alimentaires ou boissons interdits pendant la projection\nL’accès à la séance est soumis à : la présentation d’un pass sanitaire valide à partir de 12 ans et 2 mois\, d’un pass vaccinal valide à partir de 16 ans
URL:https://bourgogne-franche-comte.frmjc.org/evenement/projection-en-attendant-bojangles/
LOCATION:Café du Nord\, 12 place Bonaventure des Périers\, ARNAY-LE-DUC\, 21230\, France
CATEGORIES:Cinéma
ATTACH;FMTTYPE=image/jpeg:https://bourgogne-franche-comte.frmjc.org/wp-content/uploads/2022/01/enattendantbojangles-e1643293415243.jpg
END:VEVENT
END:VCALENDAR