BEGIN:VCALENDAR
VERSION:2.0
PRODID:-//Fédération régionale des MJC Bourgogne-Franche-Comté - ECPv6.15.20//NONSGML v1.0//EN
CALSCALE:GREGORIAN
METHOD:PUBLISH
X-ORIGINAL-URL:https://bourgogne-franche-comte.frmjc.org
X-WR-CALDESC:Évènements pour Fédération régionale des MJC Bourgogne-Franche-Comté
REFRESH-INTERVAL;VALUE=DURATION:PT1H
X-Robots-Tag:noindex
X-PUBLISHED-TTL:PT1H
BEGIN:VTIMEZONE
TZID:Europe/Paris
BEGIN:DAYLIGHT
TZOFFSETFROM:+0100
TZOFFSETTO:+0200
TZNAME:CEST
DTSTART:20210328T010000
END:DAYLIGHT
BEGIN:STANDARD
TZOFFSETFROM:+0200
TZOFFSETTO:+0100
TZNAME:CET
DTSTART:20211031T010000
END:STANDARD
BEGIN:DAYLIGHT
TZOFFSETFROM:+0100
TZOFFSETTO:+0200
TZNAME:CEST
DTSTART:20220327T010000
END:DAYLIGHT
BEGIN:STANDARD
TZOFFSETFROM:+0200
TZOFFSETTO:+0100
TZNAME:CET
DTSTART:20221030T010000
END:STANDARD
BEGIN:DAYLIGHT
TZOFFSETFROM:+0100
TZOFFSETTO:+0200
TZNAME:CEST
DTSTART:20230326T010000
END:DAYLIGHT
BEGIN:STANDARD
TZOFFSETFROM:+0200
TZOFFSETTO:+0100
TZNAME:CET
DTSTART:20231029T010000
END:STANDARD
END:VTIMEZONE
BEGIN:VEVENT
DTSTART;TZID=Europe/Paris:20220209T140000
DTEND;TZID=Europe/Paris:20220209T160000
DTSTAMP:20260423T154335
CREATED:20220127T143602Z
LAST-MODIFIED:20220127T143602Z
UID:12189-1644415200-1644422400@bourgogne-franche-comte.frmjc.org
SUMMARY:Projection : En attendant Bojangles - Chenôve
DESCRIPTION:Du 2 au 15 février\, Les Tourneurs de Côte-d’Or et les points de projection partenaires du circuit vous proposent de découvrir une adaptation du roman éponyme d’Olivier Bourdeaut !\nComédie dramatique (2022) / 2h05\nAvec Virginie Efira\, Romain Duris\, Solan Machado-Graner…\n\nCamille et Georges dansent tout le temps sur leur chanson préférée Mr Bojangles. Chez eux\, il n’y a de place que pour le plaisir\, la fantaisie et les amis. Jusqu’au jour où la mère va trop loin\, contraignant Georges et leur fils Gary à tout faire pour éviter l’inéluctable coûte que coûte.\n________________________________________\n\n\nTarif normal 5.50€\nTarif réduit 4.50€\nCarte d’abonnement : 22.50€ pour 5 entrées\n Normes sanitaires en vigueur :\nPort du masque obligatoire à partir de 6 ans\nConsommation de produits alimentaires ou boissons interdits pendant la projection\nL’accès à la séance est soumis à : la présentation d’un pass sanitaire valide à partir de 12 ans et 2 mois\, d’un pass vaccinal valide à partir de 16 ans
URL:https://bourgogne-franche-comte.frmjc.org/evenement/projection-en-attendant-bojangles-chenove-2/
LOCATION:MJC Centre Social de Chenôve\, 7 rue de Longvic\, CHENOVE\, 21300\, France
CATEGORIES:Cinéma
ATTACH;FMTTYPE=image/jpeg:https://bourgogne-franche-comte.frmjc.org/wp-content/uploads/2022/01/enattendantbojangles-e1643293415243.jpg
END:VEVENT
BEGIN:VEVENT
DTSTART;TZID=Europe/Paris:20220209T150000
DTEND;TZID=Europe/Paris:20220209T170000
DTSTAMP:20260423T154335
CREATED:20220131T093103Z
LAST-MODIFIED:20220131T093103Z
UID:12266-1644418800-1644426000@bourgogne-franche-comte.frmjc.org
SUMMARY:Festival Tournez Bobines : Le peuple loup - Is-sur-Tille
DESCRIPTION:Projection dans le cadre du Festival Tournez Bobines\, en partenariat avec le Conseil départemental de Côte-d’Or.\nAvec Le Peuple Loup\, vous êtes invités à aller au delà des apparences avec au programme de l’amitié\, du suspense et de la magie ! \nFilm d’animation de Tomm Moore et Ross Stewart (2021) – Dès 8 ans\nAvec Lévanah Salomon\, Lana Ropion\, Serge Biavan…\n\nEn Irlande\, au temps des superstitions et de la magie\, Robyn\, une jeune fille de 11 ans\, aide son père à chasser la dernière meute de loups. Mais un jour\, lors d’une battue en forêt\, Robyn rencontre Mebh\, petite fille le jour\, louve la nuit. Désormais pour Robyn\, ayant rejoint elle aussi le peuple des loups\, la menace ne vient plus des loups\, mais bien des hommes !\n________________________________________\n\n\nTarif normal 3.50€\nTarif réduit 4.50€\nPass Festival enfant (2 films) : 6€\n Normes sanitaires en vigueur :\nPort du masque obligatoire à partir de 6 ans\nConsommation de produits alimentaires ou boissons interdits pendant la projection\nL’accès à la séance est soumis à : la présentation d’un pass sanitaire valide à partir de 12 ans et 2 mois\, d’un pass vaccinal valide à partir de 16 ans
URL:https://bourgogne-franche-comte.frmjc.org/evenement/festival-tournez-bobines-le-peuple-loup-is-sur-tille/
LOCATION:Salle des capucins\, 2 rue Gambetta\, IS-SUR-TILLE\, 21120\, France
CATEGORIES:Cinéma
ATTACH;FMTTYPE=image/jpeg:https://bourgogne-franche-comte.frmjc.org/wp-content/uploads/2022/01/lepeupleloup-e1643620237515.jpg
END:VEVENT
BEGIN:VEVENT
DTSTART;TZID=Europe/Paris:20220209T203000
DTEND;TZID=Europe/Paris:20220209T223000
DTSTAMP:20260423T154335
CREATED:20220127T144406Z
LAST-MODIFIED:20220127T144406Z
UID:12195-1644438600-1644445800@bourgogne-franche-comte.frmjc.org
SUMMARY:Projection : En attendant Bojangles - Mirebeau-sur-Bèze
DESCRIPTION:Du 2 au 15 février\, Les Tourneurs de Côte-d’Or et les points de projection partenaires du circuit vous proposent de découvrir une adaptation du roman éponyme d’Olivier Bourdeaut !\nComédie dramatique (2022) / 2h05\nAvec Virginie Efira\, Romain Duris\, Solan Machado-Graner…\n\nCamille et Georges dansent tout le temps sur leur chanson préférée Mr Bojangles. Chez eux\, il n’y a de place que pour le plaisir\, la fantaisie et les amis. Jusqu’au jour où la mère va trop loin\, contraignant Georges et leur fils Gary à tout faire pour éviter l’inéluctable coûte que coûte.\n________________________________________\n\n\nTarif normal 5.50€\nTarif réduit 4.50€\nCarte d’abonnement : 22.50€ pour 5 entrées\n Normes sanitaires en vigueur :\nPort du masque obligatoire à partir de 6 ans\nConsommation de produits alimentaires ou boissons interdits pendant la projection\nL’accès à la séance est soumis à : la présentation d’un pass sanitaire valide à partir de 12 ans et 2 mois\, d’un pass vaccinal valide à partir de 16 ans
URL:https://bourgogne-franche-comte.frmjc.org/evenement/projection-en-attendant-bojangles-mirebeau-sur-beze/
LOCATION:Le forum\, 6 ter place Général Viard\, MIREBEAU-SUR-BEZE\, 21310\, France
CATEGORIES:Cinéma
ATTACH;FMTTYPE=image/jpeg:https://bourgogne-franche-comte.frmjc.org/wp-content/uploads/2022/01/enattendantbojangles-e1643293415243.jpg
END:VEVENT
END:VCALENDAR