BEGIN:VCALENDAR
VERSION:2.0
PRODID:-//Fédération régionale des MJC Bourgogne-Franche-Comté - ECPv6.15.20//NONSGML v1.0//EN
CALSCALE:GREGORIAN
METHOD:PUBLISH
X-ORIGINAL-URL:https://bourgogne-franche-comte.frmjc.org
X-WR-CALDESC:Évènements pour Fédération régionale des MJC Bourgogne-Franche-Comté
REFRESH-INTERVAL;VALUE=DURATION:PT1H
X-Robots-Tag:noindex
X-PUBLISHED-TTL:PT1H
BEGIN:VTIMEZONE
TZID:Europe/Paris
BEGIN:DAYLIGHT
TZOFFSETFROM:+0100
TZOFFSETTO:+0200
TZNAME:CEST
DTSTART:20210328T010000
END:DAYLIGHT
BEGIN:STANDARD
TZOFFSETFROM:+0200
TZOFFSETTO:+0100
TZNAME:CET
DTSTART:20211031T010000
END:STANDARD
BEGIN:DAYLIGHT
TZOFFSETFROM:+0100
TZOFFSETTO:+0200
TZNAME:CEST
DTSTART:20220327T010000
END:DAYLIGHT
BEGIN:STANDARD
TZOFFSETFROM:+0200
TZOFFSETTO:+0100
TZNAME:CET
DTSTART:20221030T010000
END:STANDARD
BEGIN:DAYLIGHT
TZOFFSETFROM:+0100
TZOFFSETTO:+0200
TZNAME:CEST
DTSTART:20230326T010000
END:DAYLIGHT
BEGIN:STANDARD
TZOFFSETFROM:+0200
TZOFFSETTO:+0100
TZNAME:CET
DTSTART:20231029T010000
END:STANDARD
END:VTIMEZONE
BEGIN:VEVENT
DTSTART;TZID=Europe/Paris:20220208T190000
DTEND;TZID=Europe/Paris:20220208T210000
DTSTAMP:20260423T153527
CREATED:20220207T091600Z
LAST-MODIFIED:20220207T091755Z
UID:12353-1644346800-1644354000@bourgogne-franche-comte.frmjc.org
SUMMARY:Projection - discussion : "Aube dorée\, l'affaire de tous"
DESCRIPTION:Sur la montée du fascisme en Europe. Projection-discussion en présence des réalisateurs. \n 
URL:https://bourgogne-franche-comte.frmjc.org/evenement/projection-discussion-aube-doree-laffaire-de-tous/
LOCATION:Maison-phare\, 2 allée de Grenoble\, DIJON\, 21000
CATEGORIES:Ciné-débat
ATTACH;FMTTYPE=image/jpeg:https://bourgogne-franche-comte.frmjc.org/wp-content/uploads/2022/02/aubedoree.jpg
END:VEVENT
BEGIN:VEVENT
DTSTART;TZID=Europe/Paris:20220208T203000
DTEND;TZID=Europe/Paris:20220208T220000
DTSTAMP:20260423T153527
CREATED:20220127T150234Z
LAST-MODIFIED:20220127T150234Z
UID:12206-1644352200-1644357600@bourgogne-franche-comte.frmjc.org
SUMMARY:Projection : Mystère - Losne
DESCRIPTION:Du 2 au 15 février\, Les Tourneurs de Côte-d’Or et les points de projection partenaires du circuit vous proposent de découvrir un film simple et touchant adapté d’une histoire vraie avec “Mystère” de Denis Imbert !\nFilm d’aventure\, famille (2021) / 1h23 – dès 6 ans\nAvec Vincent Elbaz\, Shanna Keil\, Marie Gillain…\n\nStéphane décide d’emménager dans les belles montagnes du Cantal afin de renouer avec sa fille de 8 ans\, Victoria\, mutique depuis la disparition de sa maman. Lors d’une promenade en forêt\, un berger confie à Victoria un chiot nommé « Mystère » qui va petit-à-petit lui redonner goût à la vie. Mais très vite\, Stéphane découvre que l’animal est en réalité un loup… Malgré les mises en garde et le danger de cette situation\, il ne peut se résoudre à séparer sa fille de cette boule de poils d’apparence inoffensive.\n________________________________________\n\n\nTarif normal 5.50€\nTarif réduit 4.50€\nCarte d’abonnement : 22.50€ pour 5 entrées\n Normes sanitaires en vigueur :\nPort du masque obligatoire à partir de 6 ans\nConsommation de produits alimentaires ou boissons interdits pendant la projection\nL’accès à la séance est soumis à : la présentation d’un pass sanitaire valide à partir de 12 ans et 2 mois\, d’un pass vaccinal valide à partir de 16 ans
URL:https://bourgogne-franche-comte.frmjc.org/evenement/projection-mystere-losne/
LOCATION:Salle des fêtes de Losne\, rond-point Maison Dieu\, LOSNE\, 21170
CATEGORIES:Cinéma
ATTACH;FMTTYPE=image/jpeg:https://bourgogne-franche-comte.frmjc.org/wp-content/uploads/2022/01/mystere-e1643295270946.jpg
END:VEVENT
BEGIN:VEVENT
DTSTART;TZID=Europe/Paris:20220208T203000
DTEND;TZID=Europe/Paris:20220208T223000
DTSTAMP:20260423T153527
CREATED:20220127T143318Z
LAST-MODIFIED:20220127T143318Z
UID:12187-1644352200-1644359400@bourgogne-franche-comte.frmjc.org
SUMMARY:Projection : En attendant Bojangles - Chenôve
DESCRIPTION:Du 2 au 15 février\, Les Tourneurs de Côte-d’Or et les points de projection partenaires du circuit vous proposent de découvrir une adaptation du roman éponyme d’Olivier Bourdeaut !\nComédie dramatique (2022) / 2h05\nAvec Virginie Efira\, Romain Duris\, Solan Machado-Graner…\n\nCamille et Georges dansent tout le temps sur leur chanson préférée Mr Bojangles. Chez eux\, il n’y a de place que pour le plaisir\, la fantaisie et les amis. Jusqu’au jour où la mère va trop loin\, contraignant Georges et leur fils Gary à tout faire pour éviter l’inéluctable coûte que coûte.\n________________________________________\n\n\nTarif normal 5.50€\nTarif réduit 4.50€\nCarte d’abonnement : 22.50€ pour 5 entrées\n Normes sanitaires en vigueur :\nPort du masque obligatoire à partir de 6 ans\nConsommation de produits alimentaires ou boissons interdits pendant la projection\nL’accès à la séance est soumis à : la présentation d’un pass sanitaire valide à partir de 12 ans et 2 mois\, d’un pass vaccinal valide à partir de 16 ans
URL:https://bourgogne-franche-comte.frmjc.org/evenement/projection-en-attendant-bojangles-chenove/
LOCATION:MJC Centre Social de Chenôve\, 7 rue de Longvic\, CHENOVE\, 21300\, France
CATEGORIES:Cinéma
ATTACH;FMTTYPE=image/jpeg:https://bourgogne-franche-comte.frmjc.org/wp-content/uploads/2022/01/enattendantbojangles-e1643293415243.jpg
END:VEVENT
END:VCALENDAR