BEGIN:VCALENDAR
VERSION:2.0
PRODID:-//Fédération régionale des MJC Bourgogne-Franche-Comté - ECPv6.15.20//NONSGML v1.0//EN
CALSCALE:GREGORIAN
METHOD:PUBLISH
X-ORIGINAL-URL:https://bourgogne-franche-comte.frmjc.org
X-WR-CALDESC:Évènements pour Fédération régionale des MJC Bourgogne-Franche-Comté
REFRESH-INTERVAL;VALUE=DURATION:PT1H
X-Robots-Tag:noindex
X-PUBLISHED-TTL:PT1H
BEGIN:VTIMEZONE
TZID:Europe/Paris
BEGIN:DAYLIGHT
TZOFFSETFROM:+0100
TZOFFSETTO:+0200
TZNAME:CEST
DTSTART:20210328T010000
END:DAYLIGHT
BEGIN:STANDARD
TZOFFSETFROM:+0200
TZOFFSETTO:+0100
TZNAME:CET
DTSTART:20211031T010000
END:STANDARD
BEGIN:DAYLIGHT
TZOFFSETFROM:+0100
TZOFFSETTO:+0200
TZNAME:CEST
DTSTART:20220327T010000
END:DAYLIGHT
BEGIN:STANDARD
TZOFFSETFROM:+0200
TZOFFSETTO:+0100
TZNAME:CET
DTSTART:20221030T010000
END:STANDARD
BEGIN:DAYLIGHT
TZOFFSETFROM:+0100
TZOFFSETTO:+0200
TZNAME:CEST
DTSTART:20230326T010000
END:DAYLIGHT
BEGIN:STANDARD
TZOFFSETFROM:+0200
TZOFFSETTO:+0100
TZNAME:CET
DTSTART:20231029T010000
END:STANDARD
END:VTIMEZONE
BEGIN:VEVENT
DTSTART;TZID=Europe/Paris:20220207T203000
DTEND;TZID=Europe/Paris:20220207T223000
DTSTAMP:20260423T153525
CREATED:20220127T143051Z
LAST-MODIFIED:20220127T143051Z
UID:12184-1644265800-1644273000@bourgogne-franche-comte.frmjc.org
SUMMARY:Projection : En attendant Bojangles - Bligny-sur-Ouche
DESCRIPTION:Du 2 au 15 février\, Les Tourneurs de Côte-d’Or et les points de projection partenaires du circuit vous proposent de découvrir une adaptation du roman éponyme d’Olivier Bourdeaut !\nComédie dramatique (2022) / 2h05\nAvec Virginie Efira\, Romain Duris\, Solan Machado-Graner…\n\nCamille et Georges dansent tout le temps sur leur chanson préférée Mr Bojangles. Chez eux\, il n’y a de place que pour le plaisir\, la fantaisie et les amis. Jusqu’au jour où la mère va trop loin\, contraignant Georges et leur fils Gary à tout faire pour éviter l’inéluctable coûte que coûte.\n________________________________________\n\n\nTarif normal 5.50€\nTarif réduit 4.50€\nCarte d’abonnement : 22.50€ pour 5 entrées\n Normes sanitaires en vigueur :\nPort du masque obligatoire à partir de 6 ans\nConsommation de produits alimentaires ou boissons interdits pendant la projection\nL’accès à la séance est soumis à : la présentation d’un pass sanitaire valide à partir de 12 ans et 2 mois\, d’un pass vaccinal valide à partir de 16 ans
URL:https://bourgogne-franche-comte.frmjc.org/evenement/projection-en-attendant-bojangles-bligny-sur-ouche/
LOCATION:Salle des fêtes – Blginy-sur-Ouche
CATEGORIES:Cinéma
ATTACH;FMTTYPE=image/jpeg:https://bourgogne-franche-comte.frmjc.org/wp-content/uploads/2022/01/enattendantbojangles-e1643293415243.jpg
END:VEVENT
END:VCALENDAR