BEGIN:VCALENDAR
VERSION:2.0
PRODID:-//Fédération régionale des MJC Bourgogne-Franche-Comté - ECPv6.15.20//NONSGML v1.0//EN
CALSCALE:GREGORIAN
METHOD:PUBLISH
X-ORIGINAL-URL:https://bourgogne-franche-comte.frmjc.org
X-WR-CALDESC:Évènements pour Fédération régionale des MJC Bourgogne-Franche-Comté
REFRESH-INTERVAL;VALUE=DURATION:PT1H
X-Robots-Tag:noindex
X-PUBLISHED-TTL:PT1H
BEGIN:VTIMEZONE
TZID:Europe/Paris
BEGIN:DAYLIGHT
TZOFFSETFROM:+0100
TZOFFSETTO:+0200
TZNAME:CEST
DTSTART:20210328T010000
END:DAYLIGHT
BEGIN:STANDARD
TZOFFSETFROM:+0200
TZOFFSETTO:+0100
TZNAME:CET
DTSTART:20211031T010000
END:STANDARD
BEGIN:DAYLIGHT
TZOFFSETFROM:+0100
TZOFFSETTO:+0200
TZNAME:CEST
DTSTART:20220327T010000
END:DAYLIGHT
BEGIN:STANDARD
TZOFFSETFROM:+0200
TZOFFSETTO:+0100
TZNAME:CET
DTSTART:20221030T010000
END:STANDARD
BEGIN:DAYLIGHT
TZOFFSETFROM:+0100
TZOFFSETTO:+0200
TZNAME:CEST
DTSTART:20230326T010000
END:DAYLIGHT
BEGIN:STANDARD
TZOFFSETFROM:+0200
TZOFFSETTO:+0100
TZNAME:CET
DTSTART:20231029T010000
END:STANDARD
END:VTIMEZONE
BEGIN:VEVENT
DTSTART;TZID=Europe/Paris:20220203T203000
DTEND;TZID=Europe/Paris:20220203T220000
DTSTAMP:20260423T154434
CREATED:20220127T145448Z
LAST-MODIFIED:20220127T145448Z
UID:12199-1643920200-1643925600@bourgogne-franche-comte.frmjc.org
SUMMARY:Projection : Mystère - Grancey-le-Château
DESCRIPTION:Du 2 au 15 février\, Les Tourneurs de Côte-d’Or et les points de projection partenaires du circuit vous proposent de découvrir un film simple et touchant adapté d’une histoire vraie avec “Mystère” de Denis Imbert !\nFilm d’aventure\, famille (2021) / 1h23 – dès 6 ans\nAvec Vincent Elbaz\, Shanna Keil\, Marie Gillain…\n\nStéphane décide d’emménager dans les belles montagnes du Cantal afin de renouer avec sa fille de 8 ans\, Victoria\, mutique depuis la disparition de sa maman. Lors d’une promenade en forêt\, un berger confie à Victoria un chiot nommé « Mystère » qui va petit-à-petit lui redonner goût à la vie. Mais très vite\, Stéphane découvre que l’animal est en réalité un loup… Malgré les mises en garde et le danger de cette situation\, il ne peut se résoudre à séparer sa fille de cette boule de poils d’apparence inoffensive.\n________________________________________\n\n\nTarif normal 5.50€\nTarif réduit 4.50€\nCarte d’abonnement : 22.50€ pour 5 entrées\n Normes sanitaires en vigueur :\nPort du masque obligatoire à partir de 6 ans\nConsommation de produits alimentaires ou boissons interdits pendant la projection\nL’accès à la séance est soumis à : la présentation d’un pass sanitaire valide à partir de 12 ans et 2 mois\, d’un pass vaccinal valide à partir de 16 ans
URL:https://bourgogne-franche-comte.frmjc.org/evenement/projection-mystere-grancey-le-chateau/
LOCATION:Salle de la mairie de Grancey-le-Château\, place des halles\, GRANCEY-LE-CHATEAU\, 21580\, France
CATEGORIES:Cinéma
ATTACH;FMTTYPE=image/jpeg:https://bourgogne-franche-comte.frmjc.org/wp-content/uploads/2022/01/mystere-e1643295270946.jpg
END:VEVENT
BEGIN:VEVENT
DTSTART;TZID=Europe/Paris:20220203T203000
DTEND;TZID=Europe/Paris:20220203T220000
DTSTAMP:20260423T154434
CREATED:20220127T150702Z
LAST-MODIFIED:20220127T150702Z
UID:12210-1643920200-1643925600@bourgogne-franche-comte.frmjc.org
SUMMARY:Projection : Mystère - Ste-Colombe-sur-Seine
DESCRIPTION:Du 2 au 15 février\, Les Tourneurs de Côte-d’Or et les points de projection partenaires du circuit vous proposent de découvrir un film simple et touchant adapté d’une histoire vraie avec “Mystère” de Denis Imbert !\nFilm d’aventure\, famille (2021) / 1h23 – dès 6 ans\nAvec Vincent Elbaz\, Shanna Keil\, Marie Gillain…\n\nStéphane décide d’emménager dans les belles montagnes du Cantal afin de renouer avec sa fille de 8 ans\, Victoria\, mutique depuis la disparition de sa maman. Lors d’une promenade en forêt\, un berger confie à Victoria un chiot nommé « Mystère » qui va petit-à-petit lui redonner goût à la vie. Mais très vite\, Stéphane découvre que l’animal est en réalité un loup… Malgré les mises en garde et le danger de cette situation\, il ne peut se résoudre à séparer sa fille de cette boule de poils d’apparence inoffensive.\n________________________________________\n\n\nTarif normal 5.50€\nTarif réduit 4.50€\nCarte d’abonnement : 22.50€ pour 5 entrées\n Normes sanitaires en vigueur :\nPort du masque obligatoire à partir de 6 ans\nConsommation de produits alimentaires ou boissons interdits pendant la projection\nL’accès à la séance est soumis à : la présentation d’un pass sanitaire valide à partir de 12 ans et 2 mois\, d’un pass vaccinal valide à partir de 16 ans
URL:https://bourgogne-franche-comte.frmjc.org/evenement/projection-mystere-ste-colombe-sur-seine/
LOCATION:Salle des fêtes de Sainte-Colombe-sur-Seine\, rue des ponts\, SAINTE-COLOMBE-SUR-SEINE\, 21400\, France
CATEGORIES:Cinéma
ATTACH;FMTTYPE=image/jpeg:https://bourgogne-franche-comte.frmjc.org/wp-content/uploads/2022/01/mystere-e1643295270946.jpg
END:VEVENT
END:VCALENDAR