BEGIN:VCALENDAR
VERSION:2.0
PRODID:-//Fédération régionale des MJC Bourgogne-Franche-Comté - ECPv6.15.20//NONSGML v1.0//EN
CALSCALE:GREGORIAN
METHOD:PUBLISH
X-ORIGINAL-URL:https://bourgogne-franche-comte.frmjc.org
X-WR-CALDESC:Évènements pour Fédération régionale des MJC Bourgogne-Franche-Comté
REFRESH-INTERVAL;VALUE=DURATION:PT1H
X-Robots-Tag:noindex
X-PUBLISHED-TTL:PT1H
BEGIN:VTIMEZONE
TZID:Europe/Paris
BEGIN:DAYLIGHT
TZOFFSETFROM:+0100
TZOFFSETTO:+0200
TZNAME:CEST
DTSTART:20210328T010000
END:DAYLIGHT
BEGIN:STANDARD
TZOFFSETFROM:+0200
TZOFFSETTO:+0100
TZNAME:CET
DTSTART:20211031T010000
END:STANDARD
BEGIN:DAYLIGHT
TZOFFSETFROM:+0100
TZOFFSETTO:+0200
TZNAME:CEST
DTSTART:20220327T010000
END:DAYLIGHT
BEGIN:STANDARD
TZOFFSETFROM:+0200
TZOFFSETTO:+0100
TZNAME:CET
DTSTART:20221030T010000
END:STANDARD
BEGIN:DAYLIGHT
TZOFFSETFROM:+0100
TZOFFSETTO:+0200
TZNAME:CEST
DTSTART:20230326T010000
END:DAYLIGHT
BEGIN:STANDARD
TZOFFSETFROM:+0200
TZOFFSETTO:+0100
TZNAME:CET
DTSTART:20231029T010000
END:STANDARD
END:VTIMEZONE
BEGIN:VEVENT
DTSTART;TZID=Europe/Paris:20220114T080000
DTEND;TZID=Europe/Paris:20220114T170000
DTSTAMP:20260423T171036
CREATED:20211223T102624Z
LAST-MODIFIED:20211223T102624Z
UID:11904-1642147200-1642179600@bourgogne-franche-comte.frmjc.org
SUMMARY:Projection : Les Bodin's en Thaïlande - Lacanche
DESCRIPTION:Du 5 au 28 janvier\, Les Tourneurs de Côte-d’Or et les points de projection partenaires du circuit vous proposent de découvrir « Les Bodin’s en Thaïlande»\nDe Frédéric Forestier\nComédie (2021) / 1h28\nAvec Vincent Dubois\, Jean-Christian Fraiscinet\, Bella Boonsang…\n\nMaria Bodin\, vieille fermière roublarde et autoritaire de 87 ans\, doit faire face à une nouvelle épreuve : son grand nigaud de fils\, Christian 50 ans\, a perdu le goût de la vie. Suivant l’avis du psychiatre\, qui conseille le dépaysement\, la mère Bodin se résigne donc à casser sa tirelire pour payer des vacances à son fils… en Thaïlande ! Quand la mère et le fils Bodin s’envolent\, pour la première fois\, à plus de dix mille kilomètres de leur terroir natal\, le choc est énorme : hôtel club\, touristes\, plages de sable blanc et autres massages exotiques\, ils n’ont clairement pas le mode d’emploi … pas simple de dépayser des paysans ! Les Bodin’s s’embarquent alors dans un road-movie rocambolesque à travers tout le pays\, avec pour seuls bagages leur audace\, leur cœur et leur bon sens paysan.\n________________________________________\n\n\nTarif normal 5.50€\nTarif réduit 4.50€\nCarte d’abonnement : 22.50€ pour 5 entrées\n Normes sanitaires en vigueur :\nPass sanitaire obligatoire à partir de 12 ans et 2 mois
URL:https://bourgogne-franche-comte.frmjc.org/evenement/projection-les-bodins-en-thailande-lacanche/
LOCATION:Etoile cinéma
CATEGORIES:Cinéma
ATTACH;FMTTYPE=image/jpeg:https://bourgogne-franche-comte.frmjc.org/wp-content/uploads/2021/12/lesbodins-e1640254552495.jpg
END:VEVENT
BEGIN:VEVENT
DTSTART;TZID=Europe/Paris:20220114T173000
DTEND;TZID=Europe/Paris:20220114T181500
DTSTAMP:20260423T171036
CREATED:20220107T153713Z
LAST-MODIFIED:20220107T153921Z
UID:12030-1642181400-1642184100@bourgogne-franche-comte.frmjc.org
SUMMARY:CINÉ-GOÛTER : Mush Mush et le petit Monde de la Forêt - à Sombernon
DESCRIPTION:Du 14 au 22 janvier 2022\, Les Tourneurs de Côte-d’Or et les points de projection partenaires du circuit vous proposent de découvrir le film d’animation MUSH MUSH ET LE PETIT MONDE DE LA FORÊT\, lors d’un ciné-goûter !\n\nMUSH-MUSH ET LE PETIT MONDE DE LA FORÊT – Dès 3 ans\nFilm d’animation (2021) / 44′\n\nSi vous pensiez tout savoir du petit monde de la forêt\, c’est que vous ne connaissez pas encore Mush-Mush\, Lilit et Sep. Chaque jour\, le trio des inséparables Champotes est entraîné dans de nouvelles aventures : sauver un arbre centenaire\, protéger une rainette ou s’envoler à dos de libellule – c’est toujours une journée palpitante qui s’annonce !\n\nLien vers la bande-annonce : https://youtu.be/X4p9HJcf0Ls\n\n\nSÉANCE :\n> Vendredi 14 janvier :\nSombernon • Salle polyvalente • 17h30
URL:https://bourgogne-franche-comte.frmjc.org/evenement/cine-gouter-mush-mush-et-le-petit-monde-de-la-foret-a-sombernon/
LOCATION:Salle polyvalente de Sombernon\, avenue de la Brenne\, SOMBERNON\, 21540\, France
CATEGORIES:Cinéma
ATTACH;FMTTYPE=image/jpeg:https://bourgogne-franche-comte.frmjc.org/wp-content/uploads/2022/01/Affiche-Mush-Mush-e1641569947284.jpg
END:VEVENT
BEGIN:VEVENT
DTSTART;TZID=Europe/Paris:20220114T203000
DTEND;TZID=Europe/Paris:20220114T223000
DTSTAMP:20260423T171036
CREATED:20211223T094934Z
LAST-MODIFIED:20211223T094934Z
UID:11895-1642192200-1642199400@bourgogne-franche-comte.frmjc.org
SUMMARY:Projection : Aline - Sombernon
DESCRIPTION:Du 6 janvier au 1er février\, Les Tourneurs de Côte-d’Or et les points de projection partenaires du circuit vous proposent de redécouvrir Céline Dion avec « Aline»\nDe Valérie Lemercier\nComédie (2021) / 2h06\nAvec Valérie Lemercier\, Sylvain Marcel\, Danielle Fichaud…\n\nQuébec\, fin des années 60\, Sylvette et Anglomard accueillent leur 14ème enfant : Aline. Dans la famille Dieu\, la musique est reine et quand Aline grandit on lui découvre un don\, elle a une voix en or. Lorsqu’il entend cette voix\, le producteur de musique Guy-Claude n’a plus qu’une idée en tête… faire d’Aline la plus grande chanteuse au monde. Epaulée par sa famille et guidée par l’expérience puis l’amour naissant de Guy-Claude\, ils vont ensemble écrire les pages d’un destin hors du commun.\n________________________________________\n\n\nTarif normal 5.50€\nTarif réduit 4.50€\nCarte d’abonnement : 22.50€ pour 5 entrées\n Normes sanitaires en vigueur :\nPass sanitaire obligatoire à partir de 12 ans et 2 mois.
URL:https://bourgogne-franche-comte.frmjc.org/evenement/projection-aline-sombernon/
LOCATION:Salle polyvalente de Sombernon\, avenue de la Brenne\, SOMBERNON\, 21540\, France
CATEGORIES:Cinéma
ATTACH;FMTTYPE=image/jpeg:https://bourgogne-franche-comte.frmjc.org/wp-content/uploads/2021/12/aline-e1640183306716.jpg
END:VEVENT
END:VCALENDAR