BEGIN:VCALENDAR
VERSION:2.0
PRODID:-//Fédération régionale des MJC Bourgogne-Franche-Comté - ECPv6.15.20//NONSGML v1.0//EN
CALSCALE:GREGORIAN
METHOD:PUBLISH
X-WR-CALNAME:Fédération régionale des MJC Bourgogne-Franche-Comté
X-ORIGINAL-URL:https://bourgogne-franche-comte.frmjc.org
X-WR-CALDESC:Évènements pour Fédération régionale des MJC Bourgogne-Franche-Comté
REFRESH-INTERVAL;VALUE=DURATION:PT1H
X-Robots-Tag:noindex
X-PUBLISHED-TTL:PT1H
BEGIN:VTIMEZONE
TZID:Europe/Paris
BEGIN:DAYLIGHT
TZOFFSETFROM:+0100
TZOFFSETTO:+0200
TZNAME:CEST
DTSTART:20210328T010000
END:DAYLIGHT
BEGIN:STANDARD
TZOFFSETFROM:+0200
TZOFFSETTO:+0100
TZNAME:CET
DTSTART:20211031T010000
END:STANDARD
BEGIN:DAYLIGHT
TZOFFSETFROM:+0100
TZOFFSETTO:+0200
TZNAME:CEST
DTSTART:20220327T010000
END:DAYLIGHT
BEGIN:STANDARD
TZOFFSETFROM:+0200
TZOFFSETTO:+0100
TZNAME:CET
DTSTART:20221030T010000
END:STANDARD
BEGIN:DAYLIGHT
TZOFFSETFROM:+0100
TZOFFSETTO:+0200
TZNAME:CEST
DTSTART:20230326T010000
END:DAYLIGHT
BEGIN:STANDARD
TZOFFSETFROM:+0200
TZOFFSETTO:+0100
TZNAME:CET
DTSTART:20231029T010000
END:STANDARD
END:VTIMEZONE
BEGIN:VEVENT
DTSTART;TZID=Europe/Paris:20220112T140000
DTEND;TZID=Europe/Paris:20220112T160000
DTSTAMP:20260423T170904
CREATED:20211223T091926Z
LAST-MODIFIED:20211223T091926Z
UID:11871-1641996000-1642003200@bourgogne-franche-comte.frmjc.org
SUMMARY:Projection : Aline - Chenôve
DESCRIPTION:Du 6 janvier au 1er février\, Les Tourneurs de Côte-d’Or et les points de projection partenaires du circuit vous proposent de redécouvrir Céline Dion avec « Aline»\nDe Valérie Lemercier\nComédie (2021) / 2h06\nAvec Valérie Lemercier\, Sylvain Marcel\, Danielle Fichaud…\n\nQuébec\, fin des années 60\, Sylvette et Anglomard accueillent leur 14ème enfant : Aline. Dans la famille Dieu\, la musique est reine et quand Aline grandit on lui découvre un don\, elle a une voix en or. Lorsqu’il entend cette voix\, le producteur de musique Guy-Claude n’a plus qu’une idée en tête… faire d’Aline la plus grande chanteuse au monde. Epaulée par sa famille et guidée par l’expérience puis l’amour naissant de Guy-Claude\, ils vont ensemble écrire les pages d’un destin hors du commun.\n________________________________________\n\n\nTarif normal 5.50€\nTarif réduit 4.50€\nCarte d’abonnement : 22.50€ pour 5 entrées\n Normes sanitaires en vigueur :\nPass sanitaire obligatoire à partir de 12 ans et 2 mois.
URL:https://bourgogne-franche-comte.frmjc.org/evenement/projection-aline-chenove-2/
LOCATION:MJC Centre Social de Chenôve\, 7 rue de Longvic\, CHENOVE\, 21300\, France
CATEGORIES:Cinéma
ATTACH;FMTTYPE=image/jpeg:https://bourgogne-franche-comte.frmjc.org/wp-content/uploads/2021/12/aline-e1640183306716.jpg
END:VEVENT
BEGIN:VEVENT
DTSTART;TZID=Europe/Paris:20220112T150000
DTEND;TZID=Europe/Paris:20220112T170000
DTSTAMP:20260423T170904
CREATED:20211223T134904Z
LAST-MODIFIED:20211223T134904Z
UID:11941-1641999600-1642006800@bourgogne-franche-comte.frmjc.org
SUMMARY:Projection : Tous en scène 2 - Mirebeau-sur-Bèze
DESCRIPTION:Du 12 au 28 janvier\, Les Tourneurs de Côte-d’Or et les points de projection partenaires du circuit vous proposent de retrouver Buster et sa troupe pour de nouvelles aventures avec « Tous en scène 2»\nDe Garth Jennings\nFilm d’animation musical (2021) / 1h50\nAvec Jenifer Bartoli\, Elodie Martelet\, Camille Combal…\n\nSi Buster et sa troupe ont fait du Nouveau Théâtre Moon la salle de concert à la mode\, il est temps de voir les choses en plus grand : monter un nouveau spectacle dans la prestigieuse salle du théâtre de la Crystal Tower à Redshore City.\n________________________________________\n\n\nTarif normal 5.50€\nTarif réduit 4.50€\nCarte d’abonnement : 22.50€ pour 5 entrées\n Normes sanitaires en vigueur :\nPass sanitaire obligatoire à partir de 12 ans et 2 mois.
URL:https://bourgogne-franche-comte.frmjc.org/evenement/projection-tous-en-scene-2-mirebeau-sur-beze/
LOCATION:Le forum\, 6 ter place Général Viard\, MIREBEAU-SUR-BEZE\, 21310\, France
CATEGORIES:Cinéma
ATTACH;FMTTYPE=image/jpeg:https://bourgogne-franche-comte.frmjc.org/wp-content/uploads/2021/12/tousenscene2-e1640266997994.jpg
END:VEVENT
BEGIN:VEVENT
DTSTART;TZID=Europe/Paris:20220112T203000
DTEND;TZID=Europe/Paris:20220112T220000
DTSTAMP:20260423T170904
CREATED:20211223T103204Z
LAST-MODIFIED:20211223T103204Z
UID:11908-1642019400-1642024800@bourgogne-franche-comte.frmjc.org
SUMMARY:Projection : Les Bodin's en Thaïlande - Mirebeau-sur-Bèze
DESCRIPTION:Du 5 au 28 janvier\, Les Tourneurs de Côte-d’Or et les points de projection partenaires du circuit vous proposent de découvrir « Les Bodin’s en Thaïlande»\nDe Frédéric Forestier\nComédie (2021) / 1h28\nAvec Vincent Dubois\, Jean-Christian Fraiscinet\, Bella Boonsang…\n\nMaria Bodin\, vieille fermière roublarde et autoritaire de 87 ans\, doit faire face à une nouvelle épreuve : son grand nigaud de fils\, Christian 50 ans\, a perdu le goût de la vie. Suivant l’avis du psychiatre\, qui conseille le dépaysement\, la mère Bodin se résigne donc à casser sa tirelire pour payer des vacances à son fils… en Thaïlande ! Quand la mère et le fils Bodin s’envolent\, pour la première fois\, à plus de dix mille kilomètres de leur terroir natal\, le choc est énorme : hôtel club\, touristes\, plages de sable blanc et autres massages exotiques\, ils n’ont clairement pas le mode d’emploi … pas simple de dépayser des paysans ! Les Bodin’s s’embarquent alors dans un road-movie rocambolesque à travers tout le pays\, avec pour seuls bagages leur audace\, leur cœur et leur bon sens paysan.\n________________________________________\n\n\nTarif normal 5.50€\nTarif réduit 4.50€\nCarte d’abonnement : 22.50€ pour 5 entrées\n Normes sanitaires en vigueur :\nPass sanitaire obligatoire à partir de 12 ans et 2 mois
URL:https://bourgogne-franche-comte.frmjc.org/evenement/projection-les-bodins-en-thailande-mirebeau-sur-beze/
LOCATION:Le forum\, 6 ter place Général Viard\, MIREBEAU-SUR-BEZE\, 21310\, France
CATEGORIES:Cinéma
ATTACH;FMTTYPE=image/jpeg:https://bourgogne-franche-comte.frmjc.org/wp-content/uploads/2021/12/lesbodins-e1640254552495.jpg
END:VEVENT
END:VCALENDAR