BEGIN:VCALENDAR
VERSION:2.0
PRODID:-//Fédération régionale des MJC Bourgogne-Franche-Comté - ECPv6.15.20//NONSGML v1.0//EN
CALSCALE:GREGORIAN
METHOD:PUBLISH
X-WR-CALNAME:Fédération régionale des MJC Bourgogne-Franche-Comté
X-ORIGINAL-URL:https://bourgogne-franche-comte.frmjc.org
X-WR-CALDESC:Évènements pour Fédération régionale des MJC Bourgogne-Franche-Comté
REFRESH-INTERVAL;VALUE=DURATION:PT1H
X-Robots-Tag:noindex
X-PUBLISHED-TTL:PT1H
BEGIN:VTIMEZONE
TZID:Europe/Paris
BEGIN:DAYLIGHT
TZOFFSETFROM:+0100
TZOFFSETTO:+0200
TZNAME:CEST
DTSTART:20210328T010000
END:DAYLIGHT
BEGIN:STANDARD
TZOFFSETFROM:+0200
TZOFFSETTO:+0100
TZNAME:CET
DTSTART:20211031T010000
END:STANDARD
BEGIN:DAYLIGHT
TZOFFSETFROM:+0100
TZOFFSETTO:+0200
TZNAME:CEST
DTSTART:20220327T010000
END:DAYLIGHT
BEGIN:STANDARD
TZOFFSETFROM:+0200
TZOFFSETTO:+0100
TZNAME:CET
DTSTART:20221030T010000
END:STANDARD
BEGIN:DAYLIGHT
TZOFFSETFROM:+0100
TZOFFSETTO:+0200
TZNAME:CEST
DTSTART:20230326T010000
END:DAYLIGHT
BEGIN:STANDARD
TZOFFSETFROM:+0200
TZOFFSETTO:+0100
TZNAME:CET
DTSTART:20231029T010000
END:STANDARD
END:VTIMEZONE
BEGIN:VEVENT
DTSTART;TZID=Europe/Paris:20220110T203000
DTEND;TZID=Europe/Paris:20220110T223000
DTSTAMP:20260423T170856
CREATED:20211222T142931Z
LAST-MODIFIED:20211222T142931Z
UID:11855-1641846600-1641853800@bourgogne-franche-comte.frmjc.org
SUMMARY:Projection : Aline - Bligny-sur-Ouche
DESCRIPTION:Du 6 janvier au 1er février\, Les Tourneurs de Côte-d’Or et les points de projection partenaires du circuit vous proposent de redécouvrir Céline Dion avec « Aline»\nDe Valérie Lemercier\nComédie (2021) / 2h06\nAvec Valérie Lemercier\, Sylvain Marcel\, Danielle Fichaud…\n\nQuébec\, fin des années 60\, Sylvette et Anglomard accueillent leur 14ème enfant : Aline. Dans la famille Dieu\, la musique est reine et quand Aline grandit on lui découvre un don\, elle a une voix en or. Lorsqu’il entend cette voix\, le producteur de musique Guy-Claude n’a plus qu’une idée en tête… faire d’Aline la plus grande chanteuse au monde. Epaulée par sa famille et guidée par l’expérience puis l’amour naissant de Guy-Claude\, ils vont ensemble écrire les pages d’un destin hors du commun.\n________________________________________\n\n\nTarif normal 5.50€\nTarif réduit 4.50€\nCarte d’abonnement : 22.50€ pour 5 entrées\n Normes sanitaires en vigueur :\nPass sanitaire obligatoire à partir de 12 ans et 2 mois.
URL:https://bourgogne-franche-comte.frmjc.org/evenement/projection-aline-bligny-sur-ouche/
LOCATION:Espace intercommunal\, 2 allée des Cordiers\, BLIGNY-SUR-OUCHE\, 21360\, France
CATEGORIES:Cinéma
ATTACH;FMTTYPE=image/jpeg:https://bourgogne-franche-comte.frmjc.org/wp-content/uploads/2021/12/aline-e1640183306716.jpg
END:VEVENT
END:VCALENDAR