BEGIN:VCALENDAR
VERSION:2.0
PRODID:-//Fédération régionale des MJC Bourgogne-Franche-Comté - ECPv6.15.20//NONSGML v1.0//EN
CALSCALE:GREGORIAN
METHOD:PUBLISH
X-WR-CALNAME:Fédération régionale des MJC Bourgogne-Franche-Comté
X-ORIGINAL-URL:https://bourgogne-franche-comte.frmjc.org
X-WR-CALDESC:Évènements pour Fédération régionale des MJC Bourgogne-Franche-Comté
REFRESH-INTERVAL;VALUE=DURATION:PT1H
X-Robots-Tag:noindex
X-PUBLISHED-TTL:PT1H
BEGIN:VTIMEZONE
TZID:Europe/Paris
BEGIN:DAYLIGHT
TZOFFSETFROM:+0100
TZOFFSETTO:+0200
TZNAME:CEST
DTSTART:20200329T010000
END:DAYLIGHT
BEGIN:STANDARD
TZOFFSETFROM:+0200
TZOFFSETTO:+0100
TZNAME:CET
DTSTART:20201025T010000
END:STANDARD
BEGIN:DAYLIGHT
TZOFFSETFROM:+0100
TZOFFSETTO:+0200
TZNAME:CEST
DTSTART:20210328T010000
END:DAYLIGHT
BEGIN:STANDARD
TZOFFSETFROM:+0200
TZOFFSETTO:+0100
TZNAME:CET
DTSTART:20211031T010000
END:STANDARD
BEGIN:DAYLIGHT
TZOFFSETFROM:+0100
TZOFFSETTO:+0200
TZNAME:CEST
DTSTART:20220327T010000
END:DAYLIGHT
BEGIN:STANDARD
TZOFFSETFROM:+0200
TZOFFSETTO:+0100
TZNAME:CET
DTSTART:20221030T010000
END:STANDARD
BEGIN:DAYLIGHT
TZOFFSETFROM:+0100
TZOFFSETTO:+0200
TZNAME:CEST
DTSTART:20230326T010000
END:DAYLIGHT
BEGIN:STANDARD
TZOFFSETFROM:+0200
TZOFFSETTO:+0100
TZNAME:CET
DTSTART:20231029T010000
END:STANDARD
END:VTIMEZONE
BEGIN:VEVENT
DTSTART;VALUE=DATE:20211223
DTEND;VALUE=DATE:20220106
DTSTAMP:20260423T170844
CREATED:20211025T125549Z
LAST-MODIFIED:20220120T101330Z
UID:11520-1640217600-1641427199@bourgogne-franche-comte.frmjc.org
SUMMARY:4ème promotion des ateliers du cinéma
DESCRIPTION:Après cinq ans d’existence\, les Ateliers du cinéma de Claude Lelouch constatent la réussite professionnelle des apprentis des promotions passées et annoncent le calendrier et le thème du concours destiné à sélectionner les 13 passionnés qui pourront espérer devenir les cinéastes de demain.  \nL’annonce du concours a été faite lundi 18 octobre\, à 13 heures. La clôture des inscriptions est fixée le mercredi 5 janvier 2022 à 13 heures après quoi une rencontre avec les 20 personnes présélectionnées se tiendra le le mardi 1ᵉʳ mars 2022. La liste des candidats définitivement sélectionnés sera dévoilée le lundi 7 mars 2022 puis les apprentis de la quatrième promotion arriveront à Beaune (Côte-d’Or) le lundi 4 avril 2022. \nPour candidater\, il faut tourner un film avec un smartphone\, le son peut être enregistré à part\, la postproduction peut être faite sur une machine autre que le smartphone. Les films au format Mov\, MP4 ou WMV (à l’exception de tout autre format) seront envoyés avec un lien de téléchargement ou directement à l’adresse : selection@ateliersducinema.org. Le nom du fichier fera apparaître le nom du réalisateur suivi du titre du film. Les films auront une durée de trois à cinq minutes\, générique inclus et répondront au thème imposé : « Racontez une histoire en plan séquence ».
URL:https://bourgogne-franche-comte.frmjc.org/evenement/4eme-promotion-des-ateliers-du-cinema/
CATEGORIES:Cinéma
ATTACH;FMTTYPE=image/png:https://bourgogne-franche-comte.frmjc.org/wp-content/uploads/2021/10/bgjojmiemoepigge.png
END:VEVENT
BEGIN:VEVENT
DTSTART;TZID=Europe/Paris:20211229T143000
DTEND;TZID=Europe/Paris:20211229T163000
DTSTAMP:20260423T170844
CREATED:20211223T132856Z
LAST-MODIFIED:20211223T132856Z
UID:11936-1640788200-1640795400@bourgogne-franche-comte.frmjc.org
SUMMARY:Ciné Noël - Encanto\, la fantastique famille Madrigal - Mirebeau-sur-Bèze
DESCRIPTION:Les Tourneurs de Côte-d’Or et les points de projection partenaires du circuit vous proposent un régal pour les yeux et les oreilles avec le Ciné Noël « Encanto\, la fantastique famille Madrigal » !\nFilm d’animation de Byron Howard\, Jared Bush\, Charise Castro Smith (2021) / 1h43\nAvec Camille Timmerman\, José Garcia\, Juan Arbelaez…\nDans un mystérieux endroit niché au cœur des montagnes de Colombie\, la fantastique famille Madrigal habite une maison enchantée dans une cité pleine de vie\, un endroit merveilleux appelé Encanto. L’Encanto a doté chacun des enfants de la famille d’une faculté magique allant d’une force surhumaine au pouvoir de guérison. Seule Mirabel n’a reçu aucun don particulier. Mais lorsque la magie de l’Encanto se trouve menacée\, la seule enfant ordinaire de cette famille extraordinaire va peut-être se révéler leur unique espoir…\n\n________________________________________\nATTENTION RÉSERVATION OBLIGATOIRE AU 03 80 73 97 20 pour cette séance\n\nTarif normal 4.50€\nTarif réduit 3.50€\nCarte d’abonnement : 22.50€ pour 5 entrées\n Normes sanitaires en vigueur :\nPass sanitaire obligatoire à partir de 12 ans et 2 mois.
URL:https://bourgogne-franche-comte.frmjc.org/evenement/cine-noel-encanto-la-fantastique-famille-madrigal-mirebeau-sur-beze/
LOCATION:Le forum\, 6 ter place Général Viard\, MIREBEAU-SUR-BEZE\, 21310\, France
CATEGORIES:Cinéma
ATTACH;FMTTYPE=image/jpeg:https://bourgogne-franche-comte.frmjc.org/wp-content/uploads/2021/12/encanto-e1640265215160.jpg
END:VEVENT
BEGIN:VEVENT
DTSTART;TZID=Europe/Paris:20211229T150000
DTEND;TZID=Europe/Paris:20211229T170000
DTSTAMP:20260423T170844
CREATED:20211223T132302Z
LAST-MODIFIED:20211223T132607Z
UID:11934-1640790000-1640797200@bourgogne-franche-comte.frmjc.org
SUMMARY:Ciné Noël - Encanto\, la fantastique famille Madrigal - Vitteaux
DESCRIPTION:Les Tourneurs de Côte-d’Or et les points de projection partenaires du circuit vous proposent un régal pour les yeux et les oreilles avec le Ciné Noël « Encanto\, la fantastique famille Madrigal » !\nFilm d’animation de Byron Howard\, Jared Bush\, Charise Castro Smith (2021) / 1h43\nAvec Camille Timmerman\, José Garcia\, Juan Arbelaez…\nDans un mystérieux endroit niché au cœur des montagnes de Colombie\, la fantastique famille Madrigal habite une maison enchantée dans une cité pleine de vie\, un endroit merveilleux appelé Encanto. L’Encanto a doté chacun des enfants de la famille d’une faculté magique allant d’une force surhumaine au pouvoir de guérison. Seule Mirabel n’a reçu aucun don particulier. Mais lorsque la magie de l’Encanto se trouve menacée\, la seule enfant ordinaire de cette famille extraordinaire va peut-être se révéler leur unique espoir…\n\n________________________________________\n\n\nTarif normal 4.50€\nTarif réduit 3.50€\nCarte d’abonnement : 22.50€ pour 5 entrées\n Normes sanitaires en vigueur :\nPass sanitaire obligatoire à partir de 12 ans et 2 mois.
URL:https://bourgogne-franche-comte.frmjc.org/evenement/cine-noel-encanto-la-fantastique-famille-madrigal-vitteaux/
LOCATION:Salle Gueniot\, rue Gueniot\, VITTEAUX\, 21350\, France
CATEGORIES:Cinéma
ATTACH;FMTTYPE=image/jpeg:https://bourgogne-franche-comte.frmjc.org/wp-content/uploads/2021/12/encanto-e1640265215160.jpg
END:VEVENT
END:VCALENDAR