BEGIN:VCALENDAR
VERSION:2.0
PRODID:-//Fédération régionale des MJC Bourgogne-Franche-Comté - ECPv6.15.20//NONSGML v1.0//EN
CALSCALE:GREGORIAN
METHOD:PUBLISH
X-ORIGINAL-URL:https://bourgogne-franche-comte.frmjc.org
X-WR-CALDESC:Évènements pour Fédération régionale des MJC Bourgogne-Franche-Comté
REFRESH-INTERVAL;VALUE=DURATION:PT1H
X-Robots-Tag:noindex
X-PUBLISHED-TTL:PT1H
BEGIN:VTIMEZONE
TZID:Europe/Paris
BEGIN:DAYLIGHT
TZOFFSETFROM:+0100
TZOFFSETTO:+0200
TZNAME:CEST
DTSTART:20200329T010000
END:DAYLIGHT
BEGIN:STANDARD
TZOFFSETFROM:+0200
TZOFFSETTO:+0100
TZNAME:CET
DTSTART:20201025T010000
END:STANDARD
BEGIN:DAYLIGHT
TZOFFSETFROM:+0100
TZOFFSETTO:+0200
TZNAME:CEST
DTSTART:20210328T010000
END:DAYLIGHT
BEGIN:STANDARD
TZOFFSETFROM:+0200
TZOFFSETTO:+0100
TZNAME:CET
DTSTART:20211031T010000
END:STANDARD
BEGIN:DAYLIGHT
TZOFFSETFROM:+0100
TZOFFSETTO:+0200
TZNAME:CEST
DTSTART:20220327T010000
END:DAYLIGHT
BEGIN:STANDARD
TZOFFSETFROM:+0200
TZOFFSETTO:+0100
TZNAME:CET
DTSTART:20221030T010000
END:STANDARD
END:VTIMEZONE
BEGIN:VEVENT
DTSTART;TZID=Europe/Paris:20211220T150000
DTEND;TZID=Europe/Paris:20211220T163000
DTSTAMP:20260423T184517
CREATED:20211223T120527Z
LAST-MODIFIED:20211223T120527Z
UID:11922-1640012400-1640017800@bourgogne-franche-comte.frmjc.org
SUMMARY:Ciné Noël : Les Elfkins - opération pâtisserie - Fleurey-sur-Ouche
DESCRIPTION:Les Tourneurs de Côte-d’Or et les points de projection partenaires du circuit vous proposent une jolie ode à la solidarité pour les petits  avec le Ciné Noël « Les Elfkins – opération pâtisserie» le 20 décembre à 15h à Fleurey-sur-Ouche et le 21 décembre à 15h à Selongey.\n\nFilm d’animation de Ute von Münchow-Pohl (2021) / 1h18\nAvec Jella Haase\, Louis Hofmann\, Leon Seidel…\nElfie est une petite Elfkins qui vit dans le monde secret des lutins. Elle rêve de rencontrer des humains et décide un jour de partir à l’aventure ! Elfie tombe sur Théo\, un chef pâtissier grognon dont la pâtisserie ne fait plus recette. Sa nouvelle mission ? Sauver la petite boutique !\n\n\n________________________________________\n\n\nTarif normal 4.50€\nTarif réduit 3.50€\nCarte d’abonnement : 22.50€ pour 5 entrées\n Normes sanitaires en vigueur :\nPass sanitaire obligatoire à partir de 12 ans et 2 mois.
URL:https://bourgogne-franche-comte.frmjc.org/evenement/cine-noel-les-elfkins-operation-patisserie-fleurey-sur-ouche/
LOCATION:Salle des fêtes de Fleurey-sur-ouche\, rue du lavoir\, FLEUREY-SUR-OUCHE\, 21410\, France
CATEGORIES:Cinéma
ATTACH;FMTTYPE=image/jpeg:https://bourgogne-franche-comte.frmjc.org/wp-content/uploads/2021/12/leselfkins-e1640261046165.jpg
END:VEVENT
END:VCALENDAR