BEGIN:VCALENDAR
VERSION:2.0
PRODID:-//Fédération régionale des MJC Bourgogne-Franche-Comté - ECPv6.15.20//NONSGML v1.0//EN
CALSCALE:GREGORIAN
METHOD:PUBLISH
X-ORIGINAL-URL:https://bourgogne-franche-comte.frmjc.org
X-WR-CALDESC:Évènements pour Fédération régionale des MJC Bourgogne-Franche-Comté
REFRESH-INTERVAL;VALUE=DURATION:PT1H
X-Robots-Tag:noindex
X-PUBLISHED-TTL:PT1H
BEGIN:VTIMEZONE
TZID:Europe/Paris
BEGIN:DAYLIGHT
TZOFFSETFROM:+0100
TZOFFSETTO:+0200
TZNAME:CEST
DTSTART:20200329T010000
END:DAYLIGHT
BEGIN:STANDARD
TZOFFSETFROM:+0200
TZOFFSETTO:+0100
TZNAME:CET
DTSTART:20201025T010000
END:STANDARD
BEGIN:DAYLIGHT
TZOFFSETFROM:+0100
TZOFFSETTO:+0200
TZNAME:CEST
DTSTART:20210328T010000
END:DAYLIGHT
BEGIN:STANDARD
TZOFFSETFROM:+0200
TZOFFSETTO:+0100
TZNAME:CET
DTSTART:20211031T010000
END:STANDARD
BEGIN:DAYLIGHT
TZOFFSETFROM:+0100
TZOFFSETTO:+0200
TZNAME:CEST
DTSTART:20220327T010000
END:DAYLIGHT
BEGIN:STANDARD
TZOFFSETFROM:+0200
TZOFFSETTO:+0100
TZNAME:CET
DTSTART:20221030T010000
END:STANDARD
END:VTIMEZONE
BEGIN:VEVENT
DTSTART;TZID=Europe/Paris:20210917T080000
DTEND;TZID=Europe/Paris:20211216T170000
DTSTAMP:20260423T184517
CREATED:20210920T101224Z
LAST-MODIFIED:20210920T101327Z
UID:11120-1631865600-1639674000@bourgogne-franche-comte.frmjc.org
SUMMARY:Ouverture de l'appel à projets Passeurs d'images en Bourgogne-Franche-Comté
DESCRIPTION:Vous avez jusqu’au 16 décembre pour contacter la coordination régionale afin de construire au mieux votre actions d’éducation aux images\, sur le hors temps scolaire à destination des 12-25 ans. \n  \nToutes les infos sur  https://bourgogne-franche-comte.frmjc.org/passeurs-dimages-bfc/
URL:https://bourgogne-franche-comte.frmjc.org/evenement/ouverture-de-lappel-a-projets-passeurs-dimages-en-bourgogne-franche-comte/
LOCATION:Bourgogne-Franche-Comté
CATEGORIES:Cinéma,Stage
ATTACH;FMTTYPE=image/png:https://bourgogne-franche-comte.frmjc.org/wp-content/uploads/2021/09/AAP-PI-BFC-2022.png
END:VEVENT
BEGIN:VEVENT
DTSTART;TZID=Europe/Paris:20211214T203000
DTEND;TZID=Europe/Paris:20211214T220000
DTSTAMP:20260423T184517
CREATED:20211126T144308Z
LAST-MODIFIED:20211126T144308Z
UID:11765-1639513800-1639519200@bourgogne-franche-comte.frmjc.org
SUMMARY:Projection : Si on chantait - Losne
DESCRIPTION:Du 9 décembre au 4 janvier\, Les Tourneurs de Côte-d’Or et les points de projection partenaires du circuit vous proposent de découvrir une entreprise un peu folle avec « Si on chantait»\nDe Fabrice Maruca\nComédie (2021) / 1h35\nAvec Jérémy Lopez\, Alice Pol\, Artus…\n\nQuiévrechain\, ville industrielle du nord de la France. Après la fermeture de leur usine\, Franck\, passionné de variété française décide d’entraîner ses anciens collègues\, Sophie (dont il est secrètement amoureux)\, José (qui chante comme une casserole)\, et Jean-Claude (ancien cadre un peu trop fier) dans un projet un peu fou : monter une entreprise de livraisons de chansons à domicile\, SI ON CHANTAIT ! Départs en retraite\, anniversaires ; à force de débrouille\, ils commencent à avoir de plus en plus de demandes. Mais entre chansons\, tensions et problèmes de livraisons\, les fausses notes vont être dures à éviter !\n________________________________________\n\n\nTarif normal 5.50€\nTarif réduit 4.50€\nCarte d’abonnement : 22.50€ pour 5 entrées\n Normes sanitaires en vigueur :\nPass sanitaire obligatoire à partir de 12 ans et 2 mois.
URL:https://bourgogne-franche-comte.frmjc.org/evenement/projection-si-on-chantait-losne/
LOCATION:Salle des fêtes de Losne\, rond-point Maison Dieu\, LOSNE\, 21170
CATEGORIES:Cinéma
ATTACH;FMTTYPE=image/jpeg:https://bourgogne-franche-comte.frmjc.org/wp-content/uploads/2021/11/sionchantait-e1637936864106.jpg
END:VEVENT
BEGIN:VEVENT
DTSTART;TZID=Europe/Paris:20211214T203000
DTEND;TZID=Europe/Paris:20211214T223000
DTSTAMP:20260423T184517
CREATED:20211126T145816Z
LAST-MODIFIED:20211126T145816Z
UID:11775-1639513800-1639521000@bourgogne-franche-comte.frmjc.org
SUMMARY:Projection : La Fracture - Chenôve
DESCRIPTION:Du 9 au 15  décembre\, Les Tourneurs de Côte-d’Or et les points de projection partenaires du circuit vous proposent de découvrir un film humaniste bourré d’humour et d’émotions avec « La Fracture»\nDe Catherine Corsini\nComédie (2021) / 1h41\nAvec Valeria Bruni Tedeschi\, Marina Foïs\, Pio Marmai…\n\nRaf et Julie\, un couple au bord de la rupture\, se retrouvent dans un service d’Urgences proche de l’asphyxie le soir d’une manifestation parisienne des Gilets Jaunes. Leur rencontre avec Yann\, un manifestant blessé et en colère\, va faire voler en éclats les certitudes et les préjugés de chacun. À l’extérieur\, la tension monte. L’hôpital\, sous pression\, doit fermer ses portes. Le personnel est débordé. La nuit va être longue…\n________________________________________\n\n\nTarif normal 5.50€\nTarif réduit 4.50€\nCarte d’abonnement : 22.50€ pour 5 entrées\n Normes sanitaires en vigueur :\nPass sanitaire obligatoire à partir de 12 ans et 2 mois.
URL:https://bourgogne-franche-comte.frmjc.org/evenement/projection-la-fracture-chenove/
LOCATION:MJC Centre Social de Chenôve\, 7 rue de Longvic\, CHENOVE\, 21300\, France
CATEGORIES:Cinéma
ATTACH;FMTTYPE=image/jpeg:https://bourgogne-franche-comte.frmjc.org/wp-content/uploads/2021/11/lafracture-e1637938686792.jpg
END:VEVENT
END:VCALENDAR