BEGIN:VCALENDAR
VERSION:2.0
PRODID:-//Fédération régionale des MJC Bourgogne-Franche-Comté - ECPv6.15.20//NONSGML v1.0//EN
CALSCALE:GREGORIAN
METHOD:PUBLISH
X-ORIGINAL-URL:https://bourgogne-franche-comte.frmjc.org
X-WR-CALDESC:Évènements pour Fédération régionale des MJC Bourgogne-Franche-Comté
REFRESH-INTERVAL;VALUE=DURATION:PT1H
X-Robots-Tag:noindex
X-PUBLISHED-TTL:PT1H
BEGIN:VTIMEZONE
TZID:Europe/Paris
BEGIN:DAYLIGHT
TZOFFSETFROM:+0100
TZOFFSETTO:+0200
TZNAME:CEST
DTSTART:20200329T010000
END:DAYLIGHT
BEGIN:STANDARD
TZOFFSETFROM:+0200
TZOFFSETTO:+0100
TZNAME:CET
DTSTART:20201025T010000
END:STANDARD
BEGIN:DAYLIGHT
TZOFFSETFROM:+0100
TZOFFSETTO:+0200
TZNAME:CEST
DTSTART:20210328T010000
END:DAYLIGHT
BEGIN:STANDARD
TZOFFSETFROM:+0200
TZOFFSETTO:+0100
TZNAME:CET
DTSTART:20211031T010000
END:STANDARD
BEGIN:DAYLIGHT
TZOFFSETFROM:+0100
TZOFFSETTO:+0200
TZNAME:CEST
DTSTART:20220327T010000
END:DAYLIGHT
BEGIN:STANDARD
TZOFFSETFROM:+0200
TZOFFSETTO:+0100
TZNAME:CET
DTSTART:20221030T010000
END:STANDARD
END:VTIMEZONE
BEGIN:VEVENT
DTSTART;TZID=Europe/Paris:20210917T080000
DTEND;TZID=Europe/Paris:20211216T170000
DTSTAMP:20260423T202546
CREATED:20210920T101224Z
LAST-MODIFIED:20210920T101327Z
UID:11120-1631865600-1639674000@bourgogne-franche-comte.frmjc.org
SUMMARY:Ouverture de l'appel à projets Passeurs d'images en Bourgogne-Franche-Comté
DESCRIPTION:Vous avez jusqu’au 16 décembre pour contacter la coordination régionale afin de construire au mieux votre actions d’éducation aux images\, sur le hors temps scolaire à destination des 12-25 ans. \n  \nToutes les infos sur  https://bourgogne-franche-comte.frmjc.org/passeurs-dimages-bfc/
URL:https://bourgogne-franche-comte.frmjc.org/evenement/ouverture-de-lappel-a-projets-passeurs-dimages-en-bourgogne-franche-comte/
LOCATION:Bourgogne-Franche-Comté
CATEGORIES:Cinéma,Stage
ATTACH;FMTTYPE=image/png:https://bourgogne-franche-comte.frmjc.org/wp-content/uploads/2021/09/AAP-PI-BFC-2022.png
END:VEVENT
BEGIN:VEVENT
DTSTART;TZID=Europe/Paris:20211125T203000
DTEND;TZID=Europe/Paris:20211125T223000
DTSTAMP:20260423T202546
CREATED:20211126T134242Z
LAST-MODIFIED:20211126T134242Z
UID:11723-1637872200-1637879400@bourgogne-franche-comte.frmjc.org
SUMMARY:Projection : L'homme de la cave - Grancey-le-Château
DESCRIPTION:Du 24 novembre au 7 décembre\, Les Tourneurs de Côte-d’Or et les points de projection partenaires du circuit vous proposent de faire connaissance avec\n« L’homme de la cave »\nDe Philippe Le Guay\nThriller (2021) / 1h54\nAvec François Cluzet\, Jérémie Renier\, Bérénice Bejo…\nA Paris\, Simon et Hélène décident de vendre une cave dans l’immeuble où ils habitent. Un homme\, au passé trouble\, l’achète et s’y installe sans prévenir. Peu à peu\, sa présence va bouleverser la vie du couple.\n________________________________________\n\n\nTarif normal 5.50€\nTarif réduit 4.50€\nCarte d’abonnement : 22.50€ pour 5 entrées\n Normes sanitaires en vigueur :\nPass sanitaire obligatoire à partir de 12 ans et 2 mois.
URL:https://bourgogne-franche-comte.frmjc.org/evenement/projection-lhomme-de-la-cave-grancey-le-chateau/
LOCATION:Salle de la mairie de Grancey-le-Château\, place des halles\, GRANCEY-LE-CHATEAU\, 21580\, France
CATEGORIES:Cinéma
ATTACH;FMTTYPE=image/jpeg:https://bourgogne-franche-comte.frmjc.org/wp-content/uploads/2021/11/lhommedelacave-e1637933857229.jpg
END:VEVENT
BEGIN:VEVENT
DTSTART;TZID=Europe/Paris:20211125T203000
DTEND;TZID=Europe/Paris:20211125T223000
DTSTAMP:20260423T202546
CREATED:20211126T141826Z
LAST-MODIFIED:20211126T141826Z
UID:11750-1637872200-1637879400@bourgogne-franche-comte.frmjc.org
SUMMARY:Projection : Boîte noire - Ste-Colombe-sur-Seine
DESCRIPTION:Du 24 novembre au 7 décembre\, Les Tourneurs de Côte-d’Or et les points de projection partenaires du circuit vous proposent de retrouver Pierre Niney  dans un thriller à couper le souffle !\n« Boîte noire »\nDe Yann Gozlan\nThriller (2021) / 2h10\nAvec Pierre Niney\, Lou de Laâge\, André Dussollier…\n\nQue s’est-il passé à bord du vol Dubaï-Paris avant son crash dans le massif alpin ? Technicien au BEA\, autorité responsable des enquêtes de sécurité dans l’aviation civile\, Mathieu Vasseur est propulsé enquêteur en chef sur une catastrophe aérienne sans précédent. Erreur de pilotage ? Défaillance technique ? Acte terroriste ? L’analyse minutieuse des boîtes noires va pousser Mathieu à mener en secret sa propre investigation. Il ignore encore jusqu’où va le mener sa quête de vérité.\n________________________________________\n\n\nTarif normal 5.50€\nTarif réduit 4.50€\nCarte d’abonnement : 22.50€ pour 5 entrées\n Normes sanitaires en vigueur :\nPass sanitaire obligatoire à partir de 12 ans et 2 mois.
URL:https://bourgogne-franche-comte.frmjc.org/evenement/projection-boite-noire-ste-colombe-sur-seine/
LOCATION:Salle des fêtes de Sainte-Colombe-sur-Seine\, rue des ponts\, SAINTE-COLOMBE-SUR-SEINE\, 21400\, France
CATEGORIES:Cinéma
ATTACH;FMTTYPE=image/jpeg:https://bourgogne-franche-comte.frmjc.org/wp-content/uploads/2021/11/boitenoire-e1637935315345.jpg
END:VEVENT
END:VCALENDAR