BEGIN:VCALENDAR
VERSION:2.0
PRODID:-//Fédération régionale des MJC Bourgogne-Franche-Comté - ECPv6.15.20//NONSGML v1.0//EN
CALSCALE:GREGORIAN
METHOD:PUBLISH
X-WR-CALNAME:Fédération régionale des MJC Bourgogne-Franche-Comté
X-ORIGINAL-URL:https://bourgogne-franche-comte.frmjc.org
X-WR-CALDESC:Évènements pour Fédération régionale des MJC Bourgogne-Franche-Comté
REFRESH-INTERVAL;VALUE=DURATION:PT1H
X-Robots-Tag:noindex
X-PUBLISHED-TTL:PT1H
BEGIN:VTIMEZONE
TZID:Europe/Paris
BEGIN:DAYLIGHT
TZOFFSETFROM:+0100
TZOFFSETTO:+0200
TZNAME:CEST
DTSTART:20200329T010000
END:DAYLIGHT
BEGIN:STANDARD
TZOFFSETFROM:+0200
TZOFFSETTO:+0100
TZNAME:CET
DTSTART:20201025T010000
END:STANDARD
BEGIN:DAYLIGHT
TZOFFSETFROM:+0100
TZOFFSETTO:+0200
TZNAME:CEST
DTSTART:20210328T010000
END:DAYLIGHT
BEGIN:STANDARD
TZOFFSETFROM:+0200
TZOFFSETTO:+0100
TZNAME:CET
DTSTART:20211031T010000
END:STANDARD
BEGIN:DAYLIGHT
TZOFFSETFROM:+0100
TZOFFSETTO:+0200
TZNAME:CEST
DTSTART:20220327T010000
END:DAYLIGHT
BEGIN:STANDARD
TZOFFSETFROM:+0200
TZOFFSETTO:+0100
TZNAME:CET
DTSTART:20221030T010000
END:STANDARD
END:VTIMEZONE
BEGIN:VEVENT
DTSTART;TZID=Europe/Paris:20210917T080000
DTEND;TZID=Europe/Paris:20211216T170000
DTSTAMP:20260423T202510
CREATED:20210920T101224Z
LAST-MODIFIED:20210920T101327Z
UID:11120-1631865600-1639674000@bourgogne-franche-comte.frmjc.org
SUMMARY:Ouverture de l'appel à projets Passeurs d'images en Bourgogne-Franche-Comté
DESCRIPTION:Vous avez jusqu’au 16 décembre pour contacter la coordination régionale afin de construire au mieux votre actions d’éducation aux images\, sur le hors temps scolaire à destination des 12-25 ans. \n  \nToutes les infos sur  https://bourgogne-franche-comte.frmjc.org/passeurs-dimages-bfc/
URL:https://bourgogne-franche-comte.frmjc.org/evenement/ouverture-de-lappel-a-projets-passeurs-dimages-en-bourgogne-franche-comte/
LOCATION:Bourgogne-Franche-Comté
CATEGORIES:Cinéma,Stage
ATTACH;FMTTYPE=image/png:https://bourgogne-franche-comte.frmjc.org/wp-content/uploads/2021/09/AAP-PI-BFC-2022.png
END:VEVENT
BEGIN:VEVENT
DTSTART;TZID=Europe/Paris:20211117T140000
DTEND;TZID=Europe/Paris:20211117T160000
DTSTAMP:20260423T202510
CREATED:20211021T091734Z
LAST-MODIFIED:20211021T091734Z
UID:11404-1637157600-1637164800@bourgogne-franche-comte.frmjc.org
SUMMARY:Projection : Eiffel - Chenôve
DESCRIPTION:Du 10 au 23 novembre\, Les Tourneurs de Côte-d’Or et les points de projection partenaires du circuit vous proposent de plonger dans le Paris du 19ème siècle avec  :\n« Eiffel »\nDe Martin Bourboulon\nDrame\, Biopic (2021) / 1h49\nAvec Romain Duris\, Emma Mackey\, Pierre Deladonchamps…\nVenant tout juste de terminer sa collaboration sur la Statue de la Liberté\, Gustave Eiffel est au sommet de sa carrière. Le gouvernement français veut qu’il crée quelque chose de spectaculaire pour l’Exposition Universelle de 1889 à Paris\, mais Eiffel ne s’intéresse qu’au projet de métropolitain. Tout bascule lorsqu’il recroise son amour de jeunesse. Leur relation interdite l’inspire à changer l’horizon de Paris pour toujours.\n________________________________________\n\n\nTarif normal 5.50€\nTarif réduit 4.50€\nCarte d’abonnement : 22.50€ pour 5 entrées\n Normes sanitaires en vigueur :\nPass sanitaire obligatoire à partir de 12 ans et 2 mois.
URL:https://bourgogne-franche-comte.frmjc.org/evenement/projection-eiffel-chenove-2/
CATEGORIES:Cinéma
ATTACH;FMTTYPE=image/jpeg:https://bourgogne-franche-comte.frmjc.org/wp-content/uploads/2021/09/eiffel-e1634807211138.jpg
END:VEVENT
BEGIN:VEVENT
DTSTART;TZID=Europe/Paris:20211117T203000
DTEND;TZID=Europe/Paris:20211117T223000
DTSTAMP:20260423T202510
CREATED:20211021T094234Z
LAST-MODIFIED:20211021T094234Z
UID:11416-1637181000-1637188200@bourgogne-franche-comte.frmjc.org
SUMMARY:Projection : Eiffel - Mirebeau-sur-Bèze
DESCRIPTION:Du 10 au 23 novembre\, Les Tourneurs de Côte-d’Or et les points de projection partenaires du circuit vous proposent de plonger dans le Paris du 19ème siècle avec  :\n« Eiffel »\nDe Martin Bourboulon\nDrame\, Biopic (2021) / 1h49\nAvec Romain Duris\, Emma Mackey\, Pierre Deladonchamps…\nVenant tout juste de terminer sa collaboration sur la Statue de la Liberté\, Gustave Eiffel est au sommet de sa carrière. Le gouvernement français veut qu’il crée quelque chose de spectaculaire pour l’Exposition Universelle de 1889 à Paris\, mais Eiffel ne s’intéresse qu’au projet de métropolitain. Tout bascule lorsqu’il recroise son amour de jeunesse. Leur relation interdite l’inspire à changer l’horizon de Paris pour toujours.\n________________________________________\n\n\nTarif normal 5.50€\nTarif réduit 4.50€\nCarte d’abonnement : 22.50€ pour 5 entrées\n Normes sanitaires en vigueur :\nPass sanitaire obligatoire à partir de 12 ans et 2 mois.
URL:https://bourgogne-franche-comte.frmjc.org/evenement/projection-eiffel-mirebeau-sur-beze/
LOCATION:Le forum\, 6 ter place Général Viard\, MIREBEAU-SUR-BEZE\, 21310\, France
CATEGORIES:Cinéma
ATTACH;FMTTYPE=image/jpeg:https://bourgogne-franche-comte.frmjc.org/wp-content/uploads/2021/09/eiffel-e1634807211138.jpg
END:VEVENT
END:VCALENDAR