BEGIN:VCALENDAR
VERSION:2.0
PRODID:-//Fédération régionale des MJC Bourgogne-Franche-Comté - ECPv6.15.20//NONSGML v1.0//EN
CALSCALE:GREGORIAN
METHOD:PUBLISH
X-WR-CALNAME:Fédération régionale des MJC Bourgogne-Franche-Comté
X-ORIGINAL-URL:https://bourgogne-franche-comte.frmjc.org
X-WR-CALDESC:Évènements pour Fédération régionale des MJC Bourgogne-Franche-Comté
REFRESH-INTERVAL;VALUE=DURATION:PT1H
X-Robots-Tag:noindex
X-PUBLISHED-TTL:PT1H
BEGIN:VTIMEZONE
TZID:Europe/Paris
BEGIN:DAYLIGHT
TZOFFSETFROM:+0100
TZOFFSETTO:+0200
TZNAME:CEST
DTSTART:20200329T010000
END:DAYLIGHT
BEGIN:STANDARD
TZOFFSETFROM:+0200
TZOFFSETTO:+0100
TZNAME:CET
DTSTART:20201025T010000
END:STANDARD
BEGIN:DAYLIGHT
TZOFFSETFROM:+0100
TZOFFSETTO:+0200
TZNAME:CEST
DTSTART:20210328T010000
END:DAYLIGHT
BEGIN:STANDARD
TZOFFSETFROM:+0200
TZOFFSETTO:+0100
TZNAME:CET
DTSTART:20211031T010000
END:STANDARD
BEGIN:DAYLIGHT
TZOFFSETFROM:+0100
TZOFFSETTO:+0200
TZNAME:CEST
DTSTART:20220327T010000
END:DAYLIGHT
BEGIN:STANDARD
TZOFFSETFROM:+0200
TZOFFSETTO:+0100
TZNAME:CET
DTSTART:20221030T010000
END:STANDARD
END:VTIMEZONE
BEGIN:VEVENT
DTSTART;TZID=Europe/Paris:20210917T080000
DTEND;TZID=Europe/Paris:20211216T170000
DTSTAMP:20260423T202536
CREATED:20210920T101224Z
LAST-MODIFIED:20210920T101327Z
UID:11120-1631865600-1639674000@bourgogne-franche-comte.frmjc.org
SUMMARY:Ouverture de l'appel à projets Passeurs d'images en Bourgogne-Franche-Comté
DESCRIPTION:Vous avez jusqu’au 16 décembre pour contacter la coordination régionale afin de construire au mieux votre actions d’éducation aux images\, sur le hors temps scolaire à destination des 12-25 ans. \n  \nToutes les infos sur  https://bourgogne-franche-comte.frmjc.org/passeurs-dimages-bfc/
URL:https://bourgogne-franche-comte.frmjc.org/evenement/ouverture-de-lappel-a-projets-passeurs-dimages-en-bourgogne-franche-comte/
LOCATION:Bourgogne-Franche-Comté
CATEGORIES:Cinéma,Stage
ATTACH;FMTTYPE=image/png:https://bourgogne-franche-comte.frmjc.org/wp-content/uploads/2021/09/AAP-PI-BFC-2022.png
END:VEVENT
BEGIN:VEVENT
DTSTART;TZID=Europe/Paris:20211109T203000
DTEND;TZID=Europe/Paris:20211109T220000
DTSTAMP:20260423T202536
CREATED:20211018T144321Z
LAST-MODIFIED:20211018T144321Z
UID:11328-1636489800-1636495200@bourgogne-franche-comte.frmjc.org
SUMMARY:Projection : Pourris Gâtés : Marsannay-la-Côte
DESCRIPTION:Du 27 octobre au 9 novembre\, Les Tourneurs de Côte-d’Or et les points de projection partenaires du circuit vous proposent de découvrir une comédie tendre et pleine d’humour avec  « Pourris Gâtés » de Nicolas Cuche (2021) – Durée : 1h35. Avec Gérard Jugnot\, Camille Lou\, Artus… \nLe film fait partie de la sélection officielle de l’Alpe d’Huez 2021. \nParesseux\, capricieux\, fêtards\, les trois enfants de l’homme d’affaires Francis Bartek ne font rien de leur vie\, à part dépenser l’argent que leur père a durement gagné. Lassé par leur comportement\, celui-ci leur fait croire qu’ils sont totalement ruinés\, les forçant ainsi à faire l’impensable: travailler ! \n________________________________________\n\n\nTarif normal 5.50€\nTarif réduit 4.50€\nCarte d’abonnement : 22.50€ pour 5 entrées\n Normes sanitaires en vigueur :\nPass sanitaire obligatoire à partir de 12 ans et 2 mois.
URL:https://bourgogne-franche-comte.frmjc.org/evenement/projection-pourris-gates-marsannay-la-cote/
LOCATION:Maison de Marsannay\, Route des grands crus\, MARSANNAY-LA-COTE\, 21160\, France
CATEGORIES:Cinéma
ATTACH;FMTTYPE=image/jpeg:https://bourgogne-franche-comte.frmjc.org/wp-content/uploads/2021/10/pourrisgates-e1634551696828.jpg
END:VEVENT
BEGIN:VEVENT
DTSTART;TZID=Europe/Paris:20211109T203000
DTEND;TZID=Europe/Paris:20211109T223000
DTSTAMP:20260423T202536
CREATED:20211021T081024Z
LAST-MODIFIED:20211021T081024Z
UID:11354-1636489800-1636497000@bourgogne-franche-comte.frmjc.org
SUMMARY:Projection : Tout s'est bien passé - Arnay-le-Duc
DESCRIPTION:Du 29 octobre au 9 novembre\, Les Tourneurs de Côte-d’Or et les points de projection partenaires du circuit vous proposent de découvrir une adaptation du roman d’Emmanuèle Bernheim :\n“Tout s’est bien passé”\nDe François Ozon\nComédie dramatique (2021) / 1h52\nAvec Sophie Marceau\, André Dusollier\, Géraldine Pailhas…\nEmmanuèle\, romancière épanouie dans sa vie privée et professionnelle\, se précipite à l’hôpital\, son père André vient de faire un AVC.\nFantasque\, aimant passionnément la vie mais diminué\, il demande à sa fille de l’aider à en finir.\nAvec l’aide de sa sœur Pascale\, elle va devoir choisir : accepter la volonté de son père ou le convaincre de changer d’avis.\n________________________________________\n\n\nTarif normal 5.50€\nTarif réduit 4.50€\nCarte d’abonnement : 22.50€ pour 5 entrées\n Normes sanitaires en vigueur :\nPass sanitaire obligatoire à partir de 12 ans et 2 mois.
URL:https://bourgogne-franche-comte.frmjc.org/evenement/projection-tout-sest-bien-passe-arnay-le-duc/
LOCATION:Café du Nord\, 12 place Bonaventure des Périers\, ARNAY-LE-DUC\, 21230\, France
CATEGORIES:Cinéma
ATTACH;FMTTYPE=image/jpeg:https://bourgogne-franche-comte.frmjc.org/wp-content/uploads/2021/10/toutsestbienpasse-e1634803796730.jpg
END:VEVENT
END:VCALENDAR