BEGIN:VCALENDAR
VERSION:2.0
PRODID:-//Fédération régionale des MJC Bourgogne-Franche-Comté - ECPv6.15.20//NONSGML v1.0//EN
CALSCALE:GREGORIAN
METHOD:PUBLISH
X-ORIGINAL-URL:https://bourgogne-franche-comte.frmjc.org
X-WR-CALDESC:Évènements pour Fédération régionale des MJC Bourgogne-Franche-Comté
REFRESH-INTERVAL;VALUE=DURATION:PT1H
X-Robots-Tag:noindex
X-PUBLISHED-TTL:PT1H
BEGIN:VTIMEZONE
TZID:Europe/Paris
BEGIN:DAYLIGHT
TZOFFSETFROM:+0100
TZOFFSETTO:+0200
TZNAME:CEST
DTSTART:20200329T010000
END:DAYLIGHT
BEGIN:STANDARD
TZOFFSETFROM:+0200
TZOFFSETTO:+0100
TZNAME:CET
DTSTART:20201025T010000
END:STANDARD
BEGIN:DAYLIGHT
TZOFFSETFROM:+0100
TZOFFSETTO:+0200
TZNAME:CEST
DTSTART:20210328T010000
END:DAYLIGHT
BEGIN:STANDARD
TZOFFSETFROM:+0200
TZOFFSETTO:+0100
TZNAME:CET
DTSTART:20211031T010000
END:STANDARD
BEGIN:DAYLIGHT
TZOFFSETFROM:+0100
TZOFFSETTO:+0200
TZNAME:CEST
DTSTART:20220327T010000
END:DAYLIGHT
BEGIN:STANDARD
TZOFFSETFROM:+0200
TZOFFSETTO:+0100
TZNAME:CET
DTSTART:20221030T010000
END:STANDARD
END:VTIMEZONE
BEGIN:VEVENT
DTSTART;TZID=Europe/Paris:20210917T080000
DTEND;TZID=Europe/Paris:20211216T170000
DTSTAMP:20260423T222110
CREATED:20210920T101224Z
LAST-MODIFIED:20210920T101327Z
UID:11120-1631865600-1639674000@bourgogne-franche-comte.frmjc.org
SUMMARY:Ouverture de l'appel à projets Passeurs d'images en Bourgogne-Franche-Comté
DESCRIPTION:Vous avez jusqu’au 16 décembre pour contacter la coordination régionale afin de construire au mieux votre actions d’éducation aux images\, sur le hors temps scolaire à destination des 12-25 ans. \n  \nToutes les infos sur  https://bourgogne-franche-comte.frmjc.org/passeurs-dimages-bfc/
URL:https://bourgogne-franche-comte.frmjc.org/evenement/ouverture-de-lappel-a-projets-passeurs-dimages-en-bourgogne-franche-comte/
LOCATION:Bourgogne-Franche-Comté
CATEGORIES:Cinéma,Stage
ATTACH;FMTTYPE=image/png:https://bourgogne-franche-comte.frmjc.org/wp-content/uploads/2021/09/AAP-PI-BFC-2022.png
END:VEVENT
BEGIN:VEVENT
DTSTART;TZID=Europe/Paris:20211029T150000
DTEND;TZID=Europe/Paris:20211029T170000
DTSTAMP:20260423T222110
CREATED:20211021T101801Z
LAST-MODIFIED:20211021T101801Z
UID:11439-1635519600-1635526800@bourgogne-franche-comte.frmjc.org
SUMMARY:Projection Ciné-Vacances : Baby boss 2 - Une affaire de famille - Précy-sous-Thil
DESCRIPTION:Du 25 octobre au 4 novembre\, Les Tourneurs de Côte-d’Or et les points de projection partenaires du circuit vous proposent de retrouver les frères Templeton avec :\n« Baby boss 2 : une affaire de famille »\nDe Tom McGrath\nFilm d’animation (2021) / 1h47\nAvec Jérôme Commandeur\, Miles Christopher Bakshi\, Alec Baldwin…\nDans la suite de BABY BOSS\, les frères Templeton – Tim et Ted\, ex-Baby Boss – sont désormais adultes et se sont perdus de vue. Tandis que Tim est père au foyer\, Ted est patron d’un fonds spéculatif. Mais un nouveau Baby Boss au caractère bien trempé s’apprête à ressouder les liens entre les deux frères…\n________________________________________\n\n\nTarif normal 4.50€\nTarif réduit 3.50€\n Normes sanitaires en vigueur :\nPass sanitaire obligatoire à partir de 12 ans et 2 mois.
URL:https://bourgogne-franche-comte.frmjc.org/evenement/projection-cine-vacances-baby-boss-2-une-affaire-de-famille-precy-sous-thil/
LOCATION:Salle Sainte Auxile\, 2 rue de l'église\, PRECY-SOUS-THIL\, 21390\, France
CATEGORIES:Cinéma
ATTACH;FMTTYPE=image/jpeg:https://bourgogne-franche-comte.frmjc.org/wp-content/uploads/2021/10/babyboss2-e1634810422222.jpg
END:VEVENT
BEGIN:VEVENT
DTSTART;TZID=Europe/Paris:20211029T150000
DTEND;TZID=Europe/Paris:20211029T170000
DTSTAMP:20260423T222110
CREATED:20211021T102006Z
LAST-MODIFIED:20211021T102006Z
UID:11441-1635519600-1635526800@bourgogne-franche-comte.frmjc.org
SUMMARY:Projection Ciné-Vacances : Baby boss 2 - Une affaire de famille - Selongey
DESCRIPTION:Du 25 octobre au 4 novembre\, Les Tourneurs de Côte-d’Or et les points de projection partenaires du circuit vous proposent de retrouver les frères Templeton avec :\n« Baby boss 2 : une affaire de famille »\nDe Tom McGrath\nFilm d’animation (2021) / 1h47\nAvec Jérôme Commandeur\, Miles Christopher Bakshi\, Alec Baldwin…\nDans la suite de BABY BOSS\, les frères Templeton – Tim et Ted\, ex-Baby Boss – sont désormais adultes et se sont perdus de vue. Tandis que Tim est père au foyer\, Ted est patron d’un fonds spéculatif. Mais un nouveau Baby Boss au caractère bien trempé s’apprête à ressouder les liens entre les deux frères…\n________________________________________\n\n\nTarif normal 4.50€\nTarif réduit 3.50€\n Normes sanitaires en vigueur :\nPass sanitaire obligatoire à partir de 12 ans et 2 mois.
URL:https://bourgogne-franche-comte.frmjc.org/evenement/projection-cine-vacances-baby-boss-2-une-affaire-de-famille-selongey/
LOCATION:Salle du foyer Lescure\, rue Jevain\, SELONGEY\, 21260\, France
CATEGORIES:Cinéma
ATTACH;FMTTYPE=image/jpeg:https://bourgogne-franche-comte.frmjc.org/wp-content/uploads/2021/10/babyboss2-e1634810422222.jpg
END:VEVENT
BEGIN:VEVENT
DTSTART;TZID=Europe/Paris:20211029T203000
DTEND;TZID=Europe/Paris:20211029T220000
DTSTAMP:20260423T222110
CREATED:20211018T144802Z
LAST-MODIFIED:20211018T144802Z
UID:11331-1635539400-1635544800@bourgogne-franche-comte.frmjc.org
SUMMARY:Projection : Pourris Gâtés - Précy-sous-Thil
DESCRIPTION:Du 27 octobre au 9 novembre\, Les Tourneurs de Côte-d’Or et les points de projection partenaires du circuit vous proposent de découvrir une comédie tendre et pleine d’humour avec  « Pourris Gâtés » de Nicolas Cuche (2021) – Durée : 1h35. Avec Gérard Jugnot\, Camille Lou\, Artus… \nLe film fait partie de la sélection officielle de l’Alpe d’Huez 2021. \nParesseux\, capricieux\, fêtards\, les trois enfants de l’homme d’affaires Francis Bartek ne font rien de leur vie\, à part dépenser l’argent que leur père a durement gagné. Lassé par leur comportement\, celui-ci leur fait croire qu’ils sont totalement ruinés\, les forçant ainsi à faire l’impensable: travailler ! \n________________________________________\n\n\nTarif normal 5.50€\nTarif réduit 4.50€\nCarte d’abonnement : 22.50€ pour 5 entrées\n Normes sanitaires en vigueur :\nPass sanitaire obligatoire à partir de 12 ans et 2 mois.
URL:https://bourgogne-franche-comte.frmjc.org/evenement/projection-pourris-gates-precy-sous-thil/
LOCATION:Salle Sainte Auxile\, 2 rue de l'église\, PRECY-SOUS-THIL\, 21390\, France
CATEGORIES:Cinéma
ATTACH;FMTTYPE=image/jpeg:https://bourgogne-franche-comte.frmjc.org/wp-content/uploads/2021/10/pourrisgates-e1634551696828.jpg
END:VEVENT
BEGIN:VEVENT
DTSTART;TZID=Europe/Paris:20211029T203000
DTEND;TZID=Europe/Paris:20211029T223000
DTSTAMP:20260423T222110
CREATED:20211021T084641Z
LAST-MODIFIED:20211021T084641Z
UID:11389-1635539400-1635546600@bourgogne-franche-comte.frmjc.org
SUMMARY:Projection : Tout s'est bien passé - Selongey
DESCRIPTION:Du 29 octobre au 9 novembre\, Les Tourneurs de Côte-d’Or et les points de projection partenaires du circuit vous proposent de découvrir une adaptation du roman d’Emmanuèle Bernheim :\n« Tout s’est bien passé »\nDe François Ozon\nComédie dramatique (2021) / 1h52\nAvec Sophie Marceau\, André Dusollier\, Géraldine Pailhas…\nEmmanuèle\, romancière épanouie dans sa vie privée et professionnelle\, se précipite à l’hôpital\, son père André vient de faire un AVC.\nFantasque\, aimant passionnément la vie mais diminué\, il demande à sa fille de l’aider à en finir.\nAvec l’aide de sa sœur Pascale\, elle va devoir choisir : accepter la volonté de son père ou le convaincre de changer d’avis.\n________________________________________\n\n\nTarif normal 5.50€\nTarif réduit 4.50€\nCarte d’abonnement : 22.50€ pour 5 entrées\n Normes sanitaires en vigueur :\nPass sanitaire obligatoire à partir de 12 ans et 2 mois.
URL:https://bourgogne-franche-comte.frmjc.org/evenement/projection-tout-sest-bien-passe-selongey/
LOCATION:Salle du foyer Lescure\, rue Jevain\, SELONGEY\, 21260\, France
CATEGORIES:Cinéma
ATTACH;FMTTYPE=image/jpeg:https://bourgogne-franche-comte.frmjc.org/wp-content/uploads/2021/10/toutsestbienpasse-e1634803796730.jpg
END:VEVENT
END:VCALENDAR