BEGIN:VCALENDAR
VERSION:2.0
PRODID:-//Fédération régionale des MJC Bourgogne-Franche-Comté - ECPv6.15.20//NONSGML v1.0//EN
CALSCALE:GREGORIAN
METHOD:PUBLISH
X-ORIGINAL-URL:https://bourgogne-franche-comte.frmjc.org
X-WR-CALDESC:Évènements pour Fédération régionale des MJC Bourgogne-Franche-Comté
REFRESH-INTERVAL;VALUE=DURATION:PT1H
X-Robots-Tag:noindex
X-PUBLISHED-TTL:PT1H
BEGIN:VTIMEZONE
TZID:Europe/Paris
BEGIN:DAYLIGHT
TZOFFSETFROM:+0100
TZOFFSETTO:+0200
TZNAME:CEST
DTSTART:20200329T010000
END:DAYLIGHT
BEGIN:STANDARD
TZOFFSETFROM:+0200
TZOFFSETTO:+0100
TZNAME:CET
DTSTART:20201025T010000
END:STANDARD
BEGIN:DAYLIGHT
TZOFFSETFROM:+0100
TZOFFSETTO:+0200
TZNAME:CEST
DTSTART:20210328T010000
END:DAYLIGHT
BEGIN:STANDARD
TZOFFSETFROM:+0200
TZOFFSETTO:+0100
TZNAME:CET
DTSTART:20211031T010000
END:STANDARD
BEGIN:DAYLIGHT
TZOFFSETFROM:+0100
TZOFFSETTO:+0200
TZNAME:CEST
DTSTART:20220327T010000
END:DAYLIGHT
BEGIN:STANDARD
TZOFFSETFROM:+0200
TZOFFSETTO:+0100
TZNAME:CET
DTSTART:20221030T010000
END:STANDARD
END:VTIMEZONE
BEGIN:VEVENT
DTSTART;TZID=Europe/Paris:20210917T080000
DTEND;TZID=Europe/Paris:20211216T170000
DTSTAMP:20260423T222201
CREATED:20210920T101224Z
LAST-MODIFIED:20210920T101327Z
UID:11120-1631865600-1639674000@bourgogne-franche-comte.frmjc.org
SUMMARY:Ouverture de l'appel à projets Passeurs d'images en Bourgogne-Franche-Comté
DESCRIPTION:Vous avez jusqu’au 16 décembre pour contacter la coordination régionale afin de construire au mieux votre actions d’éducation aux images\, sur le hors temps scolaire à destination des 12-25 ans. \n  \nToutes les infos sur  https://bourgogne-franche-comte.frmjc.org/passeurs-dimages-bfc/
URL:https://bourgogne-franche-comte.frmjc.org/evenement/ouverture-de-lappel-a-projets-passeurs-dimages-en-bourgogne-franche-comte/
LOCATION:Bourgogne-Franche-Comté
CATEGORIES:Cinéma,Stage
ATTACH;FMTTYPE=image/png:https://bourgogne-franche-comte.frmjc.org/wp-content/uploads/2021/09/AAP-PI-BFC-2022.png
END:VEVENT
BEGIN:VEVENT
DTSTART;TZID=Europe/Paris:20211027T150000
DTEND;TZID=Europe/Paris:20211027T170000
DTSTAMP:20260423T222201
CREATED:20211021T101534Z
LAST-MODIFIED:20211021T101534Z
UID:11437-1635346800-1635354000@bourgogne-franche-comte.frmjc.org
SUMMARY:Projection Ciné-vacances : Baby boss 2 - Une affaire de famille - Marsannay-la-Côte
DESCRIPTION:Du 25 octobre au 4 novembre\, Les Tourneurs de Côte-d’Or et les points de projection partenaires du circuit vous proposent de retrouver les frères Templeton avec :\n« Baby boss 2 : une affaire de famille »\nDe Tom McGrath\nFilm d’animation (2021) / 1h47\nAvec Jérôme Commandeur\, Miles Christopher Bakshi\, Alec Baldwin…\nDans la suite de BABY BOSS\, les frères Templeton – Tim et Ted\, ex-Baby Boss – sont désormais adultes et se sont perdus de vue. Tandis que Tim est père au foyer\, Ted est patron d’un fonds spéculatif. Mais un nouveau Baby Boss au caractère bien trempé s’apprête à ressouder les liens entre les deux frères…\n________________________________________\n\n\nTarif normal 4.50€\nTarif réduit 3.50€\n Normes sanitaires en vigueur :\nPass sanitaire obligatoire à partir de 12 ans et 2 mois.
URL:https://bourgogne-franche-comte.frmjc.org/evenement/projection-cine-vacances-baby-boss-2-une-affaire-de-famille-marsannay-la-cote/
LOCATION:Maison de Marsannay\, Route des grands crus\, MARSANNAY-LA-COTE\, 21160\, France
CATEGORIES:Cinéma
ATTACH;FMTTYPE=image/jpeg:https://bourgogne-franche-comte.frmjc.org/wp-content/uploads/2021/10/babyboss2-e1634810422222.jpg
END:VEVENT
BEGIN:VEVENT
DTSTART;TZID=Europe/Paris:20211027T150000
DTEND;TZID=Europe/Paris:20211027T170000
DTSTAMP:20260423T222201
CREATED:20211021T102234Z
LAST-MODIFIED:20211021T102234Z
UID:11443-1635346800-1635354000@bourgogne-franche-comte.frmjc.org
SUMMARY:Projection Ciné-vacances : Baby boss 2 - Seurre
DESCRIPTION:Du 25 octobre au 4 novembre\, Les Tourneurs de Côte-d’Or et les points de projection partenaires du circuit vous proposent de retrouver les frères Templeton avec :\n« Baby boss 2 : une affaire de famille »\nDe Tom McGrath\nFilm d’animation (2021) / 1h47\nAvec Jérôme Commandeur\, Miles Christopher Bakshi\, Alec Baldwin…\nDans la suite de BABY BOSS\, les frères Templeton – Tim et Ted\, ex-Baby Boss – sont désormais adultes et se sont perdus de vue. Tandis que Tim est père au foyer\, Ted est patron d’un fonds spéculatif. Mais un nouveau Baby Boss au caractère bien trempé s’apprête à ressouder les liens entre les deux frères…\n________________________________________\n\n\nTarif normal 4.50€\nTarif réduit 3.50€\n Normes sanitaires en vigueur :\nPass sanitaire obligatoire à partir de 12 ans et 2 mois.
URL:https://bourgogne-franche-comte.frmjc.org/evenement/projection-cine-vacances-baby-boss-2-seurre/
LOCATION:Salle des fêtes de Seurre\, 29 rue des écoles\, SEURRE\, 21250\, France
CATEGORIES:Cinéma
ATTACH;FMTTYPE=image/jpeg:https://bourgogne-franche-comte.frmjc.org/wp-content/uploads/2021/10/babyboss2-e1634810422222.jpg
END:VEVENT
BEGIN:VEVENT
DTSTART;TZID=Europe/Paris:20211027T150000
DTEND;TZID=Europe/Paris:20211027T170000
DTSTAMP:20260423T222201
CREATED:20211021T104223Z
LAST-MODIFIED:20211021T104223Z
UID:11452-1635346800-1635354000@bourgogne-franche-comte.frmjc.org
SUMMARY:Projection Ciné-vacances : La famille Addams 2 - Une virée en enfer - Corcelles-les-Citeaux
DESCRIPTION:Du 28 octobre au 5 novembre\, Les Tourneurs de Côte-d’Or et les points de projection partenaires du circuit vous proposent de retrouver Morticia\, Gomez\, et leurs enfants avec :\n« La famille Addams 2 : Une virée en enfer »\nDe Greg Tiernan et Conrad Vernon\nFilm d’animation (2021) / 1h33\nAvec Charlize Theron\, Oscar Isaac\, Chloë Grace Moretz…\nDans cette nouvelle aventure\, on retrouve Morticia et Gomez perdus face à leurs enfants qui ont bien grandi\, ils sautent les repas de famille\, et ils passent leur temps rivé à leurs écrans. Pour tenter de renouer les liens familiaux\, ils décident d’embarquer Mercredi\, Pugsley\, Oncle Fétide et toute la bande dans leur camping-car hanté et de prendre la route pour les dernières tristes vacances en famille. Leurs aventures à travers les Etats-Unis les sortent de de leurs repères familiers et les plongent dans des situations hilarantes avec leur iconique cousin\, La Chose\, bientôt rejoints par de nouveaux personnages farfelus. Mais qu’est-ce qui pourrait mal finir ?\n________________________________________\n\n\nTarif normal 4.50€\nTarif réduit 3.50€\n Normes sanitaires en vigueur :\nPass sanitaire obligatoire à partir de 12 ans et 2 mois.
URL:https://bourgogne-franche-comte.frmjc.org/evenement/projection-cine-vacances-la-famille-addams-2-une-viree-en-enfer-corcelles-les-citeaux/
LOCATION:Salle polyvalente de Corcelles-les-Citeaux\, rue de l'église\, CORCELLES-LES-CITEAUX\, 21910
CATEGORIES:Cinéma
ATTACH;FMTTYPE=image/jpeg:https://bourgogne-franche-comte.frmjc.org/wp-content/uploads/2021/10/familleaddams2-e1634812681448.jpg
END:VEVENT
BEGIN:VEVENT
DTSTART;TZID=Europe/Paris:20211027T203000
DTEND;TZID=Europe/Paris:20211027T220000
DTSTAMP:20260423T222201
CREATED:20211018T145504Z
LAST-MODIFIED:20211018T145606Z
UID:11338-1635366600-1635372000@bourgogne-franche-comte.frmjc.org
SUMMARY:Projection : Pourris Gâtés - Seurre
DESCRIPTION:Du 27 octobre au 9 novembre\, Les Tourneurs de Côte-d’Or et les points de projection partenaires du circuit vous proposent de découvrir une comédie tendre et pleine d’humour avec  « Pourris Gâtés » de Nicolas Cuche (2021) – Durée : 1h35. Avec Gérard Jugnot\, Camille Lou\, Artus… \nLe film fait partie de la sélection officielle de l’Alpe d’Huez 2021. \nParesseux\, capricieux\, fêtards\, les trois enfants de l’homme d’affaires Francis Bartek ne font rien de leur vie\, à part dépenser l’argent que leur père a durement gagné. Lassé par leur comportement\, celui-ci leur fait croire qu’ils sont totalement ruinés\, les forçant ainsi à faire l’impensable: travailler ! \n________________________________________\n\n\nTarif normal 5.50€\nTarif réduit 4.50€\nCarte d’abonnement : 22.50€ pour 5 entrées\n Normes sanitaires en vigueur :\nPass sanitaire obligatoire à partir de 12 ans et 2 mois.
URL:https://bourgogne-franche-comte.frmjc.org/evenement/projection-pourris-gates-seurre/
LOCATION:Salle des fêtes de Seurre\, 29 rue des écoles\, SEURRE\, 21250\, France
CATEGORIES:Cinéma
ATTACH;FMTTYPE=image/jpeg:https://bourgogne-franche-comte.frmjc.org/wp-content/uploads/2021/10/pourrisgates-e1634551696828.jpg
END:VEVENT
END:VCALENDAR