BEGIN:VCALENDAR
VERSION:2.0
PRODID:-//Fédération régionale des MJC Bourgogne-Franche-Comté - ECPv6.15.20//NONSGML v1.0//EN
CALSCALE:GREGORIAN
METHOD:PUBLISH
X-ORIGINAL-URL:https://bourgogne-franche-comte.frmjc.org
X-WR-CALDESC:Évènements pour Fédération régionale des MJC Bourgogne-Franche-Comté
REFRESH-INTERVAL;VALUE=DURATION:PT1H
X-Robots-Tag:noindex
X-PUBLISHED-TTL:PT1H
BEGIN:VTIMEZONE
TZID:Europe/Paris
BEGIN:DAYLIGHT
TZOFFSETFROM:+0100
TZOFFSETTO:+0200
TZNAME:CEST
DTSTART:20200329T010000
END:DAYLIGHT
BEGIN:STANDARD
TZOFFSETFROM:+0200
TZOFFSETTO:+0100
TZNAME:CET
DTSTART:20201025T010000
END:STANDARD
BEGIN:DAYLIGHT
TZOFFSETFROM:+0100
TZOFFSETTO:+0200
TZNAME:CEST
DTSTART:20210328T010000
END:DAYLIGHT
BEGIN:STANDARD
TZOFFSETFROM:+0200
TZOFFSETTO:+0100
TZNAME:CET
DTSTART:20211031T010000
END:STANDARD
BEGIN:DAYLIGHT
TZOFFSETFROM:+0100
TZOFFSETTO:+0200
TZNAME:CEST
DTSTART:20220327T010000
END:DAYLIGHT
BEGIN:STANDARD
TZOFFSETFROM:+0200
TZOFFSETTO:+0100
TZNAME:CET
DTSTART:20221030T010000
END:STANDARD
END:VTIMEZONE
BEGIN:VEVENT
DTSTART;TZID=Europe/Paris:20210917T080000
DTEND;TZID=Europe/Paris:20211216T170000
DTSTAMP:20260423T222203
CREATED:20210920T101224Z
LAST-MODIFIED:20210920T101327Z
UID:11120-1631865600-1639674000@bourgogne-franche-comte.frmjc.org
SUMMARY:Ouverture de l'appel à projets Passeurs d'images en Bourgogne-Franche-Comté
DESCRIPTION:Vous avez jusqu’au 16 décembre pour contacter la coordination régionale afin de construire au mieux votre actions d’éducation aux images\, sur le hors temps scolaire à destination des 12-25 ans. \n  \nToutes les infos sur  https://bourgogne-franche-comte.frmjc.org/passeurs-dimages-bfc/
URL:https://bourgogne-franche-comte.frmjc.org/evenement/ouverture-de-lappel-a-projets-passeurs-dimages-en-bourgogne-franche-comte/
LOCATION:Bourgogne-Franche-Comté
CATEGORIES:Cinéma,Stage
ATTACH;FMTTYPE=image/png:https://bourgogne-franche-comte.frmjc.org/wp-content/uploads/2021/09/AAP-PI-BFC-2022.png
END:VEVENT
BEGIN:VEVENT
DTSTART;TZID=Europe/Paris:20211007T100000
DTEND;TZID=Europe/Paris:20211007T200000
DTSTAMP:20260423T222203
CREATED:20210914T103537Z
LAST-MODIFIED:20210914T140444Z
UID:10897-1633600800-1633636800@bourgogne-franche-comte.frmjc.org
SUMMARY:Vivre & Faire vivre un parcours en festival / rencontre Passeurs d'images bfc
DESCRIPTION:Rencontre Passeurs d’images en région\nUne journée pour se familiariser avec les festivals de cinéma et les pistes d’éducation aux images qui peuvent les accompagner. En plein cœur du festival Effervescence à Mâcon\, cette immersion sera tournée vers les rencontres de professionnel.le.s.\, et l’analyse d’images. Une mise en pratique soutenue par la découverte d’outils et supports pédagogique à s’approprier. \n[Gratuit – 10 places] \nToutes les infos : https://bourgogne-franche-comte.frmjc.org/les-rencontres-interprofessionnelles/
URL:https://bourgogne-franche-comte.frmjc.org/evenement/rencontre-passeurs-dimages/
LOCATION:Mâcon
CATEGORIES:Cinéma,Rencontre
ATTACH;FMTTYPE=image/jpeg:https://bourgogne-franche-comte.frmjc.org/wp-content/uploads/2021/05/2.jpg
END:VEVENT
BEGIN:VEVENT
DTSTART;TZID=Europe/Paris:20211007T203000
DTEND;TZID=Europe/Paris:20211007T223000
DTSTAMP:20260423T222203
CREATED:20210917T103602Z
LAST-MODIFIED:20210917T103602Z
UID:11013-1633638600-1633645800@bourgogne-franche-comte.frmjc.org
SUMMARY:Projection : La Terre des hommes - Is-sur-Tille
DESCRIPTION:Du 29 septembre au 12 octobre\, Les Tourneurs de Côte-d’Or et les points de projection partenaires du circuit vous proposent de découvrir :\nLa Terre des hommes\nDe Naël Marandin\nDrame français (2021) / 1h36\nAvec Diane Rouxel\, Finnegan Oldfield\, Jalil Lespert…\nConstance est fille d’agriculteur. Avec son fiancé\, elle veut reprendre l’exploitation de son père et la sauver de la faillite. Pour cela\, il faut s’agrandir\, investir et s’imposer face aux grands exploitants qui se partagent la terre et le pouvoir. Battante\, Constance obtient le soutien de l’un d’eux. Influent et charismatique\, il tient leur avenir entre ses mains. Mais quand il impose son désir au milieu des négociations\, Constance doit faire face à\ncette nouvelle violence.\n____\n\n\nTarif normal 5.50€\nTarif réduit 4.50€\nCarte d’abonnement : 22.50€ pour 5 entrées\n Normes sanitaires en vigueur :\nPass sanitaire obligatoire à partir de 18 ans\n______________________________
URL:https://bourgogne-franche-comte.frmjc.org/evenement/projection-la-terre-des-hommes-is-sur-tille/
LOCATION:Salle des capucins\, 2 rue Gambetta\, IS-SUR-TILLE\, 21120\, France
CATEGORIES:Cinéma
ATTACH;FMTTYPE=image/jpeg:https://bourgogne-franche-comte.frmjc.org/wp-content/uploads/2021/09/phpVEVF3Q.jpg
END:VEVENT
BEGIN:VEVENT
DTSTART;TZID=Europe/Paris:20211007T203000
DTEND;TZID=Europe/Paris:20211007T223000
DTSTAMP:20260423T222203
CREATED:20210920T082044Z
LAST-MODIFIED:20210920T082044Z
UID:11068-1633638600-1633645800@bourgogne-franche-comte.frmjc.org
SUMMARY:Projection : Un triomphe - Fontaine-Française
DESCRIPTION:Du 29 septembre au 26 octobre\, Les Tourneurs de Côte-d’Or et les points de projection partenaires du circuit vous proposent de découvrir :\nUn triomphe\nDe Emmanuel Courcol\nComédie française (2021) / 1h46\nAvec Kad Merad\, David Ayala\, Lamine Cissokho…\nUn acteur en galère accepte pour boucler ses fins de mois d’animer un atelier théâtre en prison. Surpris par les talents de comédien des détenus\, il se met en tête de monter avec eux une pièce sur la scène d’un vrai théâtre. Commence alors une formidable aventure humaine. Inspiré d’une histoire vraie.\n________________________________________\n\n\nTarif normal 5.50€\nTarif réduit 4.50€\nCarte d’abonnement : 22.50€ pour 5 entrées\n Normes sanitaires en vigueur :\nPass sanitaire obligatoire à partir de 18 ans
URL:https://bourgogne-franche-comte.frmjc.org/evenement/projection-un-triomphe-fontaine-francaise/
LOCATION:Salle polyvalente de Fontaine-Française\, route de Chazeuil\, FONTAINE-FRANCAISE\, 21610\, France
CATEGORIES:Cinéma
ATTACH;FMTTYPE=image/jpeg:https://bourgogne-franche-comte.frmjc.org/wp-content/uploads/2021/09/un-triomphe.jpg
END:VEVENT
END:VCALENDAR