BEGIN:VCALENDAR
VERSION:2.0
PRODID:-//Fédération régionale des MJC Bourgogne-Franche-Comté - ECPv6.15.20//NONSGML v1.0//EN
CALSCALE:GREGORIAN
METHOD:PUBLISH
X-WR-CALNAME:Fédération régionale des MJC Bourgogne-Franche-Comté
X-ORIGINAL-URL:https://bourgogne-franche-comte.frmjc.org
X-WR-CALDESC:Évènements pour Fédération régionale des MJC Bourgogne-Franche-Comté
REFRESH-INTERVAL;VALUE=DURATION:PT1H
X-Robots-Tag:noindex
X-PUBLISHED-TTL:PT1H
BEGIN:VTIMEZONE
TZID:Europe/Paris
BEGIN:DAYLIGHT
TZOFFSETFROM:+0100
TZOFFSETTO:+0200
TZNAME:CEST
DTSTART:20200329T010000
END:DAYLIGHT
BEGIN:STANDARD
TZOFFSETFROM:+0200
TZOFFSETTO:+0100
TZNAME:CET
DTSTART:20201025T010000
END:STANDARD
BEGIN:DAYLIGHT
TZOFFSETFROM:+0100
TZOFFSETTO:+0200
TZNAME:CEST
DTSTART:20210328T010000
END:DAYLIGHT
BEGIN:STANDARD
TZOFFSETFROM:+0200
TZOFFSETTO:+0100
TZNAME:CET
DTSTART:20211031T010000
END:STANDARD
BEGIN:DAYLIGHT
TZOFFSETFROM:+0100
TZOFFSETTO:+0200
TZNAME:CEST
DTSTART:20220327T010000
END:DAYLIGHT
BEGIN:STANDARD
TZOFFSETFROM:+0200
TZOFFSETTO:+0100
TZNAME:CET
DTSTART:20221030T010000
END:STANDARD
END:VTIMEZONE
BEGIN:VEVENT
DTSTART;TZID=Europe/Paris:20210910T203000
DTEND;TZID=Europe/Paris:20210910T203000
DTSTAMP:20260424T000334
CREATED:20210629T103147Z
LAST-MODIFIED:20210629T103147Z
UID:10420-1631305800-1631305800@bourgogne-franche-comte.frmjc.org
SUMMARY:Une toile sous les étoiles : Aviator
DESCRIPTION: Les Tourneurs de Côte-d’Or et Centre Image Montbéliard vous proposent de profiter d’une séance de cinéma en plein air.\n\n\n A L’AFFICHE : \nAviator de Martin Scorsese\, avec Leonardo DiCaprio\, Cate Blanchett\, John C. Reilly [2h 45min / Biopic\, Drame\, Historique]\n\n\n\n\n\nAviator couvre près de vingt ans de la vie tumultueuse d’Howard Hughes\, industriel\, milliardaire\, casse-cou\, pionnier de l’aviation civile\, inventeur\, producteur\, réalisateur\, directeur de studio et séducteur insatiable. Cet excentrique et flamboyant aventurier devint un leader de l’industrie aéronautique en même temps qu’une figure mythique\, auréolée de glamour et de mystère.\nInfos : http://www.centre-image.org/
URL:https://bourgogne-franche-comte.frmjc.org/evenement/une-toile-sous-les-etoiles-aviator/
LOCATION:Aérodrome de Montbéliard – Courcelles
CATEGORIES:Cinéma
ATTACH;FMTTYPE=image/jpeg:https://bourgogne-franche-comte.frmjc.org/wp-content/uploads/2021/06/aviator.jpg
END:VEVENT
END:VCALENDAR