BEGIN:VCALENDAR
VERSION:2.0
PRODID:-//Fédération régionale des MJC Bourgogne-Franche-Comté - ECPv6.15.20//NONSGML v1.0//EN
CALSCALE:GREGORIAN
METHOD:PUBLISH
X-WR-CALNAME:Fédération régionale des MJC Bourgogne-Franche-Comté
X-ORIGINAL-URL:https://bourgogne-franche-comte.frmjc.org
X-WR-CALDESC:Évènements pour Fédération régionale des MJC Bourgogne-Franche-Comté
REFRESH-INTERVAL;VALUE=DURATION:PT1H
X-Robots-Tag:noindex
X-PUBLISHED-TTL:PT1H
BEGIN:VTIMEZONE
TZID:Europe/Paris
BEGIN:DAYLIGHT
TZOFFSETFROM:+0100
TZOFFSETTO:+0200
TZNAME:CEST
DTSTART:20200329T010000
END:DAYLIGHT
BEGIN:STANDARD
TZOFFSETFROM:+0200
TZOFFSETTO:+0100
TZNAME:CET
DTSTART:20201025T010000
END:STANDARD
BEGIN:DAYLIGHT
TZOFFSETFROM:+0100
TZOFFSETTO:+0200
TZNAME:CEST
DTSTART:20210328T010000
END:DAYLIGHT
BEGIN:STANDARD
TZOFFSETFROM:+0200
TZOFFSETTO:+0100
TZNAME:CET
DTSTART:20211031T010000
END:STANDARD
BEGIN:DAYLIGHT
TZOFFSETFROM:+0100
TZOFFSETTO:+0200
TZNAME:CEST
DTSTART:20220327T010000
END:DAYLIGHT
BEGIN:STANDARD
TZOFFSETFROM:+0200
TZOFFSETTO:+0100
TZNAME:CET
DTSTART:20221030T010000
END:STANDARD
END:VTIMEZONE
BEGIN:VEVENT
DTSTART;TZID=Europe/Paris:20210903T210000
DTEND;TZID=Europe/Paris:20210903T210000
DTSTAMP:20260423T235450
CREATED:20210629T102532Z
LAST-MODIFIED:20210629T102532Z
UID:10409-1630702800-1630702800@bourgogne-franche-comte.frmjc.org
SUMMARY:Une toile sous les étoiles : 2001\, l'Odyssée de l'espace
DESCRIPTION:Les Tourneurs de Côte-d’Or et Centre Image Montbéliard vous proposent de profiter d’une séance de cinéma en plein air.\n\n\n A L’AFFICHE : \n2001\, l’Odyssée de l’espace\, de Stanley Kubrick\nAvec Keir Dullea\, Gary Lockwood\, William Sylvester\n2h 21min / Science fiction\n\n\n\n\nA l’aube de l’Humanité\, dans le désert africain\, une tribu de primates subit les assauts répétés d’une bande rivale\, qui lui dispute un point d’eau. La découverte d’un monolithe noir inspire au chef des singes assiégés un geste inédit et décisif. Brandissant un os\, il passe à l’attaque et massacre ses adversaires. Le premier instrument est né.\nEn 2001\, quatre millions d’années plus tard\, un vaisseau spatial évolue en orbite lunaire au rythme langoureux du “Beau Danube Bleu”. A son bord\, le Dr. Heywood Floyd enquête secrètement sur la découverte d’un monolithe noir qui émet d’étranges signaux vers Jupiter.\nDix-huit mois plus tard\, les astronautes David Bowman et Frank Poole font route vers Jupiter à bord du Discovery. Les deux hommes vaquent sereinement à leurs tâches quotidiennes sous le contrôle de HAL 9000\, un ordinateur exceptionnel doué d’intelligence et de parole. Cependant\, HAL\, sans doute plus humain que ses maîtres\, commence à donner des signes d’inquiétude : à quoi rime cette mission et que risque-t-on de découvrir sur Jupiter ?\nPour tout renseignement complémentaire\, veuillez contacter directement Centre Image Montbéliard.
URL:https://bourgogne-franche-comte.frmjc.org/evenement/une-toile-sous-les-etoiles-2001-lodyssee-de-lespace/
LOCATION:Aérodrome de Montbéliard – Courcelles
CATEGORIES:Cinéma
ATTACH;FMTTYPE=image/jpeg:https://bourgogne-franche-comte.frmjc.org/wp-content/uploads/2021/06/2001-lodyssee-de-lespace.jpg
END:VEVENT
END:VCALENDAR