BEGIN:VCALENDAR
VERSION:2.0
PRODID:-//Fédération régionale des MJC Bourgogne-Franche-Comté - ECPv6.15.20//NONSGML v1.0//EN
CALSCALE:GREGORIAN
METHOD:PUBLISH
X-WR-CALNAME:Fédération régionale des MJC Bourgogne-Franche-Comté
X-ORIGINAL-URL:https://bourgogne-franche-comte.frmjc.org
X-WR-CALDESC:Évènements pour Fédération régionale des MJC Bourgogne-Franche-Comté
REFRESH-INTERVAL;VALUE=DURATION:PT1H
X-Robots-Tag:noindex
X-PUBLISHED-TTL:PT1H
BEGIN:VTIMEZONE
TZID:Europe/Paris
BEGIN:DAYLIGHT
TZOFFSETFROM:+0100
TZOFFSETTO:+0200
TZNAME:CEST
DTSTART:20200329T010000
END:DAYLIGHT
BEGIN:STANDARD
TZOFFSETFROM:+0200
TZOFFSETTO:+0100
TZNAME:CET
DTSTART:20201025T010000
END:STANDARD
BEGIN:DAYLIGHT
TZOFFSETFROM:+0100
TZOFFSETTO:+0200
TZNAME:CEST
DTSTART:20210328T010000
END:DAYLIGHT
BEGIN:STANDARD
TZOFFSETFROM:+0200
TZOFFSETTO:+0100
TZNAME:CET
DTSTART:20211031T010000
END:STANDARD
BEGIN:DAYLIGHT
TZOFFSETFROM:+0100
TZOFFSETTO:+0200
TZNAME:CEST
DTSTART:20220327T010000
END:DAYLIGHT
BEGIN:STANDARD
TZOFFSETFROM:+0200
TZOFFSETTO:+0100
TZNAME:CET
DTSTART:20221030T010000
END:STANDARD
END:VTIMEZONE
BEGIN:VEVENT
DTSTART;TZID=Europe/Paris:20210831T210000
DTEND;TZID=Europe/Paris:20210831T210000
DTSTAMP:20260423T235452
CREATED:20210629T102321Z
LAST-MODIFIED:20210629T102321Z
UID:10405-1630443600-1630443600@bourgogne-franche-comte.frmjc.org
SUMMARY:Une toile sous les étoiles : Jojo Rabbit
DESCRIPTION:Les Tourneurs de Côte-d’Or et la MJC CS des Bourroches vous proposent de profiter d’une séance de cinéma en plein air.\n\n\n A L’AFFICHE : \nJojo Rabbit\, de Taika Waititi\nAvec Roman Griffin Davis\, Thomasin McKenzie\, Scarlett Johansson\n1h 48min / Guerre\, Drame\, Comédie\n\n\n\nJojo est un petit allemand solitaire. Sa vision du monde est mise à l’épreuve quand il découvre que sa mère cache une jeune fille juive dans leur grenier. Avec la seule aide de son ami aussi grotesque qu’imaginaire\, Adolf Hitler\, Jojo va devoir faire face à son nationalisme aveugle. \nPour tout renseignement\, veuillez contacter la MJC CS Bourroches
URL:https://bourgogne-franche-comte.frmjc.org/evenement/une-toile-sous-les-etoiles-jojo-rabbit/
LOCATION:CER SNCF\, DIJON
CATEGORIES:Cinéma
ATTACH;FMTTYPE=image/png:https://bourgogne-franche-comte.frmjc.org/wp-content/uploads/2021/06/jojo-rabbit-1.png
END:VEVENT
END:VCALENDAR