BEGIN:VCALENDAR
VERSION:2.0
PRODID:-//Fédération régionale des MJC Bourgogne-Franche-Comté - ECPv6.15.20//NONSGML v1.0//EN
CALSCALE:GREGORIAN
METHOD:PUBLISH
X-WR-CALNAME:Fédération régionale des MJC Bourgogne-Franche-Comté
X-ORIGINAL-URL:https://bourgogne-franche-comte.frmjc.org
X-WR-CALDESC:Évènements pour Fédération régionale des MJC Bourgogne-Franche-Comté
REFRESH-INTERVAL;VALUE=DURATION:PT1H
X-Robots-Tag:noindex
X-PUBLISHED-TTL:PT1H
BEGIN:VTIMEZONE
TZID:Europe/Paris
BEGIN:DAYLIGHT
TZOFFSETFROM:+0100
TZOFFSETTO:+0200
TZNAME:CEST
DTSTART:20200329T010000
END:DAYLIGHT
BEGIN:STANDARD
TZOFFSETFROM:+0200
TZOFFSETTO:+0100
TZNAME:CET
DTSTART:20201025T010000
END:STANDARD
BEGIN:DAYLIGHT
TZOFFSETFROM:+0100
TZOFFSETTO:+0200
TZNAME:CEST
DTSTART:20210328T010000
END:DAYLIGHT
BEGIN:STANDARD
TZOFFSETFROM:+0200
TZOFFSETTO:+0100
TZNAME:CET
DTSTART:20211031T010000
END:STANDARD
BEGIN:DAYLIGHT
TZOFFSETFROM:+0100
TZOFFSETTO:+0200
TZNAME:CEST
DTSTART:20220327T010000
END:DAYLIGHT
BEGIN:STANDARD
TZOFFSETFROM:+0200
TZOFFSETTO:+0100
TZNAME:CET
DTSTART:20221030T010000
END:STANDARD
END:VTIMEZONE
BEGIN:VEVENT
DTSTART;TZID=Europe/Paris:20210828T210000
DTEND;TZID=Europe/Paris:20210828T210000
DTSTAMP:20260424T031835
CREATED:20210629T101808Z
LAST-MODIFIED:20210629T101808Z
UID:10397-1630184400-1630184400@bourgogne-franche-comte.frmjc.org
SUMMARY:UNE TOILE SOUS LES ÉTOILES : BOHEMIAN RHAPSODY
DESCRIPTION:Les Tourneurs de Côte-d’Or et la MJC CS Montchapet vous proposent de profiter d’une séance de cinéma en plein air.\n\n\n A L’AFFICHE : \n Bohemian Rhapsody de Bryan Singer\, avec Rami Malek\, Gwilym Lee\, Lucy Boynton [2h 15min / Biopic\, Drame]\n\nBohemian Rhapsody retrace le destin extraordinaire du groupe Queen et de leur chanteur emblématique Freddie Mercury\, qui a défié les stéréotypes\, brisé les conventions et révolutionné la musique. Du succès fulgurant de Freddie Mercury à ses excès\, risquant la quasi-implosion du groupe\, jusqu’à son retour triomphal sur scène lors du concert Live Aid\, alors qu’il était frappé par la maladie\, découvrez la vie exceptionnelle d’un homme qui continue d’inspirer les outsiders\, les rêveurs et tous ceux qui aiment la musique.\n\nInfos : @mjccentresocialmontchapet
URL:https://bourgogne-franche-comte.frmjc.org/evenement/une-toile-sous-les-etoiles-bohemian-rhapsody-3/
LOCATION:Jardin Darcy\, Dijon
CATEGORIES:Cinéma
ATTACH;FMTTYPE=image/jpeg:https://bourgogne-franche-comte.frmjc.org/wp-content/uploads/2021/06/bohemian-rhapsody.jpg
END:VEVENT
BEGIN:VEVENT
DTSTART;TZID=Europe/Paris:20210828T210000
DTEND;TZID=Europe/Paris:20210828T210000
DTSTAMP:20260424T031835
CREATED:20210629T102047Z
LAST-MODIFIED:20210629T102047Z
UID:10402-1630184400-1630184400@bourgogne-franche-comte.frmjc.org
SUMMARY:UNE TOILE SOUS LES ÉTOILES : L’ÉCOLE BUISSONNIÈRE
DESCRIPTION:Les Tourneurs de Côte-d’Or vous proposent de profiter d’une séance de cinéma en plein air.\n\n\n A L’AFFICHE : \nL’Ecole Buissonnière de Nicolas Vanier • avec François Cluzet\, Eric Elmosnino\, François Berléand • 1h 56min • Drame\, Comédie\n\n\n\nParis 1930. Paul n’a toujours eu qu’un seul et même horizon : les hauts murs de l’orphelinat\, sévère bâtisse de la banlieue ouvrière parisienne. Confié à une joyeuse dame de la campagne\, Célestine et à son mari\, Borel\, le garde-chasse un peu raide d’un vaste domaine en Sologne\, l’enfant des villes\, récalcitrant et buté\, arrive dans un monde mystérieux et inquiétant\, celui d’une région souveraine et sauvage.\nL’immense forêt\, les étangs embrumés\, les landes et les champs\, tout ici appartient au Comte de la Fresnaye\, un veuf taciturne qui vit solitaire dans son manoir. Le Comte tolère les braconniers sur le domaine mais Borel les traque sans relâche et s’acharne sur le plus rusé et insaisissable d’entre eux\, Totoche. Au cœur de la féérique Sologne\, aux côtés du braconnier\, grand amoureux de la nature\, Paul va faire l’apprentissage de la vie mais aussi celui de la forêt et de ses secrets. Un secret encore plus lourd pèse sur le domaine\, car Paul n’est pas venu là par hasard…
URL:https://bourgogne-franche-comte.frmjc.org/evenement/une-toile-sous-les-etoiles-lecole-buissonniere-4/
LOCATION:Rue du Poiset\, Epernay-sous-Gevrey
CATEGORIES:Cinéma
ATTACH;FMTTYPE=image/jpeg:https://bourgogne-franche-comte.frmjc.org/wp-content/uploads/2021/06/Lecole-buissonniere.jpg
END:VEVENT
END:VCALENDAR