BEGIN:VCALENDAR
VERSION:2.0
PRODID:-//Fédération régionale des MJC Bourgogne-Franche-Comté - ECPv6.15.20//NONSGML v1.0//EN
CALSCALE:GREGORIAN
METHOD:PUBLISH
X-WR-CALNAME:Fédération régionale des MJC Bourgogne-Franche-Comté
X-ORIGINAL-URL:https://bourgogne-franche-comte.frmjc.org
X-WR-CALDESC:Évènements pour Fédération régionale des MJC Bourgogne-Franche-Comté
REFRESH-INTERVAL;VALUE=DURATION:PT1H
X-Robots-Tag:noindex
X-PUBLISHED-TTL:PT1H
BEGIN:VTIMEZONE
TZID:Europe/Paris
BEGIN:DAYLIGHT
TZOFFSETFROM:+0100
TZOFFSETTO:+0200
TZNAME:CEST
DTSTART:20200329T010000
END:DAYLIGHT
BEGIN:STANDARD
TZOFFSETFROM:+0200
TZOFFSETTO:+0100
TZNAME:CET
DTSTART:20201025T010000
END:STANDARD
BEGIN:DAYLIGHT
TZOFFSETFROM:+0100
TZOFFSETTO:+0200
TZNAME:CEST
DTSTART:20210328T010000
END:DAYLIGHT
BEGIN:STANDARD
TZOFFSETFROM:+0200
TZOFFSETTO:+0100
TZNAME:CET
DTSTART:20211031T010000
END:STANDARD
BEGIN:DAYLIGHT
TZOFFSETFROM:+0100
TZOFFSETTO:+0200
TZNAME:CEST
DTSTART:20220327T010000
END:DAYLIGHT
BEGIN:STANDARD
TZOFFSETFROM:+0200
TZOFFSETTO:+0100
TZNAME:CET
DTSTART:20221030T010000
END:STANDARD
END:VTIMEZONE
BEGIN:VEVENT
DTSTART;TZID=Europe/Paris:20210825T210000
DTEND;TZID=Europe/Paris:20210825T210000
DTSTAMP:20260424T031835
CREATED:20210629T100047Z
LAST-MODIFIED:20210629T100047Z
UID:10373-1629925200-1629925200@bourgogne-franche-comte.frmjc.org
SUMMARY:Une toile sous les étoiles : Poly
DESCRIPTION: Les Tourneurs de Côte-d’Or vous proposent de profiter d’une séance de cinéma en plein air.\n\n\n A L’AFFICHE : \nPoly\, de Nicolas Vanier\nAvec Elisa de Lambert\, François Cluzet\, Julie Gayet\n1h 42min / Aventure\, Famille\n\n\nCécile\, 10 ans\, déménage dans le sud de la France avec sa mère\, Louise. L’intégration avec les autres enfants du village n’est pas facile. Lorsqu’un cirque de passage s’installe à côté\, Cécile découvre que Poly le poney vedette est maltraité .Elle décide de le protéger et d’organiser son évasion ! Poursuivis par Brancalou\, l’inquiétant directeur du cirque\, et le mystérieux Victor\, Cécile et Poly s’embarquent dans une cavale pleine de rebondissements\, un véritable voyage initiatique et une incroyable histoire d’amitié.\n\n tarif fixe : 4.50€\n\n Accès :\nPôle scolaire Lucien Treuffet\nRue de la Croix de la Bordé\,\n21400 Sainte-Colombe-sur-Seine
URL:https://bourgogne-franche-comte.frmjc.org/evenement/une-toile-sous-les-etoiles-poly-3/
LOCATION:Pôle scolaire Lucien Treuffet\, rue de la Croix de la Bordé\, Sainte-Colombe-Sur-Seine\, 21400
CATEGORIES:Cinéma
ATTACH;FMTTYPE=image/jpeg:https://bourgogne-franche-comte.frmjc.org/wp-content/uploads/2021/06/poly-1.jpg
END:VEVENT
BEGIN:VEVENT
DTSTART;TZID=Europe/Paris:20210825T210000
DTEND;TZID=Europe/Paris:20210825T210000
DTSTAMP:20260424T031835
CREATED:20210629T100340Z
LAST-MODIFIED:20210629T100340Z
UID:10377-1629925200-1629925200@bourgogne-franche-comte.frmjc.org
SUMMARY:Une toile sous les étoiles : Pierre Lapin 2
DESCRIPTION:Les Tourneurs de Côte-d’Or \, la Ville de Chenôve et la MJC de Chenôve vous proposent de profiter d’une séance de cinéma en plein air.\n\n\n A L’AFFICHE : \nPierre Lapin 2 de Will Gluck\nAvec Thibaut Lacour\, Pamela Ravassard\, Benoit Du Pac\n1h 33min / Comédie\, Aventure\, Famille\n\n\nBéa\, Thomas et les lapins forment désormais une famille recomposée\, mais Pierre a beau faire tout son possible\, il ne semble parvenir à se débarrasser de la réputation de voyou qui lui colle à la peau (de lapin).\nS’aventurant hors du potager\, Pierre découvre un monde dans lequel ses menus délits sont appréciés\, mais quand sa famille risque tout pour partir à sa recherche\, Pierre doit choisir quel genre de lapin il veut être.\nPour tout renseignement\, veuillez contacter directement la Ville et la MJC de Chenôve.
URL:https://bourgogne-franche-comte.frmjc.org/evenement/une-toile-sous-les-etoiles-pierre-lapin-2/
LOCATION:Maison du plateau de Chenôve
CATEGORIES:Cinéma
ATTACH;FMTTYPE=image/jpeg:https://bourgogne-franche-comte.frmjc.org/wp-content/uploads/2021/06/pierre-lapin-2-1-scaled.jpg
END:VEVENT
END:VCALENDAR