BEGIN:VCALENDAR
VERSION:2.0
PRODID:-//Fédération régionale des MJC Bourgogne-Franche-Comté - ECPv6.15.20//NONSGML v1.0//EN
CALSCALE:GREGORIAN
METHOD:PUBLISH
X-WR-CALNAME:Fédération régionale des MJC Bourgogne-Franche-Comté
X-ORIGINAL-URL:https://bourgogne-franche-comte.frmjc.org
X-WR-CALDESC:Évènements pour Fédération régionale des MJC Bourgogne-Franche-Comté
REFRESH-INTERVAL;VALUE=DURATION:PT1H
X-Robots-Tag:noindex
X-PUBLISHED-TTL:PT1H
BEGIN:VTIMEZONE
TZID:Europe/Paris
BEGIN:DAYLIGHT
TZOFFSETFROM:+0100
TZOFFSETTO:+0200
TZNAME:CEST
DTSTART:20200329T010000
END:DAYLIGHT
BEGIN:STANDARD
TZOFFSETFROM:+0200
TZOFFSETTO:+0100
TZNAME:CET
DTSTART:20201025T010000
END:STANDARD
BEGIN:DAYLIGHT
TZOFFSETFROM:+0100
TZOFFSETTO:+0200
TZNAME:CEST
DTSTART:20210328T010000
END:DAYLIGHT
BEGIN:STANDARD
TZOFFSETFROM:+0200
TZOFFSETTO:+0100
TZNAME:CET
DTSTART:20211031T010000
END:STANDARD
BEGIN:DAYLIGHT
TZOFFSETFROM:+0100
TZOFFSETTO:+0200
TZNAME:CEST
DTSTART:20220327T010000
END:DAYLIGHT
BEGIN:STANDARD
TZOFFSETFROM:+0200
TZOFFSETTO:+0100
TZNAME:CET
DTSTART:20221030T010000
END:STANDARD
END:VTIMEZONE
BEGIN:VEVENT
DTSTART;TZID=Europe/Paris:20210820T210000
DTEND;TZID=Europe/Paris:20210820T210000
DTSTAMP:20260424T031838
CREATED:20210629T092425Z
LAST-MODIFIED:20210629T092425Z
UID:10362-1629493200-1629493200@bourgogne-franche-comte.frmjc.org
SUMMARY:Une toile sous les étoiles : les figures de l'ombre
DESCRIPTION:Les Tourneurs de Côte-d’Or et Centre Image Montbéliard vous proposent de profiter d’une séance de cinéma en plein air.\n\n\n A L’AFFICHE : \n Les figures de l’ombre de Theodore Melfi\, avec Taraji P. Henson\, Octavia Spencer\, Janelle Monáe [2h 07min / Drame\, Biopic]\n\n\nLe destin extraordinaire des trois scientifiques afro-américaines qui ont permis aux États-Unis de prendre la tête de la conquête spatiale\, grâce à la mise en orbite de l’astronaute John Glenn.\nMaintenues dans l’ombre de leurs collègues masculins et dans celle d’un pays en proie à de profondes inégalités\, leur histoire longtemps restée méconnue est enfin portée à l’écran.
URL:https://bourgogne-franche-comte.frmjc.org/evenement/une-toile-sous-les-etoiles-les-figures-de-lombre/
LOCATION:Aérodrome de Montbéliard – Courcelles
CATEGORIES:Cinéma
ATTACH;FMTTYPE=image/jpeg:https://bourgogne-franche-comte.frmjc.org/wp-content/uploads/2021/06/les-figures-de-lombre.jpg
END:VEVENT
END:VCALENDAR