BEGIN:VCALENDAR
VERSION:2.0
PRODID:-//Fédération régionale des MJC Bourgogne-Franche-Comté - ECPv6.15.20//NONSGML v1.0//EN
CALSCALE:GREGORIAN
METHOD:PUBLISH
X-WR-CALNAME:Fédération régionale des MJC Bourgogne-Franche-Comté
X-ORIGINAL-URL:https://bourgogne-franche-comte.frmjc.org
X-WR-CALDESC:Évènements pour Fédération régionale des MJC Bourgogne-Franche-Comté
REFRESH-INTERVAL;VALUE=DURATION:PT1H
X-Robots-Tag:noindex
X-PUBLISHED-TTL:PT1H
BEGIN:VTIMEZONE
TZID:Europe/Paris
BEGIN:DAYLIGHT
TZOFFSETFROM:+0100
TZOFFSETTO:+0200
TZNAME:CEST
DTSTART:20200329T010000
END:DAYLIGHT
BEGIN:STANDARD
TZOFFSETFROM:+0200
TZOFFSETTO:+0100
TZNAME:CET
DTSTART:20201025T010000
END:STANDARD
BEGIN:DAYLIGHT
TZOFFSETFROM:+0100
TZOFFSETTO:+0200
TZNAME:CEST
DTSTART:20210328T010000
END:DAYLIGHT
BEGIN:STANDARD
TZOFFSETFROM:+0200
TZOFFSETTO:+0100
TZNAME:CET
DTSTART:20211031T010000
END:STANDARD
BEGIN:DAYLIGHT
TZOFFSETFROM:+0100
TZOFFSETTO:+0200
TZNAME:CEST
DTSTART:20220327T010000
END:DAYLIGHT
BEGIN:STANDARD
TZOFFSETFROM:+0200
TZOFFSETTO:+0100
TZNAME:CET
DTSTART:20221030T010000
END:STANDARD
END:VTIMEZONE
BEGIN:VEVENT
DTSTART;TZID=Europe/Paris:20210813T210000
DTEND;TZID=Europe/Paris:20210813T210000
DTSTAMP:20260424T031924
CREATED:20210629T090104Z
LAST-MODIFIED:20210629T090104Z
UID:10344-1628888400-1628888400@bourgogne-franche-comte.frmjc.org
SUMMARY:Une toile sous les étoiles : la vie scolaire
DESCRIPTION:Les Tourneurs de Côte-d’Or vous proposent de profiter d’une séance de cinéma en plein air.\n\n\n A L’AFFICHE : \nLa Vie scolaire\, de Grand Corps Malade\, Mehdi Idir\nAvec Zita Hanrot\, Liam Pierron\, Soufiane Guerrab\n1h 51min / Drame\, Comédie\n\n\nUne année au coeur de l’école de la république\, de la vie… et de la démerde ! Samia\, jeune CPE novice\, débarque de son Ardèche natale dans un collège réputé difficile de la ville de Saint-Denis. Elle y découvre les problèmes récurrents de discipline\, la réalité sociale pesant sur le quartier\, mais aussi l’incroyable vitalité et l’humour\, tant des élèves que de son équipe de surveillants. Parmi eux\, il y a Moussa\, le Grand du quartier et Dylan le chambreur. Samia s’adapte et prend bientôt plaisir à canaliser la fougue des plus perturbateurs. Sa situation personnelle compliquée la rapproche naturellement de Yanis\, ado vif et intelligent\, dont elle a flairé le potentiel. Même si Yanis semble renoncer à toute ambition en se cachant derrière son insolence\, Samia va investir toute son énergie à le détourner d’un échec scolaire annoncé et tenter de l’amener à se projeter dans un avenir meilleur…\n\n Accès :\nCour de l’Ecole des Cèdres\n6\, rue des Marronniers\n21800 Quétigny\n(Entrée par le Parc des Cèdres)\n\n Repli en cas de pluie :\nEspace Pierre-Mendès France\n8 rue des Vergers\n21800 Quetigny
URL:https://bourgogne-franche-comte.frmjc.org/evenement/une-toile-sous-les-etoiles-la-vie-scolaire/
LOCATION:Cour de l’école des Cèdres\, 6 rue des Marronniers\, Quetigny\, 21800
CATEGORIES:Cinéma
ATTACH;FMTTYPE=image/jpeg:https://bourgogne-franche-comte.frmjc.org/wp-content/uploads/2021/06/la-vie-scolaire.jpg
END:VEVENT
END:VCALENDAR