BEGIN:VCALENDAR
VERSION:2.0
PRODID:-//Fédération régionale des MJC Bourgogne-Franche-Comté - ECPv6.15.20//NONSGML v1.0//EN
CALSCALE:GREGORIAN
METHOD:PUBLISH
X-WR-CALNAME:Fédération régionale des MJC Bourgogne-Franche-Comté
X-ORIGINAL-URL:https://bourgogne-franche-comte.frmjc.org
X-WR-CALDESC:Évènements pour Fédération régionale des MJC Bourgogne-Franche-Comté
REFRESH-INTERVAL;VALUE=DURATION:PT1H
X-Robots-Tag:noindex
X-PUBLISHED-TTL:PT1H
BEGIN:VTIMEZONE
TZID:Europe/Paris
BEGIN:DAYLIGHT
TZOFFSETFROM:+0100
TZOFFSETTO:+0200
TZNAME:CEST
DTSTART:20200329T010000
END:DAYLIGHT
BEGIN:STANDARD
TZOFFSETFROM:+0200
TZOFFSETTO:+0100
TZNAME:CET
DTSTART:20201025T010000
END:STANDARD
BEGIN:DAYLIGHT
TZOFFSETFROM:+0100
TZOFFSETTO:+0200
TZNAME:CEST
DTSTART:20210328T010000
END:DAYLIGHT
BEGIN:STANDARD
TZOFFSETFROM:+0200
TZOFFSETTO:+0100
TZNAME:CET
DTSTART:20211031T010000
END:STANDARD
BEGIN:DAYLIGHT
TZOFFSETFROM:+0100
TZOFFSETTO:+0200
TZNAME:CEST
DTSTART:20220327T010000
END:DAYLIGHT
BEGIN:STANDARD
TZOFFSETFROM:+0200
TZOFFSETTO:+0100
TZNAME:CET
DTSTART:20221030T010000
END:STANDARD
END:VTIMEZONE
BEGIN:VEVENT
DTSTART;TZID=Europe/Paris:20210811T210000
DTEND;TZID=Europe/Paris:20210811T210000
DTSTAMP:20260424T031926
CREATED:20210629T085740Z
LAST-MODIFIED:20210629T085740Z
UID:10339-1628715600-1628715600@bourgogne-franche-comte.frmjc.org
SUMMARY:Une toile sous les étoiles : Les Demoiselles de Rochefort
DESCRIPTION: Les Tourneurs de Côte-d’Or vous proposent de profiter d’une séance de cinéma en plein air.\n A l’affiche : \nLes Demoiselles de Rochefort\, de Jacques Demy\nAvec Catherine Deneuve\, Françoise Dorléac\, Danielle Darrieux\n2h 05min / Comédie musicale\n\n\n\nDelphine et Solange sont deux jumelles de 25 ans\, ravissantes et spirituelles. Delphine\, la blonde\, donne des leçons de danse et Solange\, la rousse\, des cours de solfège. Elle vivent dans la musique comme d’autres vivent dans la lune et rêvent de rencontrer le grand amour au coin de la rue. Justement des forains arrivent en ville et fréquentent le bar que tient la mère des jumelles. Une grande foire se prépare et un marin rêveur cherche son idéal féminin…
URL:https://bourgogne-franche-comte.frmjc.org/evenement/une-toile-sous-les-etoiles-les-demoiselles-de-rochefort/
LOCATION:Terrain de foot – Camping\, Santenay
CATEGORIES:Cinéma
ATTACH;FMTTYPE=image/jpeg:https://bourgogne-franche-comte.frmjc.org/wp-content/uploads/2021/06/les-demoiselles-de-rochefort.jpg
END:VEVENT
END:VCALENDAR