BEGIN:VCALENDAR
VERSION:2.0
PRODID:-//Fédération régionale des MJC Bourgogne-Franche-Comté - ECPv6.15.20//NONSGML v1.0//EN
CALSCALE:GREGORIAN
METHOD:PUBLISH
X-WR-CALNAME:Fédération régionale des MJC Bourgogne-Franche-Comté
X-ORIGINAL-URL:https://bourgogne-franche-comte.frmjc.org
X-WR-CALDESC:Évènements pour Fédération régionale des MJC Bourgogne-Franche-Comté
REFRESH-INTERVAL;VALUE=DURATION:PT1H
X-Robots-Tag:noindex
X-PUBLISHED-TTL:PT1H
BEGIN:VTIMEZONE
TZID:Europe/Paris
BEGIN:DAYLIGHT
TZOFFSETFROM:+0100
TZOFFSETTO:+0200
TZNAME:CEST
DTSTART:20200329T010000
END:DAYLIGHT
BEGIN:STANDARD
TZOFFSETFROM:+0200
TZOFFSETTO:+0100
TZNAME:CET
DTSTART:20201025T010000
END:STANDARD
BEGIN:DAYLIGHT
TZOFFSETFROM:+0100
TZOFFSETTO:+0200
TZNAME:CEST
DTSTART:20210328T010000
END:DAYLIGHT
BEGIN:STANDARD
TZOFFSETFROM:+0200
TZOFFSETTO:+0100
TZNAME:CET
DTSTART:20211031T010000
END:STANDARD
BEGIN:DAYLIGHT
TZOFFSETFROM:+0100
TZOFFSETTO:+0200
TZNAME:CEST
DTSTART:20220327T010000
END:DAYLIGHT
BEGIN:STANDARD
TZOFFSETFROM:+0200
TZOFFSETTO:+0100
TZNAME:CET
DTSTART:20221030T010000
END:STANDARD
END:VTIMEZONE
BEGIN:VEVENT
DTSTART;TZID=Europe/Paris:20210809T213000
DTEND;TZID=Europe/Paris:20210809T213000
DTSTAMP:20260424T031924
CREATED:20210629T085526Z
LAST-MODIFIED:20210629T085526Z
UID:10334-1628544600-1628544600@bourgogne-franche-comte.frmjc.org
SUMMARY:Une toile sous les étoiles : Captain Fantastic
DESCRIPTION:Les Tourneurs de Côte-d’Or vous proposent de profiter d’une séance de cinéma en plein air.\n A l’affiche : \nCaptain Fantastic\, de Matt Ross\nAvec Viggo Mortensen\, Frank Langella\, George MacKay\n1h 58min / Comédie dramatique\n\n\n\nDans les forêts reculées du nord-ouest des Etats-Unis\, vivant isolé de la société\, un père dévoué a consacré sa vie toute entière à faire de ses six jeunes enfants d’extraordinaires adultes.\nMais quand le destin frappe sa famille\, ils doivent abandonner ce paradis qu’il avait créé pour eux. La découverte du monde extérieur va l’obliger à questionner ses méthodes d’éducation et remettre en cause tout ce qu’il leur a appris.
URL:https://bourgogne-franche-comte.frmjc.org/evenement/une-toile-sous-les-etoiles-captain-fantastic/
LOCATION:Parc de l’Abîme\, Mâcon
CATEGORIES:Cinéma
ATTACH;FMTTYPE=image/jpeg:https://bourgogne-franche-comte.frmjc.org/wp-content/uploads/2021/06/captain-fantastic.jpg
END:VEVENT
END:VCALENDAR