BEGIN:VCALENDAR
VERSION:2.0
PRODID:-//Fédération régionale des MJC Bourgogne-Franche-Comté - ECPv6.15.20//NONSGML v1.0//EN
CALSCALE:GREGORIAN
METHOD:PUBLISH
X-WR-CALNAME:Fédération régionale des MJC Bourgogne-Franche-Comté
X-ORIGINAL-URL:https://bourgogne-franche-comte.frmjc.org
X-WR-CALDESC:Évènements pour Fédération régionale des MJC Bourgogne-Franche-Comté
REFRESH-INTERVAL;VALUE=DURATION:PT1H
X-Robots-Tag:noindex
X-PUBLISHED-TTL:PT1H
BEGIN:VTIMEZONE
TZID:Europe/Paris
BEGIN:DAYLIGHT
TZOFFSETFROM:+0100
TZOFFSETTO:+0200
TZNAME:CEST
DTSTART:20200329T010000
END:DAYLIGHT
BEGIN:STANDARD
TZOFFSETFROM:+0200
TZOFFSETTO:+0100
TZNAME:CET
DTSTART:20201025T010000
END:STANDARD
BEGIN:DAYLIGHT
TZOFFSETFROM:+0100
TZOFFSETTO:+0200
TZNAME:CEST
DTSTART:20210328T010000
END:DAYLIGHT
BEGIN:STANDARD
TZOFFSETFROM:+0200
TZOFFSETTO:+0100
TZNAME:CET
DTSTART:20211031T010000
END:STANDARD
BEGIN:DAYLIGHT
TZOFFSETFROM:+0100
TZOFFSETTO:+0200
TZNAME:CEST
DTSTART:20220327T010000
END:DAYLIGHT
BEGIN:STANDARD
TZOFFSETFROM:+0200
TZOFFSETTO:+0100
TZNAME:CET
DTSTART:20221030T010000
END:STANDARD
END:VTIMEZONE
BEGIN:VEVENT
DTSTART;TZID=Europe/Paris:20210802T213000
DTEND;TZID=Europe/Paris:20210802T213000
DTSTAMP:20260424T031838
CREATED:20210629T084613Z
LAST-MODIFIED:20210629T084613Z
UID:10324-1627939800-1627939800@bourgogne-franche-comte.frmjc.org
SUMMARY:Une toile sous les étoiles : l'aventure des Marguerite
DESCRIPTION: Les Tourneurs de Côte-d’Or vous proposent de profiter d’une séance de cinéma en plein air.\n A l’affiche : \nL’aventure des marguerite de Pierre Coré\, avec Lila Gueneau\, Alice Pol\, Clovis Cornillac [1h 26min / Comédie\, Famille]\n\n\nMarguerite et Margot ont toutes les deux douze ans\, avec chacune sa famille\, ses copains\, ses problèmes… Et son époque. Car l’une vit en 1942 et l’autre en 2018. Mais c’est sans compter sur une mystérieuse malle magique qui les transporte chacune dans l’époque de l’autre. Margot et Marguerite ont un autre point commun : leur père n’est plus là\, disparu en pleine 2ème Guerre Mondiale ou n’habitant plus à la maison. À 70 ans d’écart\, elles se lancent dans une grande aventure pour retrouver leurs présents\, explorant l’Histoire\, mais aussi la mémoire de leurs familles.
URL:https://bourgogne-franche-comte.frmjc.org/evenement/une-toile-sous-les-etoiles-laventure-des-marguerite/
LOCATION:La Chanaye – Mâcon
CATEGORIES:Cinéma
ATTACH;FMTTYPE=image/jpeg:https://bourgogne-franche-comte.frmjc.org/wp-content/uploads/2021/06/laventure-des-marguerite.jpg
END:VEVENT
END:VCALENDAR