BEGIN:VCALENDAR
VERSION:2.0
PRODID:-//Fédération régionale des MJC Bourgogne-Franche-Comté - ECPv6.15.20//NONSGML v1.0//EN
CALSCALE:GREGORIAN
METHOD:PUBLISH
X-ORIGINAL-URL:https://bourgogne-franche-comte.frmjc.org
X-WR-CALDESC:Évènements pour Fédération régionale des MJC Bourgogne-Franche-Comté
REFRESH-INTERVAL;VALUE=DURATION:PT1H
X-Robots-Tag:noindex
X-PUBLISHED-TTL:PT1H
BEGIN:VTIMEZONE
TZID:Europe/Paris
BEGIN:DAYLIGHT
TZOFFSETFROM:+0100
TZOFFSETTO:+0200
TZNAME:CEST
DTSTART:20200329T010000
END:DAYLIGHT
BEGIN:STANDARD
TZOFFSETFROM:+0200
TZOFFSETTO:+0100
TZNAME:CET
DTSTART:20201025T010000
END:STANDARD
BEGIN:DAYLIGHT
TZOFFSETFROM:+0100
TZOFFSETTO:+0200
TZNAME:CEST
DTSTART:20210328T010000
END:DAYLIGHT
BEGIN:STANDARD
TZOFFSETFROM:+0200
TZOFFSETTO:+0100
TZNAME:CET
DTSTART:20211031T010000
END:STANDARD
BEGIN:DAYLIGHT
TZOFFSETFROM:+0100
TZOFFSETTO:+0200
TZNAME:CEST
DTSTART:20220327T010000
END:DAYLIGHT
BEGIN:STANDARD
TZOFFSETFROM:+0200
TZOFFSETTO:+0100
TZNAME:CET
DTSTART:20221030T010000
END:STANDARD
END:VTIMEZONE
BEGIN:VEVENT
DTSTART;TZID=Europe/Paris:20210731T220000
DTEND;TZID=Europe/Paris:20210731T220000
DTSTAMP:20260424T032003
CREATED:20210629T084346Z
LAST-MODIFIED:20210629T084346Z
UID:10319-1627768800-1627768800@bourgogne-franche-comte.frmjc.org
SUMMARY:Une toile sous les étoiles : le prince oublié
DESCRIPTION:Les Tourneurs de Côte-d’Or vous proposent de profiter d’une séance de cinéma en plein air.\n A l’affiche : \nLe Prince oublié de Michel Hazanavicius\,\nAvec Omar Sy\, Bérénice Bejo\, François Damiens\n1h 43min / Aventure\, Comédie\, Fantastique\n\n\nDjibi vit seul avec Sofia\, sa fille de 8 ans. Tous les soirs\, il invente une histoire pour l’endormir. Lorsque Sofia s’endort\, ces récits extraordinaires prennent vie quelque part dans un monde imaginaire peuplé. Trois ans plus tard\, l’entrée de Sofia au collège va marquer la fin de son enfance. Au grand désespoir de son père\, elle n’a plus besoin de ses histoires le soir. Djibi va alors devoir accepter que sa fille grandisse et le prince du monde imaginaire va devoir trouver sa place.
URL:https://bourgogne-franche-comte.frmjc.org/evenement/une-toile-sous-les-etoiles-le-prince-oublie-2/
LOCATION:Terrain de foot – Lamarche-sur-Saône
CATEGORIES:Cinéma
ATTACH;FMTTYPE=image/jpeg:https://bourgogne-franche-comte.frmjc.org/wp-content/uploads/2021/06/le-prince-oublie-1.jpg
END:VEVENT
END:VCALENDAR