BEGIN:VCALENDAR
VERSION:2.0
PRODID:-//Fédération régionale des MJC Bourgogne-Franche-Comté - ECPv6.15.20//NONSGML v1.0//EN
CALSCALE:GREGORIAN
METHOD:PUBLISH
X-ORIGINAL-URL:https://bourgogne-franche-comte.frmjc.org
X-WR-CALDESC:Évènements pour Fédération régionale des MJC Bourgogne-Franche-Comté
REFRESH-INTERVAL;VALUE=DURATION:PT1H
X-Robots-Tag:noindex
X-PUBLISHED-TTL:PT1H
BEGIN:VTIMEZONE
TZID:Europe/Paris
BEGIN:DAYLIGHT
TZOFFSETFROM:+0100
TZOFFSETTO:+0200
TZNAME:CEST
DTSTART:20200329T010000
END:DAYLIGHT
BEGIN:STANDARD
TZOFFSETFROM:+0200
TZOFFSETTO:+0100
TZNAME:CET
DTSTART:20201025T010000
END:STANDARD
BEGIN:DAYLIGHT
TZOFFSETFROM:+0100
TZOFFSETTO:+0200
TZNAME:CEST
DTSTART:20210328T010000
END:DAYLIGHT
BEGIN:STANDARD
TZOFFSETFROM:+0200
TZOFFSETTO:+0100
TZNAME:CET
DTSTART:20211031T010000
END:STANDARD
BEGIN:DAYLIGHT
TZOFFSETFROM:+0100
TZOFFSETTO:+0200
TZNAME:CEST
DTSTART:20220327T010000
END:DAYLIGHT
BEGIN:STANDARD
TZOFFSETFROM:+0200
TZOFFSETTO:+0100
TZNAME:CET
DTSTART:20221030T010000
END:STANDARD
END:VTIMEZONE
BEGIN:VEVENT
DTSTART;TZID=Europe/Paris:20210729T220000
DTEND;TZID=Europe/Paris:20210729T220000
DTSTAMP:20260424T032006
CREATED:20210625T112723Z
LAST-MODIFIED:20210705T133234Z
UID:10277-1627596000-1627596000@bourgogne-franche-comte.frmjc.org
SUMMARY:Une toile sous les étoiles : Le prince oublié
DESCRIPTION:Les Tourneurs de Côte-d’Or et la Maison Maladière vous proposent de profiter d’une séance de cinéma en plein air.\n A l’affiche : \nLe Prince Oublié de Michel Hazanavicius\, avec Omar Sy\, Bérénice Bejo\, François Damiens [1h 43min / Aventure\, Comédie\, Fantastique]\n\n\nSofia\, 8 ans\, vit seule avec son père. Tous les soirs\, il lui invente une histoire pour l’endormir. Ses récits extraordinaires prennent vie dans un monde imaginaire où l’héroïne est toujours la princesse Sofia\, et son père\, le Prince courageux. Mais trois ans plus tard\, quand Sofia rentre au collège\, elle n’a plus besoin de ces histoires. Désarmé\, son père va devoir accepter que sa fille grandisse et s’éloigne de lui. Dans leur Monde imaginaire\, le Prince va alors devoir affronter la plus épique de toutes ses aventures pour conserver une place dans l’histoire.\n\n\nInfo @lamaisonmaladiere\nhttps://lamaisonmaladiere.fr/
URL:https://bourgogne-franche-comte.frmjc.org/evenement/une-toile-sous-les-etoiles-les-vetos/
LOCATION:Espace Junot “Le 75”\, Dijon
CATEGORIES:Cinéma
ATTACH;FMTTYPE=image/jpeg:https://bourgogne-franche-comte.frmjc.org/wp-content/uploads/2021/06/le-prince-oublie-1.jpg
END:VEVENT
END:VCALENDAR