BEGIN:VCALENDAR
VERSION:2.0
PRODID:-//Fédération régionale des MJC Bourgogne-Franche-Comté - ECPv6.15.20//NONSGML v1.0//EN
CALSCALE:GREGORIAN
METHOD:PUBLISH
X-ORIGINAL-URL:https://bourgogne-franche-comte.frmjc.org
X-WR-CALDESC:Évènements pour Fédération régionale des MJC Bourgogne-Franche-Comté
REFRESH-INTERVAL;VALUE=DURATION:PT1H
X-Robots-Tag:noindex
X-PUBLISHED-TTL:PT1H
BEGIN:VTIMEZONE
TZID:Europe/Paris
BEGIN:DAYLIGHT
TZOFFSETFROM:+0100
TZOFFSETTO:+0200
TZNAME:CEST
DTSTART:20200329T010000
END:DAYLIGHT
BEGIN:STANDARD
TZOFFSETFROM:+0200
TZOFFSETTO:+0100
TZNAME:CET
DTSTART:20201025T010000
END:STANDARD
BEGIN:DAYLIGHT
TZOFFSETFROM:+0100
TZOFFSETTO:+0200
TZNAME:CEST
DTSTART:20210328T010000
END:DAYLIGHT
BEGIN:STANDARD
TZOFFSETFROM:+0200
TZOFFSETTO:+0100
TZNAME:CET
DTSTART:20211031T010000
END:STANDARD
BEGIN:DAYLIGHT
TZOFFSETFROM:+0100
TZOFFSETTO:+0200
TZNAME:CEST
DTSTART:20220327T010000
END:DAYLIGHT
BEGIN:STANDARD
TZOFFSETFROM:+0200
TZOFFSETTO:+0100
TZNAME:CET
DTSTART:20221030T010000
END:STANDARD
END:VTIMEZONE
BEGIN:VEVENT
DTSTART;TZID=Europe/Paris:20210727T220000
DTEND;TZID=Europe/Paris:20210727T220000
DTSTAMP:20260424T032003
CREATED:20210624T101559Z
LAST-MODIFIED:20210624T101559Z
UID:10264-1627423200-1627423200@bourgogne-franche-comte.frmjc.org
SUMMARY:Une toile sous les étoiles : Antoinette dans les Cévennes
DESCRIPTION: Les Tourneurs de Côte-d’Or vous proposent de profiter d’une séance de cinéma en plein air.\n A l’affiche : \nAntoinette dans les Cévennes de Caroline Vignal – Avec Laure Calamy\, Benjamin Lavernhe\, Olivia Côte – 1h 37min / Comédie\, Romance\nDes mois qu’Antoinette attend l’été et la promesse d’une semaine en amoureux avec son amant\, Vladimir. Alors quand celui-ci annule leurs vacances pour partir marcher dans les Cévennes avec sa femme et sa fille\, Antoinette ne réfléchit pas longtemps : elle part sur ses traces ! Mais à son arrivée\, point de Vladimir – seulement Patrick\, un âne récalcitrant qui va l’accompagner dans son singulier périple…\n\n tarif fixe : 4.50€\n\n Accès :\nParc du Château\n2 Rue Henry Berger\n21610 Fontaine-Française
URL:https://bourgogne-franche-comte.frmjc.org/evenement/une-toile-sous-les-etoiles-antoinette-dans-les-cevennes-2/
LOCATION:Château de Fontaine-Française
CATEGORIES:Cinéma
ATTACH;FMTTYPE=image/jpeg:https://bourgogne-franche-comte.frmjc.org/wp-content/uploads/2021/06/maxresdefault.jpg
END:VEVENT
END:VCALENDAR