BEGIN:VCALENDAR
VERSION:2.0
PRODID:-//Fédération régionale des MJC Bourgogne-Franche-Comté - ECPv6.15.20//NONSGML v1.0//EN
CALSCALE:GREGORIAN
METHOD:PUBLISH
X-ORIGINAL-URL:https://bourgogne-franche-comte.frmjc.org
X-WR-CALDESC:Évènements pour Fédération régionale des MJC Bourgogne-Franche-Comté
REFRESH-INTERVAL;VALUE=DURATION:PT1H
X-Robots-Tag:noindex
X-PUBLISHED-TTL:PT1H
BEGIN:VTIMEZONE
TZID:Europe/Paris
BEGIN:DAYLIGHT
TZOFFSETFROM:+0100
TZOFFSETTO:+0200
TZNAME:CEST
DTSTART:20200329T010000
END:DAYLIGHT
BEGIN:STANDARD
TZOFFSETFROM:+0200
TZOFFSETTO:+0100
TZNAME:CET
DTSTART:20201025T010000
END:STANDARD
BEGIN:DAYLIGHT
TZOFFSETFROM:+0100
TZOFFSETTO:+0200
TZNAME:CEST
DTSTART:20210328T010000
END:DAYLIGHT
BEGIN:STANDARD
TZOFFSETFROM:+0200
TZOFFSETTO:+0100
TZNAME:CET
DTSTART:20211031T010000
END:STANDARD
BEGIN:DAYLIGHT
TZOFFSETFROM:+0100
TZOFFSETTO:+0200
TZNAME:CEST
DTSTART:20220327T010000
END:DAYLIGHT
BEGIN:STANDARD
TZOFFSETFROM:+0200
TZOFFSETTO:+0100
TZNAME:CET
DTSTART:20221030T010000
END:STANDARD
END:VTIMEZONE
BEGIN:VEVENT
DTSTART;TZID=Europe/Paris:20210721T220000
DTEND;TZID=Europe/Paris:20210721T220000
DTSTAMP:20260424T045028
CREATED:20210624T090604Z
LAST-MODIFIED:20210624T090701Z
UID:10233-1626904800-1626904800@bourgogne-franche-comte.frmjc.org
SUMMARY:Une toile sous les étoiles : Paddington
DESCRIPTION:Les Tourneurs de Côte-d’Or vous proposent de profiter d’une séance de cinéma en plein air.\n A l’affiche : \n\n\nPaddington de Paul King • avec Jeff Bridges\, Hailee Steinfeld\, Josh Brolin • 1h 35min • Comédie\, Famille\, Animation\n\nPaddington raconte l’histoire d’un jeune ours péruvien fraîchement débarqué à Londres\, à la recherche d’un foyer et d’une vie meilleure. Il réalise vite que la ville de ses rêves n’est pas aussi accueillante qu’il croyait. Par chance\, il rencontre la famille Brown et en devient peu à peu un membre à part entière.
URL:https://bourgogne-franche-comte.frmjc.org/evenement/une-toile-sous-les-etoiles-paddington/
LOCATION:Place de la Mairie\, Longvic
CATEGORIES:Cinéma
ATTACH;FMTTYPE=image/jpeg:https://bourgogne-franche-comte.frmjc.org/wp-content/uploads/2021/06/paddington.jpg
END:VEVENT
END:VCALENDAR