BEGIN:VCALENDAR
VERSION:2.0
PRODID:-//Fédération régionale des MJC Bourgogne-Franche-Comté - ECPv6.15.20//NONSGML v1.0//EN
CALSCALE:GREGORIAN
METHOD:PUBLISH
X-WR-CALNAME:Fédération régionale des MJC Bourgogne-Franche-Comté
X-ORIGINAL-URL:https://bourgogne-franche-comte.frmjc.org
X-WR-CALDESC:Évènements pour Fédération régionale des MJC Bourgogne-Franche-Comté
REFRESH-INTERVAL;VALUE=DURATION:PT1H
X-Robots-Tag:noindex
X-PUBLISHED-TTL:PT1H
BEGIN:VTIMEZONE
TZID:Europe/Paris
BEGIN:DAYLIGHT
TZOFFSETFROM:+0100
TZOFFSETTO:+0200
TZNAME:CEST
DTSTART:20200329T010000
END:DAYLIGHT
BEGIN:STANDARD
TZOFFSETFROM:+0200
TZOFFSETTO:+0100
TZNAME:CET
DTSTART:20201025T010000
END:STANDARD
BEGIN:DAYLIGHT
TZOFFSETFROM:+0100
TZOFFSETTO:+0200
TZNAME:CEST
DTSTART:20210328T010000
END:DAYLIGHT
BEGIN:STANDARD
TZOFFSETFROM:+0200
TZOFFSETTO:+0100
TZNAME:CET
DTSTART:20211031T010000
END:STANDARD
BEGIN:DAYLIGHT
TZOFFSETFROM:+0100
TZOFFSETTO:+0200
TZNAME:CEST
DTSTART:20220327T010000
END:DAYLIGHT
BEGIN:STANDARD
TZOFFSETFROM:+0200
TZOFFSETTO:+0100
TZNAME:CET
DTSTART:20221030T010000
END:STANDARD
END:VTIMEZONE
BEGIN:VEVENT
DTSTART;TZID=Europe/Paris:20210719T220000
DTEND;TZID=Europe/Paris:20210719T220000
DTSTAMP:20260424T044928
CREATED:20210623T121853Z
LAST-MODIFIED:20210623T121853Z
UID:10223-1626732000-1626732000@bourgogne-franche-comte.frmjc.org
SUMMARY:Une toile sous les étoiles : Donne-moi des ailes
DESCRIPTION: Les Tourneurs de Côte-d’Or vous proposent de profiter d’une séance de cinéma en plein air.\n\n\n A L’AFFICHE : \nDonne-moi des ailes de Nicolas Vanier • avec Louis Vazquez\, Jean-Paul Rouve\, Mélanie Doutey • 1h 53min • Aventure\, Famille\n\n\nChristian\, scientifique visionnaire\, étudie les oies sauvages. Pour son fils\, ado obnubilé par les jeux vidéos\, l’idée de passer des vacances avec son père en pleine nature est un cauchemar. Pourtant\, père et fils vont se rapprocher autour d’un projet fou : sauver une espèce en voie de disparition. \n  \n Accès :\nComplexe sportif des Saugeraies\n71000 Mâcon
URL:https://bourgogne-franche-comte.frmjc.org/evenement/une-toile-sous-les-etoiles-donne-moi-des-ailes-3/
LOCATION:Complexe sportif des Saugeraies\, Mâcon\, 71000
CATEGORIES:Cinéma
ATTACH;FMTTYPE=image/jpeg:https://bourgogne-franche-comte.frmjc.org/wp-content/uploads/2021/06/donne-moi-des-ailes-1-1.jpg
END:VEVENT
END:VCALENDAR