BEGIN:VCALENDAR
VERSION:2.0
PRODID:-//Fédération régionale des MJC Bourgogne-Franche-Comté - ECPv6.15.20//NONSGML v1.0//EN
CALSCALE:GREGORIAN
METHOD:PUBLISH
X-ORIGINAL-URL:https://bourgogne-franche-comte.frmjc.org
X-WR-CALDESC:Évènements pour Fédération régionale des MJC Bourgogne-Franche-Comté
REFRESH-INTERVAL;VALUE=DURATION:PT1H
X-Robots-Tag:noindex
X-PUBLISHED-TTL:PT1H
BEGIN:VTIMEZONE
TZID:Europe/Paris
BEGIN:DAYLIGHT
TZOFFSETFROM:+0100
TZOFFSETTO:+0200
TZNAME:CEST
DTSTART:20200329T010000
END:DAYLIGHT
BEGIN:STANDARD
TZOFFSETFROM:+0200
TZOFFSETTO:+0100
TZNAME:CET
DTSTART:20201025T010000
END:STANDARD
BEGIN:DAYLIGHT
TZOFFSETFROM:+0100
TZOFFSETTO:+0200
TZNAME:CEST
DTSTART:20210328T010000
END:DAYLIGHT
BEGIN:STANDARD
TZOFFSETFROM:+0200
TZOFFSETTO:+0100
TZNAME:CET
DTSTART:20211031T010000
END:STANDARD
BEGIN:DAYLIGHT
TZOFFSETFROM:+0100
TZOFFSETTO:+0200
TZNAME:CEST
DTSTART:20220327T010000
END:DAYLIGHT
BEGIN:STANDARD
TZOFFSETFROM:+0200
TZOFFSETTO:+0100
TZNAME:CET
DTSTART:20221030T010000
END:STANDARD
END:VTIMEZONE
BEGIN:VEVENT
DTSTART;TZID=Europe/Paris:20210715T220000
DTEND;TZID=Europe/Paris:20210715T220000
DTSTAMP:20260424T045034
CREATED:20210623T115104Z
LAST-MODIFIED:20210623T115104Z
UID:10202-1626386400-1626386400@bourgogne-franche-comte.frmjc.org
SUMMARY:Une toile sous les étoiles : Poly
DESCRIPTION:Les Tourneurs de Côte-d’Or vous proposent de profiter d’une séance de cinéma en plein air.\n\n\n A L’AFFICHE : \nPoly\, de Nicolas Vanier • Avec Elisa de Lambert\, François Cluzet\, Julie Gayet • 1h 42min • Aventure\, Famille\n\nCécile\, 10 ans\, déménage dans le sud de la France avec sa mère\, Louise. L’intégration avec les autres enfants du village n’est pas facile. Lorsqu’un cirque de passage s’installe à côté\, Cécile découvre que Poly le poney vedette est maltraité .Elle décide de le protéger et d’organiser son évasion ! Poursuivis par Brancalou\, l’inquiétant directeur du cirque\, et le mystérieux Victor\, Cécile et Poly s’embarquent dans une cavale pleine de rebondissements\, un véritable voyage initiatique et une incroyable histoire d’amitié.\n\n📍 Accès :\nParking du Chevet de la basilique St-Andoche\n21210 Saulieu
URL:https://bourgogne-franche-comte.frmjc.org/evenement/une-toile-sous-les-etoiles-poly/
LOCATION:Parking du chevet de la basilique St-Andoche\, Saulieu
CATEGORIES:Cinéma
ATTACH;FMTTYPE=image/jpeg:https://bourgogne-franche-comte.frmjc.org/wp-content/uploads/2021/06/poly.jpg
END:VEVENT
END:VCALENDAR