BEGIN:VCALENDAR
VERSION:2.0
PRODID:-//Fédération régionale des MJC Bourgogne-Franche-Comté - ECPv6.15.20//NONSGML v1.0//EN
CALSCALE:GREGORIAN
METHOD:PUBLISH
X-WR-CALNAME:Fédération régionale des MJC Bourgogne-Franche-Comté
X-ORIGINAL-URL:https://bourgogne-franche-comte.frmjc.org
X-WR-CALDESC:Évènements pour Fédération régionale des MJC Bourgogne-Franche-Comté
REFRESH-INTERVAL;VALUE=DURATION:PT1H
X-Robots-Tag:noindex
X-PUBLISHED-TTL:PT1H
BEGIN:VTIMEZONE
TZID:Europe/Paris
BEGIN:DAYLIGHT
TZOFFSETFROM:+0100
TZOFFSETTO:+0200
TZNAME:CEST
DTSTART:20200329T010000
END:DAYLIGHT
BEGIN:STANDARD
TZOFFSETFROM:+0200
TZOFFSETTO:+0100
TZNAME:CET
DTSTART:20201025T010000
END:STANDARD
BEGIN:DAYLIGHT
TZOFFSETFROM:+0100
TZOFFSETTO:+0200
TZNAME:CEST
DTSTART:20210328T010000
END:DAYLIGHT
BEGIN:STANDARD
TZOFFSETFROM:+0200
TZOFFSETTO:+0100
TZNAME:CET
DTSTART:20211031T010000
END:STANDARD
BEGIN:DAYLIGHT
TZOFFSETFROM:+0100
TZOFFSETTO:+0200
TZNAME:CEST
DTSTART:20220327T010000
END:DAYLIGHT
BEGIN:STANDARD
TZOFFSETFROM:+0200
TZOFFSETTO:+0100
TZNAME:CET
DTSTART:20221030T010000
END:STANDARD
END:VTIMEZONE
BEGIN:VEVENT
DTSTART;TZID=Europe/Paris:20210713T220000
DTEND;TZID=Europe/Paris:20210713T220000
DTSTAMP:20260424T044927
CREATED:20210623T114412Z
LAST-MODIFIED:20210623T114412Z
UID:10197-1626213600-1626213600@bourgogne-franche-comte.frmjc.org
SUMMARY:Une toile sous les étoiles : Le sens de la fête
DESCRIPTION:Les Tourneurs de Côte-d’Or vous proposent de profiter d’une séance de cinéma en plein air.\n\n\n A L’AFFICHE : \nLe sens de la fête de Eric Toledano\, Olivier Nakache • Avec Jean-Pierre Bacri\, Gilles Lellouche\, Eye Haïdara • 1h 56min • Comédie\n\nMax est traiteur depuis trente ans. Des fêtes il en a organisé des centaines\, il est même un peu au bout du parcours. Aujourd’hui c’est un sublime mariage dans un château du 17ème siècle\, un de plus\, celui de Pierre et Héléna. Comme d’habitude\, Max a tout coordonné : il a recruté sa brigade de serveurs\, de cuisiniers\, de plongeurs\, il a conseillé un photographe\, réservé l’orchestre\, arrangé la décoration florale\, bref tous les ingrédients sont réunis pour que cette fête soit réussie… Mais la loi des séries va venir bouleverser un planning sur le fil où chaque moment de bonheur et d’émotion risque de se transformer en désastre ou en chaos. Des préparatifs jusqu’à l’aube\, nous allons vivre les coulisses de cette soirée à travers le regard de ceux qui travaillent et qui devront compter sur leur unique qualité commune : Le sens de la fête.
URL:https://bourgogne-franche-comte.frmjc.org/evenement/une-toile-sous-les-etoiles-le-sens-de-la-fete/
LOCATION:Verger conservatoire\, Saint-Nicolas-Lès-Cîteaux
CATEGORIES:Cinéma
ATTACH;FMTTYPE=image/jpeg:https://bourgogne-franche-comte.frmjc.org/wp-content/uploads/2021/06/le-sens-de-la-fete.jpg
END:VEVENT
END:VCALENDAR