BEGIN:VCALENDAR
VERSION:2.0
PRODID:-//Fédération régionale des MJC Bourgogne-Franche-Comté - ECPv6.15.20//NONSGML v1.0//EN
CALSCALE:GREGORIAN
METHOD:PUBLISH
X-ORIGINAL-URL:https://bourgogne-franche-comte.frmjc.org
X-WR-CALDESC:Évènements pour Fédération régionale des MJC Bourgogne-Franche-Comté
REFRESH-INTERVAL;VALUE=DURATION:PT1H
X-Robots-Tag:noindex
X-PUBLISHED-TTL:PT1H
BEGIN:VTIMEZONE
TZID:Europe/Paris
BEGIN:DAYLIGHT
TZOFFSETFROM:+0100
TZOFFSETTO:+0200
TZNAME:CEST
DTSTART:20200329T010000
END:DAYLIGHT
BEGIN:STANDARD
TZOFFSETFROM:+0200
TZOFFSETTO:+0100
TZNAME:CET
DTSTART:20201025T010000
END:STANDARD
BEGIN:DAYLIGHT
TZOFFSETFROM:+0100
TZOFFSETTO:+0200
TZNAME:CEST
DTSTART:20210328T010000
END:DAYLIGHT
BEGIN:STANDARD
TZOFFSETFROM:+0200
TZOFFSETTO:+0100
TZNAME:CET
DTSTART:20211031T010000
END:STANDARD
BEGIN:DAYLIGHT
TZOFFSETFROM:+0100
TZOFFSETTO:+0200
TZNAME:CEST
DTSTART:20220327T010000
END:DAYLIGHT
BEGIN:STANDARD
TZOFFSETFROM:+0200
TZOFFSETTO:+0100
TZNAME:CET
DTSTART:20221030T010000
END:STANDARD
END:VTIMEZONE
BEGIN:VEVENT
DTSTART;TZID=Europe/Paris:20210712T220000
DTEND;TZID=Europe/Paris:20210712T220000
DTSTAMP:20260424T045025
CREATED:20210622T120517Z
LAST-MODIFIED:20210622T120614Z
UID:10193-1626127200-1626127200@bourgogne-franche-comte.frmjc.org
SUMMARY:Une toile sous les étoiles : le grand bain
DESCRIPTION: Les Tourneurs de Côte-d’Or vous proposent de profiter d’une séance de cinéma en plein air.\n\n\n A L’AFFICHE : \nLe grand bain de Gilles Lellouche • Avec Mathieu Amalric\, Guillaume Canet\, Benoît Poelvoorde • 2h 02min • Drame\, Comédie\n\nC’est dans les couloirs de leur piscine municipale que Bertrand\, Marcus\, Simon\, Laurent\, Thierry et les autres s’entraînent sous l’autorité toute relative de Delphine\, ancienne gloire des bassins. Ensemble\, ils se sentent libres et utiles. Ils vont mettre toute leur énergie dans une discipline jusque-là propriété de la gent féminine : la natation synchronisée. Alors\, oui c’est une idée plutôt bizarre\, mais ce défi leur permettra de trouver un sens à leur vie..
URL:https://bourgogne-franche-comte.frmjc.org/evenement/une-toile-sous-les-etoiles-le-grand-bain/
LOCATION:Vallon des Rigolettes\, Mâcon
CATEGORIES:Cinéma
ATTACH;FMTTYPE=image/jpeg:https://bourgogne-franche-comte.frmjc.org/wp-content/uploads/2021/06/203966234_222751979678384_9171626505349116014_n.jpg
END:VEVENT
END:VCALENDAR